BEGIN:VCALENDAR
VERSION:2.0
PRODID:-//Vkind - ECPv6.15.14//NONSGML v1.0//EN
CALSCALE:GREGORIAN
METHOD:PUBLISH
X-WR-CALNAME:Vkind
X-ORIGINAL-URL:https://www.vkind.com
X-WR-CALDESC:Events for Vkind
REFRESH-INTERVAL;VALUE=DURATION:PT1H
X-Robots-Tag:noindex
X-PUBLISHED-TTL:PT1H
BEGIN:VTIMEZONE
TZID:-05:00
END:VTIMEZONE
BEGIN:VEVENT
DTSTART;TZID=-05:00:20250212T180000
DTEND;TZID=-05:00:20250212T200000
DTSTAMP:20260423T000130
CREATED:20250126T090035Z
LAST-MODIFIED:20250212T130544Z
UID:10007873-1739383200-1739390400@www.vkind.com
SUMMARY:Moroccan Vegetarian/Vegan Dinner at Zerza in Essex Market
DESCRIPTION:Recently I had the pleasure of a sightseeing and culinary adventure in **Morocco**’s ancient and modern cities at the edge of the Sahara desert. **I’d be delighted if you could join the NYC Vegetarian and Vegan group to enjoy the distinctly flavorful Moroccan food at Zerza restaurant.** \n**This will also be a trip to explore the vegetarian & vegan options in the beautiful Essex Market building**\, such as **Mille Nonne\, Chomps-Élysées\, and Puebla.** And also\, the exquisite all-vegan **Rebel Cheese (formerly Riverdel)**. Likely\, I am thinking\, most of us will order from Zerza. But please feel free to order from multiple vendors and whichever vendors you please. \n**Food**: At Zerza\, you can try their variety of starters\, such as **Zaalouk\, Falafel Salad\, Roasted Cauliflower**\, or indulge in a traditional entree such as **Couscous** and **Falafel Sandwich**. The most notable dish is the **Moroccan Tagine** with hearty vegetables in an aromatic savory sauce! Tagine is not only the name of the food but also the beautiful cookware which is designed to minimize water usage. **PLEASE NOTE: Zerza is NOT all-vegetarian\, so please confirm that your food matches your diet at the time of ordering.** \nService: The staff are very accommodating to vegan/vegetarian dietary preferences. Food is served quickly. \n**Everyone pays for themselves; cash & major credit cards accepted.** \n**FOR OUR NEW MEMBERS** – We are an incredibly friendly\, FUN\, and welcoming group! Join us for a stellar evening of lively conversations and great food/drink with fellow vegetarians and vegans! \n**Train information:** \n* Take **F M J Z** train to the **Delancey St.-Essex St.** station. **Essex Market is right on this corner\, above the train.**\n* Another option is to take **B D** train to **Grand St.** station\, then walk a few blocks east. \n**Website with menu: [https://www.zerzany.com](https://www.zerzany.com)** \n**WHERE TO MEET:** We will be meeting at the Zerza booth on the **Ground Floor** of Essex Market at **6:00 PM**. \n**WHERE TO EAT:** After picking up our food\, our group will be going upstairs to Essex Market’s **2nd Floor**\, where there is a large seating area. \nWe look forward to seeing you on Wednesday\, Feb. 12 at Zerza\, at Essex Market! \nMichael
URL:https://www.vkind.com/vegan-events/moroccan-vegetarian-vegan-dinner-at-zerza-in-essex-market-2/
LOCATION:Zerza Moroccan Mediterranean\, 88 Essex St\, New York\, NY\, 10002\, United States
ATTACH;FMTTYPE=image/jpeg:https://www.vkind.com/wp-content/uploads/2025/01/1024x576-cGTbfz.tmp_.jpg
GEO:40.71794;-73.988235
X-APPLE-STRUCTURED-LOCATION;VALUE=URI;X-ADDRESS=Zerza Moroccan Mediterranean 88 Essex St New York NY 10002 United States;X-APPLE-RADIUS=500;X-TITLE=88 Essex St:geo:-73.988235,40.71794
END:VEVENT
BEGIN:VEVENT
DTSTART;TZID=-05:00:20240216T183000
DTEND;TZID=-05:00:20240216T200000
DTSTAMP:20260423T000130
CREATED:20240126T231546Z
LAST-MODIFIED:20240216T055045Z
UID:10007635-1708108200-1708113600@www.vkind.com
SUMMARY:Moroccan Vegetarian/Vegan Dinner at Zerza in Essex Market
DESCRIPTION:Recently I had the pleasure of a sightseeing and culinary adventure in **Morocco**’s ancient and modern cities at the edge of the Sahara desert. **I’d be delighted if you could join the NYC Vegetarian and Vegan group to enjoy the distinctly flavorful Moroccan food at Zerza restaurant.** \n**This will also be a trip to explore the vegetarian & vegan options in the beautiful Essex Market building**\, such as **Mille Nonne**\, **Eat Gai**\, and **Puebla**. And also\, the exquisite all-vegan **Riverdel Cheese**. Likely\, I am thinking\, most of us will order from Zerza. But please feel free to order from multiple vendors and whichever vendors you please. \n**Food**: At Zerza\, you can try their variety of starters\, such as **Zaalouk\, Falafel Salad\, Roasted Cauliflower**\, or indulge in a traditional entree such as **Couscous** and **Falafel Sandwich**. The most notable dish is the **Moroccan Tagine** with hearty vegetables in an aromatic savory sauce! Tagine is not only the name of the food but also the beautiful cookware which is designed to minimize water usage. **PLEASE NOTE: Zerza is NOT all-vegetarian\, so please confirm that your food matches your diet at the time of ordering.** \nService: The staff are very accommodating to vegan/vegetarian dietary preferences. Food is served quickly. \n**Everyone pays for themselves; cash & major credit cards accepted.** \n**FOR OUR NEW MEMBERS** – We are an incredibly friendly\, FUN\, and welcoming group! Join us for a stellar evening of lively conversations and great food/drink with fellow vegetarians and vegans! \n**Train information:** \n* Take **F M J Z** train to the **Delancey St.-Essex St.** station. **Essex Market is right on this corner\, above the train.**\n* Another option is to take **B D** train to **Grand St.** station\, then walk a few blocks east. \n**Website with menu: [https://www.zerzany.com](https://www.zerzany.com)** \n**WHERE TO MEET:** We will be meeting at the Zerza booth on the **Ground Floor** of Essex Market at **6:30pm**. \n**WHERE TO EAT:** After picking up our food\, our group will be going upstairs to Essex Market’s **2nd Floor**\, where there is a large seating area. \nWe look forward to seeing you on Friday\, Feb. 16 at Zerza\, at Essex Market! \nMichael
URL:https://www.vkind.com/vegan-events/moroccan-vegetarian-vegan-dinner-at-zerza-in-essex-market/
LOCATION:Zerza Moroccan Mediterranean\, 88 Essex St\, New York\, NY\, 10002\, United States
ATTACH;FMTTYPE=image/jpeg:https://www.vkind.com/wp-content/uploads/2024/01/1024x576-lMsRr8.tmp_.jpg
GEO:40.71794;-73.988235
X-APPLE-STRUCTURED-LOCATION;VALUE=URI;X-ADDRESS=Zerza Moroccan Mediterranean 88 Essex St New York NY 10002 United States;X-APPLE-RADIUS=500;X-TITLE=88 Essex St:geo:-73.988235,40.71794
END:VEVENT
END:VCALENDAR