BEGIN:VCALENDAR
VERSION:2.0
PRODID:-//Vkind - ECPv6.15.14//NONSGML v1.0//EN
CALSCALE:GREGORIAN
METHOD:PUBLISH
X-ORIGINAL-URL:https://www.vkind.com
X-WR-CALDESC:Events for Vkind
REFRESH-INTERVAL;VALUE=DURATION:PT1H
X-Robots-Tag:noindex
X-PUBLISHED-TTL:PT1H
BEGIN:VTIMEZONE
TZID:-04:00
END:VTIMEZONE
BEGIN:VEVENT
DTSTART;TZID=-04:00:20230325T140000
DTEND;TZID=-04:00:20230325T160000
DTSTAMP:20260424T065928
CREATED:20230223T112104Z
LAST-MODIFIED:20230325T160600Z
UID:10000450-1679752800-1679760000@www.vkind.com
SUMMARY:Party at Cinnaholic
DESCRIPTION:VSDC board member\, Gary\, is turning 50! To celebrate his birthday\, we will meet at Cinnaholic to enjoy $5 Gary Berry Rolls. The Gary Berry Roll is customized by Gary\, and only offered at this price for his birthday. \nCinnaholic is a 100% vegan business. They specialize in cinnamon rolls that can be customized or kept traditional. They also have brownies\, cookies\, and cookie dough balls. You are more rhan welcome to enjoy anything from their menu if you want to opt for something other than the feetured roll. \nCinnaholic has limited space inside. We ask that you order your roll indoors\, and take it outside to eat and socialize. \nAs always at our events we ask that you only eat vegan food around us. If you purchase a meal from another business or bring food\, it must be vegan. \nBy attending this event we expect you will follow the policies outlined here https://vsdc.org/policies \nVSDC (http://www.vsdc.org) is a clear and consistent voice for improving the lives of all beings through education on the benefits of a vegan diet & lifestyle. Sharing food is the bond that brings families together; so it is with VSDC. From simply “breaking bread” to experiencing delicious and nutritious vegan foods from around the world\, we make your journey easier\, enjoyable & meaningful. \n**VSDC. Creating communities. For your health\, the animals\, and the planet.**
URL:https://www.vkind.com/vegan-events/president-garys-birthday-party-at-cinnaholic/
LOCATION:Yogiberry\, 230 Crown Park Avenue\, Gaithersburg\, MD\, us
ATTACH;FMTTYPE=image/jpeg:https://www.vkind.com/wp-content/uploads/2023/02/1024x576-vFWq5V.tmp_.jpg
GEO:39.11414;-77.20527
X-APPLE-STRUCTURED-LOCATION;VALUE=URI;X-ADDRESS=Yogiberry 230 Crown Park Avenue Gaithersburg MD us;X-APPLE-RADIUS=500;X-TITLE=230 Crown Park Avenue:geo:-77.20527,39.11414
END:VEVENT
END:VCALENDAR