BEGIN:VCALENDAR
VERSION:2.0
PRODID:-//Vkind - ECPv6.15.14//NONSGML v1.0//EN
CALSCALE:GREGORIAN
METHOD:PUBLISH
X-WR-CALNAME:Vkind
X-ORIGINAL-URL:https://www.vkind.com
X-WR-CALDESC:Events for Vkind
REFRESH-INTERVAL;VALUE=DURATION:PT1H
X-Robots-Tag:noindex
X-PUBLISHED-TTL:PT1H
BEGIN:VTIMEZONE
TZID:America/New_York
BEGIN:DAYLIGHT
TZOFFSETFROM:-0500
TZOFFSETTO:-0400
TZNAME:EDT
DTSTART:20220313T070000
END:DAYLIGHT
BEGIN:STANDARD
TZOFFSETFROM:-0400
TZOFFSETTO:-0500
TZNAME:EST
DTSTART:20221106T060000
END:STANDARD
BEGIN:DAYLIGHT
TZOFFSETFROM:-0500
TZOFFSETTO:-0400
TZNAME:EDT
DTSTART:20230312T070000
END:DAYLIGHT
BEGIN:STANDARD
TZOFFSETFROM:-0400
TZOFFSETTO:-0500
TZNAME:EST
DTSTART:20231105T060000
END:STANDARD
BEGIN:DAYLIGHT
TZOFFSETFROM:-0500
TZOFFSETTO:-0400
TZNAME:EDT
DTSTART:20240310T070000
END:DAYLIGHT
BEGIN:STANDARD
TZOFFSETFROM:-0400
TZOFFSETTO:-0500
TZNAME:EST
DTSTART:20241103T060000
END:STANDARD
END:VTIMEZONE
BEGIN:VEVENT
DTSTART;TZID=America/New_York:20230829T160000
DTEND;TZID=America/New_York:20230829T220000
DTSTAMP:20260424T014420
CREATED:20230725T151229Z
LAST-MODIFIED:20230725T151355Z
UID:10000587-1693324800-1693346400@www.vkind.com
SUMMARY:Central Park Vegan Night Market
DESCRIPTION:Discover delicious food and drink options from local artisans\, sample new vegan products\, and connect with like-minded individuals who share a passion for sustainability and ethical living. Central Park Vegan Night Market is for both seasoned vegans and those just curious about the lifestyle.
URL:https://www.vkind.com/vegan-events/central-park-vegan-night-market/2023-08-29/
LOCATION:Wollman Rink Central Park\, E 63rd Street & Sixth Avenue\, New York\, NY\, 10065\, United States
ATTACH;FMTTYPE=image/jpeg:https://www.vkind.com/wp-content/uploads/2023/07/Central-Park-Vegan-Night-Market.jpg
GEO:40.6364582;-74.0157509
X-APPLE-STRUCTURED-LOCATION;VALUE=URI;X-ADDRESS=Wollman Rink Central Park E 63rd Street & Sixth Avenue New York NY 10065 United States;X-APPLE-RADIUS=500;X-TITLE=E 63rd Street & Sixth Avenue:geo:-74.0157509,40.6364582
END:VEVENT
BEGIN:VEVENT
DTSTART;TZID=America/New_York:20230822T160000
DTEND;TZID=America/New_York:20230822T220000
DTSTAMP:20260424T014420
CREATED:20230725T151229Z
LAST-MODIFIED:20230725T151355Z
UID:10000589-1692720000-1692741600@www.vkind.com
SUMMARY:Central Park Vegan Night Market
DESCRIPTION:Discover delicious food and drink options from local artisans\, sample new vegan products\, and connect with like-minded individuals who share a passion for sustainability and ethical living. Central Park Vegan Night Market is for both seasoned vegans and those just curious about the lifestyle.
URL:https://www.vkind.com/vegan-events/central-park-vegan-night-market/2023-08-22/
LOCATION:Wollman Rink Central Park\, E 63rd Street & Sixth Avenue\, New York\, NY\, 10065\, United States
ATTACH;FMTTYPE=image/jpeg:https://www.vkind.com/wp-content/uploads/2023/07/Central-Park-Vegan-Night-Market.jpg
GEO:40.6364582;-74.0157509
X-APPLE-STRUCTURED-LOCATION;VALUE=URI;X-ADDRESS=Wollman Rink Central Park E 63rd Street & Sixth Avenue New York NY 10065 United States;X-APPLE-RADIUS=500;X-TITLE=E 63rd Street & Sixth Avenue:geo:-74.0157509,40.6364582
END:VEVENT
BEGIN:VEVENT
DTSTART;TZID=America/New_York:20230815T160000
DTEND;TZID=America/New_York:20230815T220000
DTSTAMP:20260424T014420
CREATED:20230725T151229Z
LAST-MODIFIED:20230725T151355Z
UID:10000588-1692115200-1692136800@www.vkind.com
SUMMARY:Central Park Vegan Night Market
DESCRIPTION:Discover delicious food and drink options from local artisans\, sample new vegan products\, and connect with like-minded individuals who share a passion for sustainability and ethical living. Central Park Vegan Night Market is for both seasoned vegans and those just curious about the lifestyle.
URL:https://www.vkind.com/vegan-events/central-park-vegan-night-market/2023-08-15/
LOCATION:Wollman Rink Central Park\, E 63rd Street & Sixth Avenue\, New York\, NY\, 10065\, United States
ATTACH;FMTTYPE=image/jpeg:https://www.vkind.com/wp-content/uploads/2023/07/Central-Park-Vegan-Night-Market.jpg
GEO:40.6364582;-74.0157509
X-APPLE-STRUCTURED-LOCATION;VALUE=URI;X-ADDRESS=Wollman Rink Central Park E 63rd Street & Sixth Avenue New York NY 10065 United States;X-APPLE-RADIUS=500;X-TITLE=E 63rd Street & Sixth Avenue:geo:-74.0157509,40.6364582
END:VEVENT
END:VCALENDAR