BEGIN:VCALENDAR
VERSION:2.0
PRODID:-//Vkind - ECPv6.15.14//NONSGML v1.0//EN
CALSCALE:GREGORIAN
METHOD:PUBLISH
X-ORIGINAL-URL:https://www.vkind.com
X-WR-CALDESC:Events for Vkind
REFRESH-INTERVAL;VALUE=DURATION:PT1H
X-Robots-Tag:noindex
X-PUBLISHED-TTL:PT1H
BEGIN:VTIMEZONE
TZID:America/New_York
BEGIN:DAYLIGHT
TZOFFSETFROM:-0500
TZOFFSETTO:-0400
TZNAME:EDT
DTSTART:20270314T070000
END:DAYLIGHT
BEGIN:STANDARD
TZOFFSETFROM:-0400
TZOFFSETTO:-0500
TZNAME:EST
DTSTART:20271107T060000
END:STANDARD
BEGIN:DAYLIGHT
TZOFFSETFROM:-0500
TZOFFSETTO:-0400
TZNAME:EDT
DTSTART:20280312T070000
END:DAYLIGHT
BEGIN:STANDARD
TZOFFSETFROM:-0400
TZOFFSETTO:-0500
TZNAME:EST
DTSTART:20281105T060000
END:STANDARD
BEGIN:DAYLIGHT
TZOFFSETFROM:-0500
TZOFFSETTO:-0400
TZNAME:EDT
DTSTART:20290311T070000
END:DAYLIGHT
BEGIN:STANDARD
TZOFFSETFROM:-0400
TZOFFSETTO:-0500
TZNAME:EST
DTSTART:20291104T060000
END:STANDARD
END:VTIMEZONE
BEGIN:VEVENT
DTSTART;TZID=America/New_York:20280229T160000
DTEND;TZID=America/New_York:20280229T220000
DTSTAMP:20260422T181639
CREATED:20230725T151229Z
LAST-MODIFIED:20230725T151355Z
UID:10000824-1835452800-1835474400@www.vkind.com
SUMMARY:Central Park Vegan Night Market
DESCRIPTION:Discover delicious food and drink options from local artisans\, sample new vegan products\, and connect with like-minded individuals who share a passion for sustainability and ethical living. Central Park Vegan Night Market is for both seasoned vegans and those just curious about the lifestyle.
URL:https://www.vkind.com/vegan-events/central-park-vegan-night-market/2028-02-29/
LOCATION:Wollman Rink Central Park\, E 63rd Street & Sixth Avenue\, New York\, NY\, 10065\, United States
ATTACH;FMTTYPE=image/jpeg:https://www.vkind.com/wp-content/uploads/2023/07/Central-Park-Vegan-Night-Market.jpg
GEO:40.6364582;-74.0157509
X-APPLE-STRUCTURED-LOCATION;VALUE=URI;X-ADDRESS=Wollman Rink Central Park E 63rd Street & Sixth Avenue New York NY 10065 United States;X-APPLE-RADIUS=500;X-TITLE=E 63rd Street & Sixth Avenue:geo:-74.0157509,40.6364582
END:VEVENT
BEGIN:VEVENT
DTSTART;TZID=America/New_York:20280307T160000
DTEND;TZID=America/New_York:20280307T220000
DTSTAMP:20260422T181639
CREATED:20230725T151229Z
LAST-MODIFIED:20230725T151355Z
UID:10000825-1836057600-1836079200@www.vkind.com
SUMMARY:Central Park Vegan Night Market
DESCRIPTION:Discover delicious food and drink options from local artisans\, sample new vegan products\, and connect with like-minded individuals who share a passion for sustainability and ethical living. Central Park Vegan Night Market is for both seasoned vegans and those just curious about the lifestyle.
URL:https://www.vkind.com/vegan-events/central-park-vegan-night-market/2028-03-07/
LOCATION:Wollman Rink Central Park\, E 63rd Street & Sixth Avenue\, New York\, NY\, 10065\, United States
ATTACH;FMTTYPE=image/jpeg:https://www.vkind.com/wp-content/uploads/2023/07/Central-Park-Vegan-Night-Market.jpg
GEO:40.6364582;-74.0157509
X-APPLE-STRUCTURED-LOCATION;VALUE=URI;X-ADDRESS=Wollman Rink Central Park E 63rd Street & Sixth Avenue New York NY 10065 United States;X-APPLE-RADIUS=500;X-TITLE=E 63rd Street & Sixth Avenue:geo:-74.0157509,40.6364582
END:VEVENT
BEGIN:VEVENT
DTSTART;TZID=America/New_York:20280314T160000
DTEND;TZID=America/New_York:20280314T220000
DTSTAMP:20260422T181639
CREATED:20230725T151229Z
LAST-MODIFIED:20230725T151355Z
UID:10000826-1836662400-1836684000@www.vkind.com
SUMMARY:Central Park Vegan Night Market
DESCRIPTION:Discover delicious food and drink options from local artisans\, sample new vegan products\, and connect with like-minded individuals who share a passion for sustainability and ethical living. Central Park Vegan Night Market is for both seasoned vegans and those just curious about the lifestyle.
URL:https://www.vkind.com/vegan-events/central-park-vegan-night-market/2028-03-14/
LOCATION:Wollman Rink Central Park\, E 63rd Street & Sixth Avenue\, New York\, NY\, 10065\, United States
ATTACH;FMTTYPE=image/jpeg:https://www.vkind.com/wp-content/uploads/2023/07/Central-Park-Vegan-Night-Market.jpg
GEO:40.6364582;-74.0157509
X-APPLE-STRUCTURED-LOCATION;VALUE=URI;X-ADDRESS=Wollman Rink Central Park E 63rd Street & Sixth Avenue New York NY 10065 United States;X-APPLE-RADIUS=500;X-TITLE=E 63rd Street & Sixth Avenue:geo:-74.0157509,40.6364582
END:VEVENT
BEGIN:VEVENT
DTSTART;TZID=America/New_York:20280321T160000
DTEND;TZID=America/New_York:20280321T220000
DTSTAMP:20260422T181639
CREATED:20230725T151229Z
LAST-MODIFIED:20230725T151355Z
UID:10000827-1837267200-1837288800@www.vkind.com
SUMMARY:Central Park Vegan Night Market
DESCRIPTION:Discover delicious food and drink options from local artisans\, sample new vegan products\, and connect with like-minded individuals who share a passion for sustainability and ethical living. Central Park Vegan Night Market is for both seasoned vegans and those just curious about the lifestyle.
URL:https://www.vkind.com/vegan-events/central-park-vegan-night-market/2028-03-21/
LOCATION:Wollman Rink Central Park\, E 63rd Street & Sixth Avenue\, New York\, NY\, 10065\, United States
ATTACH;FMTTYPE=image/jpeg:https://www.vkind.com/wp-content/uploads/2023/07/Central-Park-Vegan-Night-Market.jpg
GEO:40.6364582;-74.0157509
X-APPLE-STRUCTURED-LOCATION;VALUE=URI;X-ADDRESS=Wollman Rink Central Park E 63rd Street & Sixth Avenue New York NY 10065 United States;X-APPLE-RADIUS=500;X-TITLE=E 63rd Street & Sixth Avenue:geo:-74.0157509,40.6364582
END:VEVENT
BEGIN:VEVENT
DTSTART;TZID=America/New_York:20280328T160000
DTEND;TZID=America/New_York:20280328T220000
DTSTAMP:20260422T181639
CREATED:20230725T151229Z
LAST-MODIFIED:20230725T151355Z
UID:10000828-1837872000-1837893600@www.vkind.com
SUMMARY:Central Park Vegan Night Market
DESCRIPTION:Discover delicious food and drink options from local artisans\, sample new vegan products\, and connect with like-minded individuals who share a passion for sustainability and ethical living. Central Park Vegan Night Market is for both seasoned vegans and those just curious about the lifestyle.
URL:https://www.vkind.com/vegan-events/central-park-vegan-night-market/2028-03-28/
LOCATION:Wollman Rink Central Park\, E 63rd Street & Sixth Avenue\, New York\, NY\, 10065\, United States
ATTACH;FMTTYPE=image/jpeg:https://www.vkind.com/wp-content/uploads/2023/07/Central-Park-Vegan-Night-Market.jpg
GEO:40.6364582;-74.0157509
X-APPLE-STRUCTURED-LOCATION;VALUE=URI;X-ADDRESS=Wollman Rink Central Park E 63rd Street & Sixth Avenue New York NY 10065 United States;X-APPLE-RADIUS=500;X-TITLE=E 63rd Street & Sixth Avenue:geo:-74.0157509,40.6364582
END:VEVENT
BEGIN:VEVENT
DTSTART;TZID=America/New_York:20280404T160000
DTEND;TZID=America/New_York:20280404T220000
DTSTAMP:20260422T181639
CREATED:20230725T151229Z
LAST-MODIFIED:20230725T151355Z
UID:10000829-1838476800-1838498400@www.vkind.com
SUMMARY:Central Park Vegan Night Market
DESCRIPTION:Discover delicious food and drink options from local artisans\, sample new vegan products\, and connect with like-minded individuals who share a passion for sustainability and ethical living. Central Park Vegan Night Market is for both seasoned vegans and those just curious about the lifestyle.
URL:https://www.vkind.com/vegan-events/central-park-vegan-night-market/2028-04-04/
LOCATION:Wollman Rink Central Park\, E 63rd Street & Sixth Avenue\, New York\, NY\, 10065\, United States
ATTACH;FMTTYPE=image/jpeg:https://www.vkind.com/wp-content/uploads/2023/07/Central-Park-Vegan-Night-Market.jpg
GEO:40.6364582;-74.0157509
X-APPLE-STRUCTURED-LOCATION;VALUE=URI;X-ADDRESS=Wollman Rink Central Park E 63rd Street & Sixth Avenue New York NY 10065 United States;X-APPLE-RADIUS=500;X-TITLE=E 63rd Street & Sixth Avenue:geo:-74.0157509,40.6364582
END:VEVENT
BEGIN:VEVENT
DTSTART;TZID=America/New_York:20280411T160000
DTEND;TZID=America/New_York:20280411T220000
DTSTAMP:20260422T181639
CREATED:20230725T151229Z
LAST-MODIFIED:20230725T151355Z
UID:10000830-1839081600-1839103200@www.vkind.com
SUMMARY:Central Park Vegan Night Market
DESCRIPTION:Discover delicious food and drink options from local artisans\, sample new vegan products\, and connect with like-minded individuals who share a passion for sustainability and ethical living. Central Park Vegan Night Market is for both seasoned vegans and those just curious about the lifestyle.
URL:https://www.vkind.com/vegan-events/central-park-vegan-night-market/2028-04-11/
LOCATION:Wollman Rink Central Park\, E 63rd Street & Sixth Avenue\, New York\, NY\, 10065\, United States
ATTACH;FMTTYPE=image/jpeg:https://www.vkind.com/wp-content/uploads/2023/07/Central-Park-Vegan-Night-Market.jpg
GEO:40.6364582;-74.0157509
X-APPLE-STRUCTURED-LOCATION;VALUE=URI;X-ADDRESS=Wollman Rink Central Park E 63rd Street & Sixth Avenue New York NY 10065 United States;X-APPLE-RADIUS=500;X-TITLE=E 63rd Street & Sixth Avenue:geo:-74.0157509,40.6364582
END:VEVENT
BEGIN:VEVENT
DTSTART;TZID=America/New_York:20280418T160000
DTEND;TZID=America/New_York:20280418T220000
DTSTAMP:20260422T181639
CREATED:20230725T151229Z
LAST-MODIFIED:20230725T151355Z
UID:10000831-1839686400-1839708000@www.vkind.com
SUMMARY:Central Park Vegan Night Market
DESCRIPTION:Discover delicious food and drink options from local artisans\, sample new vegan products\, and connect with like-minded individuals who share a passion for sustainability and ethical living. Central Park Vegan Night Market is for both seasoned vegans and those just curious about the lifestyle.
URL:https://www.vkind.com/vegan-events/central-park-vegan-night-market/2028-04-18/
LOCATION:Wollman Rink Central Park\, E 63rd Street & Sixth Avenue\, New York\, NY\, 10065\, United States
ATTACH;FMTTYPE=image/jpeg:https://www.vkind.com/wp-content/uploads/2023/07/Central-Park-Vegan-Night-Market.jpg
GEO:40.6364582;-74.0157509
X-APPLE-STRUCTURED-LOCATION;VALUE=URI;X-ADDRESS=Wollman Rink Central Park E 63rd Street & Sixth Avenue New York NY 10065 United States;X-APPLE-RADIUS=500;X-TITLE=E 63rd Street & Sixth Avenue:geo:-74.0157509,40.6364582
END:VEVENT
BEGIN:VEVENT
DTSTART;TZID=America/New_York:20280425T160000
DTEND;TZID=America/New_York:20280425T220000
DTSTAMP:20260422T181639
CREATED:20230725T151229Z
LAST-MODIFIED:20230725T151355Z
UID:10000832-1840291200-1840312800@www.vkind.com
SUMMARY:Central Park Vegan Night Market
DESCRIPTION:Discover delicious food and drink options from local artisans\, sample new vegan products\, and connect with like-minded individuals who share a passion for sustainability and ethical living. Central Park Vegan Night Market is for both seasoned vegans and those just curious about the lifestyle.
URL:https://www.vkind.com/vegan-events/central-park-vegan-night-market/2028-04-25/
LOCATION:Wollman Rink Central Park\, E 63rd Street & Sixth Avenue\, New York\, NY\, 10065\, United States
ATTACH;FMTTYPE=image/jpeg:https://www.vkind.com/wp-content/uploads/2023/07/Central-Park-Vegan-Night-Market.jpg
GEO:40.6364582;-74.0157509
X-APPLE-STRUCTURED-LOCATION;VALUE=URI;X-ADDRESS=Wollman Rink Central Park E 63rd Street & Sixth Avenue New York NY 10065 United States;X-APPLE-RADIUS=500;X-TITLE=E 63rd Street & Sixth Avenue:geo:-74.0157509,40.6364582
END:VEVENT
BEGIN:VEVENT
DTSTART;TZID=America/New_York:20280502T160000
DTEND;TZID=America/New_York:20280502T220000
DTSTAMP:20260422T181639
CREATED:20230725T151229Z
LAST-MODIFIED:20230725T151355Z
UID:10000833-1840896000-1840917600@www.vkind.com
SUMMARY:Central Park Vegan Night Market
DESCRIPTION:Discover delicious food and drink options from local artisans\, sample new vegan products\, and connect with like-minded individuals who share a passion for sustainability and ethical living. Central Park Vegan Night Market is for both seasoned vegans and those just curious about the lifestyle.
URL:https://www.vkind.com/vegan-events/central-park-vegan-night-market/2028-05-02/
LOCATION:Wollman Rink Central Park\, E 63rd Street & Sixth Avenue\, New York\, NY\, 10065\, United States
ATTACH;FMTTYPE=image/jpeg:https://www.vkind.com/wp-content/uploads/2023/07/Central-Park-Vegan-Night-Market.jpg
GEO:40.6364582;-74.0157509
X-APPLE-STRUCTURED-LOCATION;VALUE=URI;X-ADDRESS=Wollman Rink Central Park E 63rd Street & Sixth Avenue New York NY 10065 United States;X-APPLE-RADIUS=500;X-TITLE=E 63rd Street & Sixth Avenue:geo:-74.0157509,40.6364582
END:VEVENT
BEGIN:VEVENT
DTSTART;TZID=America/New_York:20280509T160000
DTEND;TZID=America/New_York:20280509T220000
DTSTAMP:20260422T181639
CREATED:20230725T151229Z
LAST-MODIFIED:20230725T151355Z
UID:10000834-1841500800-1841522400@www.vkind.com
SUMMARY:Central Park Vegan Night Market
DESCRIPTION:Discover delicious food and drink options from local artisans\, sample new vegan products\, and connect with like-minded individuals who share a passion for sustainability and ethical living. Central Park Vegan Night Market is for both seasoned vegans and those just curious about the lifestyle.
URL:https://www.vkind.com/vegan-events/central-park-vegan-night-market/2028-05-09/
LOCATION:Wollman Rink Central Park\, E 63rd Street & Sixth Avenue\, New York\, NY\, 10065\, United States
ATTACH;FMTTYPE=image/jpeg:https://www.vkind.com/wp-content/uploads/2023/07/Central-Park-Vegan-Night-Market.jpg
GEO:40.6364582;-74.0157509
X-APPLE-STRUCTURED-LOCATION;VALUE=URI;X-ADDRESS=Wollman Rink Central Park E 63rd Street & Sixth Avenue New York NY 10065 United States;X-APPLE-RADIUS=500;X-TITLE=E 63rd Street & Sixth Avenue:geo:-74.0157509,40.6364582
END:VEVENT
BEGIN:VEVENT
DTSTART;TZID=America/New_York:20280516T160000
DTEND;TZID=America/New_York:20280516T220000
DTSTAMP:20260422T181639
CREATED:20230725T151229Z
LAST-MODIFIED:20230725T151355Z
UID:10000835-1842105600-1842127200@www.vkind.com
SUMMARY:Central Park Vegan Night Market
DESCRIPTION:Discover delicious food and drink options from local artisans\, sample new vegan products\, and connect with like-minded individuals who share a passion for sustainability and ethical living. Central Park Vegan Night Market is for both seasoned vegans and those just curious about the lifestyle.
URL:https://www.vkind.com/vegan-events/central-park-vegan-night-market/2028-05-16/
LOCATION:Wollman Rink Central Park\, E 63rd Street & Sixth Avenue\, New York\, NY\, 10065\, United States
ATTACH;FMTTYPE=image/jpeg:https://www.vkind.com/wp-content/uploads/2023/07/Central-Park-Vegan-Night-Market.jpg
GEO:40.6364582;-74.0157509
X-APPLE-STRUCTURED-LOCATION;VALUE=URI;X-ADDRESS=Wollman Rink Central Park E 63rd Street & Sixth Avenue New York NY 10065 United States;X-APPLE-RADIUS=500;X-TITLE=E 63rd Street & Sixth Avenue:geo:-74.0157509,40.6364582
END:VEVENT
BEGIN:VEVENT
DTSTART;TZID=America/New_York:20280523T160000
DTEND;TZID=America/New_York:20280523T220000
DTSTAMP:20260422T181639
CREATED:20230725T151229Z
LAST-MODIFIED:20230725T151355Z
UID:10000836-1842710400-1842732000@www.vkind.com
SUMMARY:Central Park Vegan Night Market
DESCRIPTION:Discover delicious food and drink options from local artisans\, sample new vegan products\, and connect with like-minded individuals who share a passion for sustainability and ethical living. Central Park Vegan Night Market is for both seasoned vegans and those just curious about the lifestyle.
URL:https://www.vkind.com/vegan-events/central-park-vegan-night-market/2028-05-23/
LOCATION:Wollman Rink Central Park\, E 63rd Street & Sixth Avenue\, New York\, NY\, 10065\, United States
ATTACH;FMTTYPE=image/jpeg:https://www.vkind.com/wp-content/uploads/2023/07/Central-Park-Vegan-Night-Market.jpg
GEO:40.6364582;-74.0157509
X-APPLE-STRUCTURED-LOCATION;VALUE=URI;X-ADDRESS=Wollman Rink Central Park E 63rd Street & Sixth Avenue New York NY 10065 United States;X-APPLE-RADIUS=500;X-TITLE=E 63rd Street & Sixth Avenue:geo:-74.0157509,40.6364582
END:VEVENT
BEGIN:VEVENT
DTSTART;TZID=America/New_York:20280530T160000
DTEND;TZID=America/New_York:20280530T220000
DTSTAMP:20260422T181639
CREATED:20230725T151229Z
LAST-MODIFIED:20230725T151355Z
UID:10000837-1843315200-1843336800@www.vkind.com
SUMMARY:Central Park Vegan Night Market
DESCRIPTION:Discover delicious food and drink options from local artisans\, sample new vegan products\, and connect with like-minded individuals who share a passion for sustainability and ethical living. Central Park Vegan Night Market is for both seasoned vegans and those just curious about the lifestyle.
URL:https://www.vkind.com/vegan-events/central-park-vegan-night-market/2028-05-30/
LOCATION:Wollman Rink Central Park\, E 63rd Street & Sixth Avenue\, New York\, NY\, 10065\, United States
ATTACH;FMTTYPE=image/jpeg:https://www.vkind.com/wp-content/uploads/2023/07/Central-Park-Vegan-Night-Market.jpg
GEO:40.6364582;-74.0157509
X-APPLE-STRUCTURED-LOCATION;VALUE=URI;X-ADDRESS=Wollman Rink Central Park E 63rd Street & Sixth Avenue New York NY 10065 United States;X-APPLE-RADIUS=500;X-TITLE=E 63rd Street & Sixth Avenue:geo:-74.0157509,40.6364582
END:VEVENT
BEGIN:VEVENT
DTSTART;TZID=America/New_York:20280606T160000
DTEND;TZID=America/New_York:20280606T220000
DTSTAMP:20260422T181639
CREATED:20230725T151229Z
LAST-MODIFIED:20230725T151355Z
UID:10000838-1843920000-1843941600@www.vkind.com
SUMMARY:Central Park Vegan Night Market
DESCRIPTION:Discover delicious food and drink options from local artisans\, sample new vegan products\, and connect with like-minded individuals who share a passion for sustainability and ethical living. Central Park Vegan Night Market is for both seasoned vegans and those just curious about the lifestyle.
URL:https://www.vkind.com/vegan-events/central-park-vegan-night-market/2028-06-06/
LOCATION:Wollman Rink Central Park\, E 63rd Street & Sixth Avenue\, New York\, NY\, 10065\, United States
ATTACH;FMTTYPE=image/jpeg:https://www.vkind.com/wp-content/uploads/2023/07/Central-Park-Vegan-Night-Market.jpg
GEO:40.6364582;-74.0157509
X-APPLE-STRUCTURED-LOCATION;VALUE=URI;X-ADDRESS=Wollman Rink Central Park E 63rd Street & Sixth Avenue New York NY 10065 United States;X-APPLE-RADIUS=500;X-TITLE=E 63rd Street & Sixth Avenue:geo:-74.0157509,40.6364582
END:VEVENT
BEGIN:VEVENT
DTSTART;TZID=America/New_York:20280613T160000
DTEND;TZID=America/New_York:20280613T220000
DTSTAMP:20260422T181639
CREATED:20230725T151229Z
LAST-MODIFIED:20230725T151355Z
UID:10000839-1844524800-1844546400@www.vkind.com
SUMMARY:Central Park Vegan Night Market
DESCRIPTION:Discover delicious food and drink options from local artisans\, sample new vegan products\, and connect with like-minded individuals who share a passion for sustainability and ethical living. Central Park Vegan Night Market is for both seasoned vegans and those just curious about the lifestyle.
URL:https://www.vkind.com/vegan-events/central-park-vegan-night-market/2028-06-13/
LOCATION:Wollman Rink Central Park\, E 63rd Street & Sixth Avenue\, New York\, NY\, 10065\, United States
ATTACH;FMTTYPE=image/jpeg:https://www.vkind.com/wp-content/uploads/2023/07/Central-Park-Vegan-Night-Market.jpg
GEO:40.6364582;-74.0157509
X-APPLE-STRUCTURED-LOCATION;VALUE=URI;X-ADDRESS=Wollman Rink Central Park E 63rd Street & Sixth Avenue New York NY 10065 United States;X-APPLE-RADIUS=500;X-TITLE=E 63rd Street & Sixth Avenue:geo:-74.0157509,40.6364582
END:VEVENT
BEGIN:VEVENT
DTSTART;TZID=America/New_York:20280620T160000
DTEND;TZID=America/New_York:20280620T220000
DTSTAMP:20260422T181639
CREATED:20230725T151229Z
LAST-MODIFIED:20230725T151355Z
UID:10000840-1845129600-1845151200@www.vkind.com
SUMMARY:Central Park Vegan Night Market
DESCRIPTION:Discover delicious food and drink options from local artisans\, sample new vegan products\, and connect with like-minded individuals who share a passion for sustainability and ethical living. Central Park Vegan Night Market is for both seasoned vegans and those just curious about the lifestyle.
URL:https://www.vkind.com/vegan-events/central-park-vegan-night-market/2028-06-20/
LOCATION:Wollman Rink Central Park\, E 63rd Street & Sixth Avenue\, New York\, NY\, 10065\, United States
ATTACH;FMTTYPE=image/jpeg:https://www.vkind.com/wp-content/uploads/2023/07/Central-Park-Vegan-Night-Market.jpg
GEO:40.6364582;-74.0157509
X-APPLE-STRUCTURED-LOCATION;VALUE=URI;X-ADDRESS=Wollman Rink Central Park E 63rd Street & Sixth Avenue New York NY 10065 United States;X-APPLE-RADIUS=500;X-TITLE=E 63rd Street & Sixth Avenue:geo:-74.0157509,40.6364582
END:VEVENT
BEGIN:VEVENT
DTSTART;TZID=America/New_York:20280627T160000
DTEND;TZID=America/New_York:20280627T220000
DTSTAMP:20260422T181639
CREATED:20230725T151229Z
LAST-MODIFIED:20230725T151355Z
UID:10000841-1845734400-1845756000@www.vkind.com
SUMMARY:Central Park Vegan Night Market
DESCRIPTION:Discover delicious food and drink options from local artisans\, sample new vegan products\, and connect with like-minded individuals who share a passion for sustainability and ethical living. Central Park Vegan Night Market is for both seasoned vegans and those just curious about the lifestyle.
URL:https://www.vkind.com/vegan-events/central-park-vegan-night-market/2028-06-27/
LOCATION:Wollman Rink Central Park\, E 63rd Street & Sixth Avenue\, New York\, NY\, 10065\, United States
ATTACH;FMTTYPE=image/jpeg:https://www.vkind.com/wp-content/uploads/2023/07/Central-Park-Vegan-Night-Market.jpg
GEO:40.6364582;-74.0157509
X-APPLE-STRUCTURED-LOCATION;VALUE=URI;X-ADDRESS=Wollman Rink Central Park E 63rd Street & Sixth Avenue New York NY 10065 United States;X-APPLE-RADIUS=500;X-TITLE=E 63rd Street & Sixth Avenue:geo:-74.0157509,40.6364582
END:VEVENT
BEGIN:VEVENT
DTSTART;TZID=America/New_York:20280704T160000
DTEND;TZID=America/New_York:20280704T220000
DTSTAMP:20260422T181639
CREATED:20230725T151229Z
LAST-MODIFIED:20230725T151355Z
UID:10000842-1846339200-1846360800@www.vkind.com
SUMMARY:Central Park Vegan Night Market
DESCRIPTION:Discover delicious food and drink options from local artisans\, sample new vegan products\, and connect with like-minded individuals who share a passion for sustainability and ethical living. Central Park Vegan Night Market is for both seasoned vegans and those just curious about the lifestyle.
URL:https://www.vkind.com/vegan-events/central-park-vegan-night-market/2028-07-04/
LOCATION:Wollman Rink Central Park\, E 63rd Street & Sixth Avenue\, New York\, NY\, 10065\, United States
ATTACH;FMTTYPE=image/jpeg:https://www.vkind.com/wp-content/uploads/2023/07/Central-Park-Vegan-Night-Market.jpg
GEO:40.6364582;-74.0157509
X-APPLE-STRUCTURED-LOCATION;VALUE=URI;X-ADDRESS=Wollman Rink Central Park E 63rd Street & Sixth Avenue New York NY 10065 United States;X-APPLE-RADIUS=500;X-TITLE=E 63rd Street & Sixth Avenue:geo:-74.0157509,40.6364582
END:VEVENT
BEGIN:VEVENT
DTSTART;TZID=America/New_York:20280711T160000
DTEND;TZID=America/New_York:20280711T220000
DTSTAMP:20260422T181639
CREATED:20230725T151229Z
LAST-MODIFIED:20230725T151355Z
UID:10000843-1846944000-1846965600@www.vkind.com
SUMMARY:Central Park Vegan Night Market
DESCRIPTION:Discover delicious food and drink options from local artisans\, sample new vegan products\, and connect with like-minded individuals who share a passion for sustainability and ethical living. Central Park Vegan Night Market is for both seasoned vegans and those just curious about the lifestyle.
URL:https://www.vkind.com/vegan-events/central-park-vegan-night-market/2028-07-11/
LOCATION:Wollman Rink Central Park\, E 63rd Street & Sixth Avenue\, New York\, NY\, 10065\, United States
ATTACH;FMTTYPE=image/jpeg:https://www.vkind.com/wp-content/uploads/2023/07/Central-Park-Vegan-Night-Market.jpg
GEO:40.6364582;-74.0157509
X-APPLE-STRUCTURED-LOCATION;VALUE=URI;X-ADDRESS=Wollman Rink Central Park E 63rd Street & Sixth Avenue New York NY 10065 United States;X-APPLE-RADIUS=500;X-TITLE=E 63rd Street & Sixth Avenue:geo:-74.0157509,40.6364582
END:VEVENT
BEGIN:VEVENT
DTSTART;TZID=America/New_York:20280718T160000
DTEND;TZID=America/New_York:20280718T220000
DTSTAMP:20260422T181639
CREATED:20230725T151229Z
LAST-MODIFIED:20230725T151355Z
UID:10000844-1847548800-1847570400@www.vkind.com
SUMMARY:Central Park Vegan Night Market
DESCRIPTION:Discover delicious food and drink options from local artisans\, sample new vegan products\, and connect with like-minded individuals who share a passion for sustainability and ethical living. Central Park Vegan Night Market is for both seasoned vegans and those just curious about the lifestyle.
URL:https://www.vkind.com/vegan-events/central-park-vegan-night-market/2028-07-18/
LOCATION:Wollman Rink Central Park\, E 63rd Street & Sixth Avenue\, New York\, NY\, 10065\, United States
ATTACH;FMTTYPE=image/jpeg:https://www.vkind.com/wp-content/uploads/2023/07/Central-Park-Vegan-Night-Market.jpg
GEO:40.6364582;-74.0157509
X-APPLE-STRUCTURED-LOCATION;VALUE=URI;X-ADDRESS=Wollman Rink Central Park E 63rd Street & Sixth Avenue New York NY 10065 United States;X-APPLE-RADIUS=500;X-TITLE=E 63rd Street & Sixth Avenue:geo:-74.0157509,40.6364582
END:VEVENT
BEGIN:VEVENT
DTSTART;TZID=America/New_York:20280725T160000
DTEND;TZID=America/New_York:20280725T220000
DTSTAMP:20260422T181639
CREATED:20230725T151229Z
LAST-MODIFIED:20230725T151355Z
UID:10000845-1848153600-1848175200@www.vkind.com
SUMMARY:Central Park Vegan Night Market
DESCRIPTION:Discover delicious food and drink options from local artisans\, sample new vegan products\, and connect with like-minded individuals who share a passion for sustainability and ethical living. Central Park Vegan Night Market is for both seasoned vegans and those just curious about the lifestyle.
URL:https://www.vkind.com/vegan-events/central-park-vegan-night-market/2028-07-25/
LOCATION:Wollman Rink Central Park\, E 63rd Street & Sixth Avenue\, New York\, NY\, 10065\, United States
ATTACH;FMTTYPE=image/jpeg:https://www.vkind.com/wp-content/uploads/2023/07/Central-Park-Vegan-Night-Market.jpg
GEO:40.6364582;-74.0157509
X-APPLE-STRUCTURED-LOCATION;VALUE=URI;X-ADDRESS=Wollman Rink Central Park E 63rd Street & Sixth Avenue New York NY 10065 United States;X-APPLE-RADIUS=500;X-TITLE=E 63rd Street & Sixth Avenue:geo:-74.0157509,40.6364582
END:VEVENT
END:VCALENDAR