BEGIN:VCALENDAR
VERSION:2.0
PRODID:-//Vkind - ECPv6.15.14//NONSGML v1.0//EN
CALSCALE:GREGORIAN
METHOD:PUBLISH
X-ORIGINAL-URL:https://www.vkind.com
X-WR-CALDESC:Events for Vkind
REFRESH-INTERVAL;VALUE=DURATION:PT1H
X-Robots-Tag:noindex
X-PUBLISHED-TTL:PT1H
BEGIN:VTIMEZONE
TZID:-04:00
END:VTIMEZONE
BEGIN:VEVENT
DTSTART;TZID=-04:00:20221009T183000
DTEND;TZID=-04:00:20221009T200000
DTSTAMP:20260423T181250
CREATED:20220929T122037Z
LAST-MODIFIED:20221009T131954Z
UID:10000303-1665340200-1665345600@www.vkind.com
SUMMARY:PLNT Burger Dinner (Rockville Location)
DESCRIPTION:PLNT Burger is inviting VSDC to dinner at their Rockville location! \nWe encourage everyone to eat at the picnic tables outside. However\, if it is raining or too cold\, we will eat inside. \nPLNT Burger will be offering our group a special discount code that can be added in the PLNT Burger app. To prepare for the event\, download the PLNT Burger app on your phone and make sure your phone is charged! I will let you all know what the promo code is prior to the event in the comments. \nIf you want to come socialize but do not want to purchase food at PLNT Burger we still welcome you. We kindly ask that if you purchase other food or bring your own meal\, it must be vegan. Anyone that brings a nonvegan meal will be asked to finish their meal elsewhere\, and join back with us when they have finished eating. \nVSDC (http://www.vsdc.org) is a clear and consistent voice for improving the lives of all beings through education on the benefits of a vegan diet & lifestyle. Sharing food is the bond that brings families together; so it is with VSDC. From simply “breaking bread” to experiencing delicious and nutritious vegan foods from around the world\, we make your journey easier\, enjoyable & meaningful. \nBy coming to this event\, we expect you will follow the code of conduct found at [Policies – VSDC – Veg Society of DC](https://vsdc.org/policies) \n**VSDC. Creating communities. For your health\, the animals\, and the planet.**
URL:https://www.vkind.com/vegan-events/plnt-burger-dinner-rockville-location/
LOCATION:Whole Foods Rockville\, 11355 Woodglen Drive\, Rockville\, MD\, us
ATTACH;FMTTYPE=image/jpeg:https://www.vkind.com/wp-content/uploads/2022/08/1024x576-l3pNdf.tmp_.jpg
GEO:39.04283;-77.11264
X-APPLE-STRUCTURED-LOCATION;VALUE=URI;X-ADDRESS=Whole Foods Rockville 11355 Woodglen Drive Rockville MD us;X-APPLE-RADIUS=500;X-TITLE=11355 Woodglen Drive:geo:-77.11264,39.04283
END:VEVENT
END:VCALENDAR