BEGIN:VCALENDAR
VERSION:2.0
PRODID:-//Vkind - ECPv6.15.14//NONSGML v1.0//EN
CALSCALE:GREGORIAN
METHOD:PUBLISH
X-ORIGINAL-URL:https://www.vkind.com
X-WR-CALDESC:Events for Vkind
REFRESH-INTERVAL;VALUE=DURATION:PT1H
X-Robots-Tag:noindex
X-PUBLISHED-TTL:PT1H
BEGIN:VTIMEZONE
TZID:-04:00
END:VTIMEZONE
BEGIN:VEVENT
DTSTART;TZID=-04:00:20241004T190000
DTEND;TZID=-04:00:20241004T210000
DTSTAMP:20260422T211443
CREATED:20240918T235031Z
LAST-MODIFIED:20241004T040029Z
UID:10007798-1728068400-1728075600@www.vkind.com
SUMMARY:Navratri / Garba Festival @ India Square\, Jersey City w/Veg*n Dinner
DESCRIPTION:**Join us in the vibrant and enchanting world of Navratri celebrations in the heart of Jersey City\, New Jersey!** In 2024\, India Square in Jersey City is set to come alive with the joyous rhythms of Navratri\, one of India’s most spirited and colorful festivals. This annual extravaganza promises to be a captivating fusion of traditional Indian culture and modern excitement\, bringing together people from diverse backgrounds to celebrate the triumph of good over evil through dance\, music\, and devotion. **Every year in Jersey City\, along Newark Avenue\, there is a huge Navratri / Garba Festival that draws more than 10\,000 people. It is an inexpensive and excellent event that is easily accessible to New Yorkers via Path Train. Usually a festival toll gate is set up around 8:00pm\, and if we eat dinner early we will likely be inside of it. We will see what happens\, but be prepared to pay $5 if you need to.** \n“Newark Avenue\, in the township of Jersey City\, New Jersey sets a unique example during **Navratri\, where more than fifteen thousand men\, women and children play Garba-Raas on the street\, all throughout the night\, every night for 4-6 nights – a rare spectacle to be observed**.” Website address: [http://www.indiasquare.org](http://www.indiasquare.org) \n**2023 Navratri videos**: [https://www.facebook.com/IndiaSquare.NavaratriCelebrations/videos](https://www.facebook.com/IndiaSquare.NavaratriCelebrations/videos) \n**Directions and WHERE TO MEET US:** **Take the PATH train to Journal Square in Jersey City. From Manhattan you can get on the JOURNAL SQUARE-bound train (NOT the Hoboken train) at 33rd Street & 6th Avenue (in the 34th Street subway station)\, or at other Manhattan PATH train stops.** When you exit the Journal Square PATH Train station\, you will be directly on John F Kennedy Blvd. **Walk north along John F Kennedy Blvd three blocks to Newark Ave.** That is where the Garba/Navratri Festival is across Newark Avenue. **You will see a big White Castle Restaurant — on the corner of Newark Ave and John F Kennedy Blvd (it is on John F Kennedy Blvd). Do NOT go inside the White Castle. Our group will be meeting between 7:00pm and 7:15pm IN FRONT OF the White Castle at 2995 John F Kennedy Blvd. We will be holding a “VEG MEETUP” sign. Don’t be late!** After meeting\, we will all walk a few feet to the Garba/Navratri Festival on Newark Avenue. \n**See you there\, in front of the White Castle\, between 7:15pm and 7:30pm. Don’t go inside the White Castle\, instead meet us right in front of it. Don’t be late! Arrive early if you are unsure of your timing.** \n**Dinner:** There are many Indian restaurants up and down Newark Avenue\, serving veg*n options. We will be grabbing food as a group prior to the Garba/Raas event\, and feel free to grab something to eat at anytime\, just for yourself. There are many\, many vegetarian and vegan options in the many restaurants\, and numerous restaurants are all-vegetarian (though not all-vegan\, so check your specific item before ordering). \nKarthik and David \n**Why is Navratri celebrated ?**\nNavratri\, rooted in ancient Hindu mythology and history\, holds a significant place in India’s cultural and religious heritage. The history of Navratri dates back thousands of years and is steeped in legend and tradition. \nOne of the most famous stories associated with Navratri is the battle between the goddess Durga and the demon Mahishasura. According to Hindu mythology\, Mahishasura\, a shape-shifting demon\, terrorized the heavens and the earth. Unable to bear his tyranny\, the gods created the goddess Durga\, an embodiment of their collective divine power\, to defeat Mahishasura. This epic battle lasted for nine days and nights\, symbolizing the nine nights of Navratri. On the tenth day\, known as Vijayadashami or Dussehra\, Durga emerged victorious\, marking the triumph of good over evil. Navratri also celebrates the goddess Lakshmi\, the goddess of wealth and prosperity\, and Saraswati\, the goddess of knowledge and wisdom\, during this period. Each of the nine nights is dedicated to one of these goddesses\, with special prayers and rituals performed to invoke their blessings. \nOver the centuries\, Navratri has evolved from a primarily religious observance into a grand cultural festival. It is a time when people come together to dance the energetic Garba and Dandiya Raas\, wearing traditional attire and forming intricate dance circles. These dances symbolize the joyous celebration of life\, as well as the triumph of light over darkness. \nToday\, Navratri transcends religious boundaries and is celebrated by people of various backgrounds\, not only in India but also in Indian communities worldwide. It’s a testament to the enduring power of tradition and the significance of preserving cultural heritage in a modern world. Navratri continues to be a time of unity\, devotion\, and festivity\, honoring the ancient legends and history that make it a cherished part of Indian culture. \nImage Courtesy: Gujarat Tourism
URL:https://www.vkind.com/vegan-events/navratri-garba-festival-india-square-jersey-city-w-vegn-dinner/
LOCATION:White Castle\, 2995 John F. Kennedy Blvd\, Jersey City\, NJ\, 07306\, United States
ATTACH;FMTTYPE=image/jpeg:https://www.vkind.com/wp-content/uploads/2024/09/1024x576-owgVbR.tmp_.jpg
GEO:40.735794;-74.063385
X-APPLE-STRUCTURED-LOCATION;VALUE=URI;X-ADDRESS=White Castle 2995 John F. Kennedy Blvd Jersey City NJ 07306 United States;X-APPLE-RADIUS=500;X-TITLE=2995 John F. Kennedy Blvd:geo:-74.063385,40.735794
END:VEVENT
BEGIN:VEVENT
DTSTART;TZID=-04:00:20231021T191500
DTEND;TZID=-04:00:20231021T221500
DTSTAMP:20260422T211443
CREATED:20231007T140535Z
LAST-MODIFIED:20231021T200043Z
UID:10007559-1697915700-1697926500@www.vkind.com
SUMMARY:Navratri / Garba Festival at India Square\, Jersey City w/Veg*n Dinner
DESCRIPTION:**Join us in the vibrant and enchanting world of Navratri celebrations in the heart of Jersey City\, New Jersey!** In 2023\, India Square in Jersey City is set to come alive with the joyous rhythms of Navratri\, one of India’s most spirited and colorful festivals. This annual extravaganza promises to be a captivating fusion of traditional Indian culture and modern excitement\, bringing together people from diverse backgrounds to celebrate the triumph of good over evil through dance\, music\, and devotion. **Every year in Jersey City\, along Newark Avenue\, there is a huge Navratri / Garba Festival that draws more than 10\,000 people. It is an inexpensive ($5) and excellent event that is easily accessible to New Yorkers via Path Train. A festival toll gate is set up around 8:00pm\, and if we eat dinner early we may already be inside of it. We will see what happens\, but be prepared to pay $5 if you need to.** \nFrom the official website: “Newark Avenue\, in the township of Jersey City\, New Jersey sets a unique example during **Navratri\, where more than fifteen thousand men\, women and children play Garba-Raas on the street\, all throughout the night\, every night for 4-6 nights – a rare spectacle to be observed**.” Website address: [http://www.indiasquare.org](http://www.indiasquare.org) \n2022 Navratri Photos: [https://www.facebook.com/IndiaSquare.NavaratriCelebrations/photos](https://www.facebook.com/IndiaSquare.NavaratriCelebrations/photos) \n**Directions and WHERE TO MEET US:** **Take the PATH train to Journal Square in Jersey City. From Manhattan you can get on the JOURNAL SQUARE-bound train (NOT the Hoboken train) at 33rd Street & 6th Avenue (in the 34th Street subway station)\, or at other Manhattan PATH train stops.** When you exit the Journal Square PATH Train station\, you will be directly on John F Kennedy Blvd. **Walk north along John F Kennedy Blvd three blocks to Newark Ave.** That is where the Garba/Navratri Festival is across Newark Avenue. **You will see a big White Castle Restaurant — on the corner of Newark Ave and John F Kennedy Blvd (it is on John F Kennedy Blvd). Do NOT go inside the White Castle. Our group will be meeting between 7:00pm and 7:15pm IN FRONT OF the White Castle at 2995 John F Kennedy Blvd. We will be holding a “VEG MEETUP” sign. Don’t be late!** After meeting\, we will all walk a few feet to the Garba/Navratri Festival on Newark Avenue. \n**See you there\, in front of the White Castle\, between 7:15pm and 7:30pm. Don’t go inside the White Castle\, instead meet us right in front of it. Don’t be late! Arrive early if you are unsure of your timing.** \n**Dinner:** There are many Indian restaurants up and down Newark Avenue\, serving veg*n options. We will be grabbing food as a group prior to the Garba/Raas event\, and feel free to grab something to eat at anytime\, just for yourself. There are many\, many vegetarian and vegan options in the many restaurants\, and numerous restaurants are all-vegetarian (though not all-vegan\, so check your specific item before ordering). \nKarthik and David \n**Why is Navratri celebrated ?**\nNavratri\, rooted in ancient Hindu mythology and history\, holds a significant place in India’s cultural and religious heritage. The history of Navratri dates back thousands of years and is steeped in legend and tradition. \nOne of the most famous stories associated with Navratri is the battle between the goddess Durga and the demon Mahishasura. According to Hindu mythology\, Mahishasura\, a shape-shifting demon\, terrorized the heavens and the earth. Unable to bear his tyranny\, the gods created the goddess Durga\, an embodiment of their collective divine power\, to defeat Mahishasura. This epic battle lasted for nine days and nights\, symbolizing the nine nights of Navratri. On the tenth day\, known as Vijayadashami or Dussehra\, Durga emerged victorious\, marking the triumph of good over evil. \nNavratri also celebrates the goddess Lakshmi\, the goddess of wealth and prosperity\, and Saraswati\, the goddess of knowledge and wisdom\, during this period. Each of the nine nights is dedicated to one of these goddesses\, with special prayers and rituals performed to invoke their blessings. \nOver the centuries\, Navratri has evolved from a primarily religious observance into a grand cultural festival. It is a time when people come together to dance the energetic Garba and Dandiya Raas\, wearing traditional attire and forming intricate dance circles. These dances symbolize the joyous celebration of life\, as well as the triumph of light over darkness. \nToday\, Navratri transcends religious boundaries and is celebrated by people of various backgrounds\, not only in India but also in Indian communities worldwide. It’s a testament to the enduring power of tradition and the significance of preserving cultural heritage in a modern world. Navratri continues to be a time of unity\, devotion\, and festivity\, honoring the ancient legends and history that make it a cherished part of Indian culture.
URL:https://www.vkind.com/vegan-events/navratri-garba-festival-at-india-square-jersey-city-w-vegn-dinner/
LOCATION:White Castle\, 2995 John F. Kennedy Blvd\, Jersey City\, NJ\, 07306\, United States
ATTACH;FMTTYPE=image/jpeg:https://www.vkind.com/wp-content/uploads/2023/10/1024x576-MSysOR.tmp_.jpg
GEO:40.735794;-74.063385
X-APPLE-STRUCTURED-LOCATION;VALUE=URI;X-ADDRESS=White Castle 2995 John F. Kennedy Blvd Jersey City NJ 07306 United States;X-APPLE-RADIUS=500;X-TITLE=2995 John F. Kennedy Blvd:geo:-74.063385,40.735794
END:VEVENT
BEGIN:VEVENT
DTSTART;TZID=-04:00:20220930T191500
DTEND;TZID=-04:00:20220930T221500
DTSTAMP:20260422T211443
CREATED:20220915T103456Z
LAST-MODIFIED:20220930T123522Z
UID:10000292-1664565300-1664576100@www.vkind.com
SUMMARY:Navratri / Garba Festival in Jersey City - Free
DESCRIPTION:Every year in Jersey City\, along Newark Avenue\, there is a huge Navratri / Garba Festival that draws more than 10\,000 people. It is free and excellent\, and is sponsored by the Jersey City Asian Merchant Association\, also known as “India Square”. \nFrom the official website: “Newark Avenue\, in the township of Jersey City\, New Jersey sets a unique example during **Navratri\, where more than fifteen thousand men\, women and children play Garba-Raas on the street\, all throughout the night\, every night for 4-6 nights – a rare spectacle to be observed**.” Website address: [http://www.indiasquare.org](http://www.indiasquare.org) \n2021 Navratri Photos: [https://www.nj.com/hudson/2021/10/thousands-dance-in-the-streets-to-celebrate-festival-of-navratri-in-nj-photos.html](https://www.nj.com/hudson/2021/10/thousands-dance-in-the-streets-to-celebrate-festival-of-navratri-in-nj-photos.html) \n**Directions and WHERE TO MEET US:** **Take the PATH train to Journal Square in Jersey City. From Manhattan you can get on the JOURNAL SQUARE-bound train (NOT the Hoboken train) at 33rd Street & 6th Avenue (in the 34th Street subway station)\, or at other Manhattan PATH train stops.** When you exit the Journal Square PATH Train station\, you will be directly on John F Kennedy Blvd. **Walk north along John F Kennedy Blvd three blocks to Newark Ave.** That is where the Garba/Navratri Festival is. \nCross Newark Avenue. **You will see a big White Castle Restaurant — on the corner of Newark Ave and John F Kennedy Blvd (it is on John F Kennedy Blvd). Do NOT go inside the White Castle. Our group will be meeting between 7:15pm and 7:30pm IN FRONT OF the White Castle at 2995 John F Kennedy Blvd. We will be holding a “VEG MEETUP” sign. Don’t be late!** After meeting\, we will all walk a few feet to the Garba/Navratri Festival on Newark Avenue. \n**See you there\, in front of the White Castle\, between 7:15pm and 7:30pm. Don’t go inside the White Castle\, instead meet us right in front of it. Don’t be late! Arrive early if you are unsure of your timing.** \n**Dinner:** There are many Indian restaurants up and down Newark Avenue. At some point we will be picking up some take-out food. And feel free to grab something to eat at anytime\, just for yourself. There are many\, many vegetarian and vegan options in the many restaurants\, and numerous restaurants are all-vegetarian (though not all-vegan\, so check your specific item before ordering). \nKarthik and David \nDescription of Navratri and Garba\n———————————————–\nDescription of Navratri and Garba \nNavratri\, Where nav means nine and ratri means nights…\nNavratri festival sacred to the Mother Goddess is celebrated in the months of October and November. It is a festival of worship\, dance and music celebrated over a period of nine nights. It is celebrated from the first to the ninth date of Ashwin Shukla Paksha of the Hindu Calendar for the worship of the Goddess Durga. This festival commemorates the victory of Goddess Durga over a demon\, Mahishasur. \nDuring Navratri\, devotees of Durga fast and pray for health and prosperity. It is an occasion for vibrant festivities. The Garba or Dandiya Raas is the most significant feature during the festival of Navratri. This is the traditional and folk dance of the state of Gujarat\, but today\, everyone performs this dance with great fervor and enthusiasm. During the dance\, a decorated pot is ceremoniously placed with a light inside and the women folk dance in a circle\, singing ‘traditional songs’ or ‘garbas’. \nThen there is a pooja on each day of this holy period where Goddess Durga\, known in this state as Ambe Maa is worshipped for prosperity and happiness. During all the nine nights\, men\, women and children flock together in the street and peform Garba-Raas in circumambulation around the statue of devi\, accompanied by religious songs eulogizing the Mother-Goddess in tune with instrumental music till late night which has deep socio-religious impact on the Hindu society. A Mandvi of the Goddess is framed by woodcarving in which a small idol of Mother Goddess is placed with a number of ghee lamps. The devotees put this Mandvi on their heads and maintaining balance\, perform Garba-dance. \nGujarat is the cardinal center for the celebration of Navratri Mahotsava\, where young men and women wearing traditional attire dance with zeal\, joy\, jubilation and devotional fervor\, till late mid-night. Out of the nine forms of Mother-Goddess\, the triumvirate of Mahakali\, Maha-Laxmi and Maha-Sarasvati symbolize prowess\, affluence and erudition – the most essential things for the prosperity and progress of mankind. the Mother-Goddess grants all these three to the devotees who observe Navratri in right spirit.\n———————————————–
URL:https://www.vkind.com/vegan-events/navratri-garba-festival-in-jersey-city-free/
LOCATION:White Castle\, 2995 John F. Kennedy Blvd\, Jersey City\, NJ\, 07306\, United States
ATTACH;FMTTYPE=image/jpeg:https://www.vkind.com/wp-content/uploads/2022/09/1024x576-rQO8rE.tmp_.jpg
GEO:40.735794;-74.063385
X-APPLE-STRUCTURED-LOCATION;VALUE=URI;X-ADDRESS=White Castle 2995 John F. Kennedy Blvd Jersey City NJ 07306 United States;X-APPLE-RADIUS=500;X-TITLE=2995 John F. Kennedy Blvd:geo:-74.063385,40.735794
END:VEVENT
END:VCALENDAR