BEGIN:VCALENDAR
VERSION:2.0
PRODID:-//Vkind - ECPv6.15.14//NONSGML v1.0//EN
CALSCALE:GREGORIAN
METHOD:PUBLISH
X-ORIGINAL-URL:https://www.vkind.com
X-WR-CALDESC:Events for Vkind
REFRESH-INTERVAL;VALUE=DURATION:PT1H
X-Robots-Tag:noindex
X-PUBLISHED-TTL:PT1H
BEGIN:VTIMEZONE
TZID:-04:00
END:VTIMEZONE
BEGIN:VEVENT
DTSTART;TZID=-04:00:20231008T180000
DTEND;TZID=-04:00:20231008T200000
DTSTAMP:20260423T154141
CREATED:20231005T044556Z
LAST-MODIFIED:20231008T061539Z
UID:10007555-1696788000-1696795200@www.vkind.com
SUMMARY:VSDC Dinner Meetup for Vegan Chef Challenge - Whiskey & Oyster
DESCRIPTION:October is [DC Vegan Chef Challenge](https://veganchefchallenge.org/dc/)! As part of this friendly competition 10 DC-area restaurants are debuting new plant-based dishes for customers to vote for their favorites.\nLet’s meet at [Whiskey & Oyster](https://www.google.com/maps/place/Whiskey+%26+Oyster/@38.8039203\,-77.0647074\,17z/data=!3m1!4b1!4m6!3m5!1s0x89b7b1a98079a08f:0x756da82638051e70!8m2!3d38.8039161!4d-77.0621325!16s%2Fg%2F11h7kv9ycj?entry=ttu) in Alexandria which is [debuting four dishes](https://drive.google.com/file/d/1xg1ZF56ecoYroOZLv75xy_9uuU85MrBc/view): 1) a GF mushroom tartar 2) tomato and mushroom penne\, 3) jerk tofu grain bowl\, 4) cran-raspberry sorbet. All are welcome—join for good company\, good food\, and weigh in on the Vegan Chef Challenge!\nW&O is located a 7 min walk from the King Street Metro station. There is outdoor seating that is first come first served\, and we will reserve seats indoors for the group.\nWhen you sign up to join\, you automatically acknowledge [VSDC’s Liability Waiver](https://vsdc.org/activity-waiver/). By coming to this event\, we expect you to follow the code of conduct found at [Policies – VSDC – Veg Society of DC](https://vsdc.org/policies/)\nVSDC ([http://www.vsdc.org](http://www.vsdc.org/)) is a clear and consistent voice for improving the lives of all beings through education on the benefits of a vegan diet & lifestyle. Sharing food is the bond that brings families together; so it is with VSDC. From simply “breaking bread” to experiencing delicious and nutritious vegan foods from around the world\, we make your journey easier\, enjoyable & meaningful.
URL:https://www.vkind.com/vegan-events/vsdc-dinner-meetup-for-vegan-chef-challenge-whiskey-oyster/
LOCATION:Whiskey & Oyster\, 301 John Carlyle St\, Alexandria\, VA\, 22314\, us
ATTACH;FMTTYPE=image/jpeg:https://www.vkind.com/wp-content/uploads/2023/10/1024x576-MO7zd8.tmp_.jpg
GEO:38.803917;-77.06213
X-APPLE-STRUCTURED-LOCATION;VALUE=URI;X-ADDRESS=Whiskey & Oyster 301 John Carlyle St Alexandria VA 22314 us;X-APPLE-RADIUS=500;X-TITLE=301 John Carlyle St:geo:-77.06213,38.803917
END:VEVENT
END:VCALENDAR