BEGIN:VCALENDAR
VERSION:2.0
PRODID:-//Vkind - ECPv6.15.14//NONSGML v1.0//EN
CALSCALE:GREGORIAN
METHOD:PUBLISH
X-ORIGINAL-URL:https://www.vkind.com
X-WR-CALDESC:Events for Vkind
REFRESH-INTERVAL;VALUE=DURATION:PT1H
X-Robots-Tag:noindex
X-PUBLISHED-TTL:PT1H
BEGIN:VTIMEZONE
TZID:-04:00
END:VTIMEZONE
BEGIN:VEVENT
DTSTART;TZID=-04:00:20250518T080000
DTEND;TZID=-04:00:20250518T100000
DTSTAMP:20260422T235352
CREATED:20250302T121547Z
LAST-MODIFIED:20250411T102544Z
UID:10007892-1747555200-1747562400@www.vkind.com
SUMMARY:Join Team VSDC at Poplar Spring 5K Run (or 1 mile Walk) for the Animals
DESCRIPTION:**Important: you must go to the Poplar Spring website to [register](https://www.classy.org/team/642011) for the race and [join Team VSDC](https://www.classy.org/team/642011). (It is very helpful to RSVP here on Meetup as well\, for communication purposes.)** \n[Join Team VSDC ](https://www.classy.org/team/642011)as we support the [Poplar Spring Animal Sanctuary Annual 5K Run for the Animals and 1-Mile Fun Walk ](https://www.animalsanctuary.org/events/)on Sunday\, May 18th. All funds raised will go towards [Poplar Spring’s](https://www.animalsanctuary.org/) lifesaving work every day. The funds will care for and feed the farm animals who live at Poplar Spring and educate the public about compassion towards all animals. The VSDC has been a participant in this event for many years. \nRegistration Fee for both the Run and Walk before April 6\, 2025: $28.00 \nApril 6 – May 17\, 2025: $30.00 \nRace Day: $35 \nTo join the Team VSDC register [here](https://www.classy.org/team/642011). \nMore info on the run is [here](https://www.animalsanctuary.org/events/). If you register on this page\, be sure to select “Join a Team” and choose Team VSDC! \nThere is also a virtual race option that takes place anytime during the week of May 18th. \nFor important updates regularly monitor the “comments” section below. \nDon’t be a no show! If your plans change\, update your RSVP. \nWhen you sign up to attend\, you automatically acknowledge [VSDC’s Liability Waiver](https://vsdc.org/activity-waiver/) and commit to follow the code of conduct found at [Policies – VSDC – Veg Society of DC](https://vsdc.org/policies/). \n*** \n**VSDC: More Than A Meetup**\nWe are so glad to have you as part of The Veg Society of DC Vegan Meetup group\, and we enjoy seeing you at our events. Did you know that [VSDC](www.vsdc.org) is a nonprofit organization with membership benefits? \nWith VSDC membership\, you will save money at area restaurants and businesses\, attend VSDC member-only events\, and\, most importantly\, support us as a clear and consistent voice for improving the lives of all beings through community-building and education centered on the benefits of a vegan diet and lifestyle. \nThe VSDC membership fee is minimal\, but the impact is significant! [Become a member of VSDC](https://vsdc.org/membership/). \n**VSDC. Creating communities. For your health\, the animals\, and the planet.**
URL:https://www.vkind.com/vegan-events/join-team-vsdc-at-poplar-spring-5k-run-or-1-mile-walk-for-the-animals-2/
LOCATION:Wheaton Regional Park\, 2000 Shorefield Rd\, Silver Spring\, MD\, 20902\, United States
ATTACH;FMTTYPE=image/jpeg:https://www.vkind.com/wp-content/uploads/2023/03/1024x576-GG58Ph.tmp_.jpg
GEO:39.051914;-77.04308
X-APPLE-STRUCTURED-LOCATION;VALUE=URI;X-ADDRESS=Wheaton Regional Park 2000 Shorefield Rd Silver Spring MD 20902 United States;X-APPLE-RADIUS=500;X-TITLE=2000 Shorefield Rd:geo:-77.04308,39.051914
END:VEVENT
BEGIN:VEVENT
DTSTART;TZID=-04:00:20240519T080000
DTEND;TZID=-04:00:20240519T100000
DTSTAMP:20260422T235352
CREATED:20240220T093054Z
LAST-MODIFIED:20240519T060024Z
UID:10007651-1716105600-1716112800@www.vkind.com
SUMMARY:Join Team VSDC at Poplar Spring 5K Run (or 1 mile Walk) for the Animals
DESCRIPTION:**Important: you must go to the Poplar Spring website to [register](https://www.animalsanctuary.org/events/) for the race and join Team VSDC.** \nJoin Team VSDC as we support the [Poplar Spring Animal Sanctuary Annual 5K Run for the Animals and 1-Mile Fun Walk ](https://www.animalsanctuary.org/events/)on Sunday\, May 19th. All funds raised will go towards [Poplar Spring’s](https://www.animalsanctuary.org/) lifesaving work every day. The funds will care for and feed the farm animals who live at Poplar Spring and educate the public about compassion towards all animals. The VSDC has been a participant in this event for many years. \nRegistration Fee for both the Run and Walk before April 9\, 2024: $28.00\nApril 9 – May 18\, 2024: $30.00\nRace Day: $35 \nRegister [here](https://www.classy.org/team/559292) to join Team VSDC. \nMore info on the run is [here](https://www.animalsanctuary.org/events/) \nTo join the [VSDC team](https://www.classy.org/team/559292)\, select the Join a Team option when registering and then select [Team VSDC](https://www.classy.org/team/559292). \nThere is also a virtual race option that takes place anytime during the week of May 19th. \nFor important updates regularly monitor the “comments” section below. \nDon’t be a no show! If your plans change\, update your RSVP. \nWhen you sign up to attend\, you automatically acknowledge [VSDC’s Liability Waiver](https://vsdc.org/activity-waiver/) and commit to follow the code of conduct found at [Policies – VSDC – Veg Society of DC](https://vsdc.org/policies/). \n*** \n**VSDC: More Than A Meetup**\nWe are so glad to have you as part of The Veg Society of DC Vegan Meetup group\, and we enjoy seeing you at our events. Did you know that [VSDC](www.vsdc.org) is a nonprofit organization with membership benefits? \nWith VSDC membership\, you will save money at area restaurants and businesses\, attend VSDC member-only events\, and\, most importantly\, support us as a clear and consistent voice for improving the lives of all beings through community-building and education centered on the benefits of a vegan diet and lifestyle. \nThe VSDC membership fee is minimal\, but the impact is significant! [Become a member of VSDC](https://vsdc.org/membership/). \n**VSDC. Creating communities. For your health\, the animals\, and the planet.**
URL:https://www.vkind.com/vegan-events/join-team-vsdc-at-poplar-spring-5k-run-or-1-mile-walk-for-the-animals/
LOCATION:Wheaton Regional Park\, 2000 Shorefield Rd\, Silver Spring\, MD\, 20902\, United States
ATTACH;FMTTYPE=image/jpeg:https://www.vkind.com/wp-content/uploads/2023/03/1024x576-GG58Ph.tmp_.jpg
GEO:39.051914;-77.04308
X-APPLE-STRUCTURED-LOCATION;VALUE=URI;X-ADDRESS=Wheaton Regional Park 2000 Shorefield Rd Silver Spring MD 20902 United States;X-APPLE-RADIUS=500;X-TITLE=2000 Shorefield Rd:geo:-77.04308,39.051914
END:VEVENT
BEGIN:VEVENT
DTSTART;TZID=-04:00:20230521T080000
DTEND;TZID=-04:00:20230521T100000
DTSTAMP:20260422T235352
CREATED:20230301T122044Z
LAST-MODIFIED:20230520T203517Z
UID:10000455-1684656000-1684663200@www.vkind.com
SUMMARY:Poplar Spring 5K Run (or 1 mile Walk) for the Animals
DESCRIPTION:Join Team VSDC as we support the Poplar Spring Animal Sanctuary 20th Annual 5K Run for the Animals and 1-Mile Fun Walk on Sunday\, May 21st. All funds raised will go towards Poplar Spring’s lifesaving work every day. The funds will care for and feed the farm animals that live at Poplar Spring and educate the public about compassion towards all animals. The VSDC has been a participant in this event for many years. \nRegistration Fee for both the Run and Walk before April 9\, 2023: $28.00\nApril 9 – May 20\, 2023: $30.00\nRace Day: $35 \n**Register here for Team VSDC**:\n[https://www.classy.org/team/485274](https://www.classy.org/team/485274) \nFor more info\, click here:\n[https://www.classy.org/event/poplar-spring-animal-sanctuarys-run-for-the-animals-2023/e461120](https://www.classy.org/event/poplar-spring-animal-sanctuarys-run-for-the-animals-2023/e461120) \nTo join the VSDC team\, select the Join a Team option when registering and then select VSDC. \nThere is also a virtual race option that takes place anytime during the week of May 21st. \n*For important updates regularly monitor the “comments” section below.*\n*Don’t be a no show! If your plans change\, update your RSVP.*\n*When you sign up to join\, you automatically acknowledge\nVSDC Physical Activity Liability Waiver: https://vsdc.org/activity-waiver/ \n*** \nVSDC (http://www.vsdc.org) is a clear and consistent voice for improving the lives of all beings through education on the benefits of a vegan diet & lifestyle. Sharing food is the bond that brings families together; so it is with VSDC. From simply “breaking bread” to experiencing delicious and nutritious vegan foods from around the world\, we make your journey easier\, enjoyable & meaningful. \nVSDC. Creating communities. For your health\, the animals\, and the planet.\n—
URL:https://www.vkind.com/vegan-events/poplar-spring-5k-run-or-1-mile-walk-for-the-animals/
LOCATION:Wheaton Regional Park\, 2000 Shorefield Rd\, Silver Spring\, MD\, 20902\, United States
ATTACH;FMTTYPE=image/jpeg:https://www.vkind.com/wp-content/uploads/2023/03/1024x576-GG58Ph.tmp_.jpg
GEO:39.051914;-77.04308
X-APPLE-STRUCTURED-LOCATION;VALUE=URI;X-ADDRESS=Wheaton Regional Park 2000 Shorefield Rd Silver Spring MD 20902 United States;X-APPLE-RADIUS=500;X-TITLE=2000 Shorefield Rd:geo:-77.04308,39.051914
END:VEVENT
END:VCALENDAR