BEGIN:VCALENDAR
VERSION:2.0
PRODID:-//Vkind - ECPv6.15.14//NONSGML v1.0//EN
CALSCALE:GREGORIAN
METHOD:PUBLISH
X-ORIGINAL-URL:https://www.vkind.com
X-WR-CALDESC:Events for Vkind
REFRESH-INTERVAL;VALUE=DURATION:PT1H
X-Robots-Tag:noindex
X-PUBLISHED-TTL:PT1H
BEGIN:VTIMEZONE
TZID:-04:00
END:VTIMEZONE
BEGIN:VTIMEZONE
TZID:-05:00
END:VTIMEZONE
BEGIN:VEVENT
DTSTART;TZID=-04:00:20250504T140000
DTEND;TZID=-04:00:20250504T153000
DTSTAMP:20260423T171112
CREATED:20250314T183031Z
LAST-MODIFIED:20250411T102539Z
UID:10007900-1746367200-1746372600@www.vkind.com
SUMMARY:VSDC Animal Rights Discussion and Education Group - Event 2
DESCRIPTION:Please join the [Veg Society of DC](vsdc.org) Animal Rights Discussion and Education Group for another great discussion. \nIf you’ve been looking for a way to educate yourself on animal rights and issues affecting animals in our world today with the support of a like-minded community\, then this group is for you. The VSDC Animal Rights Discussion and Education Group will discuss thoughts\, questions\, concerns\, and news related to animal rights. It seeks to provide a safe space for discussions around issues affecting captive animals\, farmed animals\, animals used in research\, wild animals\, companion animals\, and more. \nAll are welcome\, from those well-versed in animal rights philosophy and issues to those who are just starting off on their journey and are curious to learn more. Please come with an open mind\, an open heart\, and a willingness to engage with diverse opinions with curiosity and respect. \nThe plan is for the group to meet every other month. The topic of each meeting and any accompanying materials will be planned in advance and posted in event announcements via this VSDC meetup group. Participants are encouraged to offer topic ideas and materials for discussion at subsequent meetings. \n**Date / Time:** Sunday\, May 4th\, from 2 to 3:30 pm. \n**Location:** West End Neighborhood Library (Meeting Room 1)\n2301 L Street NW\, Washington DC \n****NOTE: no food is allowed in the conference room; only covered beverages (non-alcoholic) are allowed. You must be very careful to leave the space in clean condition.**** \n**Metro:** The library is just a few blocks from the Foggy Bottom – GWU Metro Station on the Blue\, Orange\, and Silver lines. \n**Parking:** There is street parking which is usually free on Sundays. Please read and follow all parking signs. \n*VSDC thanks **Anjali Baliga and Angie Terek for leading this initiative.** Email ‘ARdiscuss@vsdc.org’ for further information.* \n**VSDC: More Than A Meetup**\nWe are so glad to have you as part of The Veg Society of DC Vegan Meetup group\, and we enjoy seeing you at our events. Did you know that [VSDC](vsdc.org) is a nonprofit organization with membership benefits?\nWith VSDC membership\, you will save money at area restaurants and businesses\, attend VSDC member-only events\, and\, most importantly\, support us as a clear and consistent voice for improving the lives of all beings through community building and education centered on the benefits of a vegan diet and lifestyle.\nThe VSDC membership fee is minimal\, but the impact is significant! [Become a member of VSDC](https://vsdc.org/membership/). \n**Liability Waiver and Code of Conduct**\nWhen you sign up to attend\, you automatically acknowledge [VSDC’s Liability Waiver](https://vsdc.org/activity-waiver/) and commit to follow the code of conduct found at [Policies – VSDC – Veg Society of DC](https://vsdc.org/policies/). \n**VSDC. Creating communities. For your health\, the animals\, and the planet.**
URL:https://www.vkind.com/vegan-events/vsdc-animal-rights-discussion-and-education-group-event-2/
LOCATION:West End Neighborhood Library\, 2301 L Street NW\, Washington\, DC\, United States
ATTACH;FMTTYPE=image/jpeg:https://www.vkind.com/wp-content/uploads/2025/02/1024x576-Q2sAjZ.tmp_.jpg
GEO:38.904045;-77.050545
X-APPLE-STRUCTURED-LOCATION;VALUE=URI;X-ADDRESS=West End Neighborhood Library 2301 L Street NW Washington DC United States;X-APPLE-RADIUS=500;X-TITLE=2301 L Street NW:geo:-77.050545,38.904045
END:VEVENT
BEGIN:VEVENT
DTSTART;TZID=-05:00:20230122T140000
DTEND;TZID=-05:00:20230122T160000
DTSTAMP:20260423T171112
CREATED:20221222T023547Z
LAST-MODIFIED:20230123T061955Z
UID:10000394-1674396000-1674403200@www.vkind.com
SUMMARY:Improv For Fun at West End Neighborhood Library
DESCRIPTION:Please enjoy a free and fun improv event led by VSDC member Sol Aziz. This event is intended for anyone with an interest in improv no matter your experience level. We will begin with a name game and slowly build our improv skills up throughout the duration of the class. \nImprov helps: \n* Build confidence\n* Learn how to connect with people better\n* Improve thinking on your feet\n* Most importantly brings laughter\, happiness\, and fun to your life. \nFor more information on the benefits of improv you can visit this link:\n[https://www.coverttheatre.com/about-improv](https://www.coverttheatre.com/about-improv) \nThis event will be indoors. The reserved room can hold 100 people\, and we will cap this event at 25 people to ensure we have enough space between each other. Please use your best judgement in regards to your health when signing up for this event. \nIf you are hungry after class\, we will walk to Western Market for dinner. If you choose to dine with us\, please make sure your meal is fully vegan. \nVSDC (http://www.vsdc.org) is a clear and consistent voice for improving the lives of all beings through education on the benefits of a vegan diet & lifestyle. Sharing food is the bond that brings families together; so it is with VSDC. From simply “breaking bread” to experiencing delicious and nutritious vegan foods from around the world\, we make your journey easier\, enjoyable & meaningful. \nBy coming to this event\, we expect you will follow the code of conduct found at [Policies – VSDC – Veg Society of DC](https://vsdc.org/policies) \n**VSDC. Creating communities. For your health\, the animals\, and the planet.**
URL:https://www.vkind.com/vegan-events/improv-for-fun-at-west-end-neighborhood-library-3/
LOCATION:West End Neighborhood Library\, 2301 L Street NW\, Washington\, DC\, United States
ATTACH;FMTTYPE=image/jpeg:https://www.vkind.com/wp-content/uploads/2022/10/1024x576-sd2jmh.tmp_.jpg
GEO:38.904045;-77.050545
X-APPLE-STRUCTURED-LOCATION;VALUE=URI;X-ADDRESS=West End Neighborhood Library 2301 L Street NW Washington DC United States;X-APPLE-RADIUS=500;X-TITLE=2301 L Street NW:geo:-77.050545,38.904045
END:VEVENT
BEGIN:VEVENT
DTSTART;TZID=-05:00:20221218T143000
DTEND;TZID=-05:00:20221218T163000
DTSTAMP:20260423T171112
CREATED:20221026T135023Z
LAST-MODIFIED:20221218T023627Z
UID:10000327-1671373800-1671381000@www.vkind.com
SUMMARY:Improv For Fun at West End Neighborhood Library
DESCRIPTION:Please enjoy a free and fun improv event led by VSDC member Sol Aziz. This event is intended for anyone with an interest in improv no matter your experience level. \nImprov helps: \n* Build confidence\n* Learn how to connect with people better\n* Improve thinking on your feet\n* Most importantly brings laughter\, happiness\, and fun to your life. \nFor more information on the benefits of improv you can visit this link:\n[https://www.coverttheatre.com/about-improv](https://www.coverttheatre.com/about-improv) \nThis event will be indoors. The reserved room can hold 100 people\, and we will cap this event at 25 people to ensure we have enough space between each other. Please use your best judgement in regards to your health when signing up for this event. \nVSDC (http://www.vsdc.org) is a clear and consistent voice for improving the lives of all beings through education on the benefits of a vegan diet & lifestyle. Sharing food is the bond that brings families together; so it is with VSDC. From simply “breaking bread” to experiencing delicious and nutritious vegan foods from around the world\, we make your journey easier\, enjoyable & meaningful. \nBy coming to this event\, we expect you will follow the code of conduct found at [Policies – VSDC – Veg Society of DC](https://vsdc.org/policies) \n**VSDC. Creating communities. For your health\, the animals\, and the planet.**
URL:https://www.vkind.com/vegan-events/improv-for-fun-at-west-end-neighborhood-library-2/
LOCATION:West End Neighborhood Library\, 2301 L Street NW\, Washington\, DC\, United States
ATTACH;FMTTYPE=image/jpeg:https://www.vkind.com/wp-content/uploads/2022/10/1024x576-sd2jmh.tmp_.jpg
GEO:38.904045;-77.050545
X-APPLE-STRUCTURED-LOCATION;VALUE=URI;X-ADDRESS=West End Neighborhood Library 2301 L Street NW Washington DC United States;X-APPLE-RADIUS=500;X-TITLE=2301 L Street NW:geo:-77.050545,38.904045
END:VEVENT
BEGIN:VEVENT
DTSTART;TZID=-04:00:20221015T153000
DTEND;TZID=-04:00:20221015T173000
DTSTAMP:20260423T171112
CREATED:20220930T122034Z
LAST-MODIFIED:20221015T132033Z
UID:10000305-1665847800-1665855000@www.vkind.com
SUMMARY:Improv For Fun at West End Neighborhood Library
DESCRIPTION:Please enjoy a free and fun improv event led by VSDC member Sol Aziz. This event is intended for anyone with an interest in improv no matter your experience level. \nImprov helps: \n* Build confidence\n* Learn how to connect with people better\n* Improve thinking on your feet\n* Most importantly brings laughter\, happiness\, and fun to your life. \nFor more information on the benefits of improv you can visit this link:\n[https://www.coverttheatre.com/about-improv](https://www.coverttheatre.com/about-improv) \nThis event will be indoors. The reserved room can hold 100 people\, and we will cap this event at 25 people to ensure we have enough space between each other. Please use your best judgement in regards to your health when signing up for this event. \nVSDC (http://www.vsdc.org) is a clear and consistent voice for improving the lives of all beings through education on the benefits of a vegan diet & lifestyle. Sharing food is the bond that brings families together; so it is with VSDC. From simply “breaking bread” to experiencing delicious and nutritious vegan foods from around the world\, we make your journey easier\, enjoyable & meaningful. \nBy coming to this event\, we expect you will follow the code of conduct found at [Policies – VSDC – Veg Society of DC](https://vsdc.org/policies) \n**VSDC. Creating communities. For your health\, the animals\, and the planet.**
URL:https://www.vkind.com/vegan-events/improv-for-fun-at-west-end-neighborhood-library/
LOCATION:West End Neighborhood Library\, 2301 L Street NW\, Washington\, DC\, United States
ATTACH;FMTTYPE=image/jpeg:https://www.vkind.com/wp-content/uploads/2022/09/1024x576-LickfZ.tmp_.jpg
GEO:38.904045;-77.050545
X-APPLE-STRUCTURED-LOCATION;VALUE=URI;X-ADDRESS=West End Neighborhood Library 2301 L Street NW Washington DC United States;X-APPLE-RADIUS=500;X-TITLE=2301 L Street NW:geo:-77.050545,38.904045
END:VEVENT
END:VCALENDAR