BEGIN:VCALENDAR
VERSION:2.0
PRODID:-//Vkind - ECPv6.15.14//NONSGML v1.0//EN
CALSCALE:GREGORIAN
METHOD:PUBLISH
X-ORIGINAL-URL:https://www.vkind.com
X-WR-CALDESC:Events for Vkind
REFRESH-INTERVAL;VALUE=DURATION:PT1H
X-Robots-Tag:noindex
X-PUBLISHED-TTL:PT1H
BEGIN:VTIMEZONE
TZID:America/Detroit
BEGIN:DAYLIGHT
TZOFFSETFROM:-0500
TZOFFSETTO:-0400
TZNAME:EDT
DTSTART:20220313T070000
END:DAYLIGHT
BEGIN:STANDARD
TZOFFSETFROM:-0400
TZOFFSETTO:-0500
TZNAME:EST
DTSTART:20221106T060000
END:STANDARD
BEGIN:DAYLIGHT
TZOFFSETFROM:-0500
TZOFFSETTO:-0400
TZNAME:EDT
DTSTART:20230312T070000
END:DAYLIGHT
BEGIN:STANDARD
TZOFFSETFROM:-0400
TZOFFSETTO:-0500
TZNAME:EST
DTSTART:20231105T060000
END:STANDARD
BEGIN:DAYLIGHT
TZOFFSETFROM:-0500
TZOFFSETTO:-0400
TZNAME:EDT
DTSTART:20240310T070000
END:DAYLIGHT
BEGIN:STANDARD
TZOFFSETFROM:-0400
TZOFFSETTO:-0500
TZNAME:EST
DTSTART:20241103T060000
END:STANDARD
END:VTIMEZONE
BEGIN:VEVENT
DTSTART;TZID=America/Detroit:20230812T120000
DTEND;TZID=America/Detroit:20230812T190000
DTSTAMP:20260423T165243
CREATED:20230724T181916Z
LAST-MODIFIED:20230724T181916Z
UID:10000586-1691841600-1691866800@www.vkind.com
SUMMARY:Black VegFest Spread Love 2
DESCRIPTION:Black VegFest returns to the HEART of Brooklyn \nAugust 12\, 2023 \nCrown Heights\, Brooklyn \nWeeksville Heritage Center \nConversations on Black family\, social justice\, animal rights and community building. \nJOIN US. \nPerformances & Talks by the best in their fields. \nFood Demos – Inspiring Workshops – Educational Panel Discussions – Fitness Competitions for All Ages \nKids Area & Cool Activities for the whole family both days including Kids Chef competition with assistance from their parents. \nDelicious raw or hot vegan food + art paintings + jewelry + clothing \nAccess to Picnic Area on Lawn & Meadow \nTours of Weeksville Heritage Center (All Ages) Learn about the development of a Black Community named Weeksville. \nADA Accessible \nGENERAL ADMISSION IS FREE: Mainstage Entry on Saturday and Sunday +street festival vendors +picnic on lawn & meadow +kids area +main stage performances & panels +event program +porta-potties . \nWEEKSVILLE ADMISSION IS FREE: Weeksville Indoor Facility +2 Workshops +Upstairs Patio View +Free Swag Bag +Free Raffle Entry +A/C +Indoor Restroom \nVIP ORGANIZER SUPPORT AREA IS $150: +Black VegFest t-shirt +Open bar 12-3PM +Swag Bag +Liberation Farm visit 10/6 -10/8 (pending application) +Unlimited Workshops \nDONORS: +UNLIMITED WORKSHOPS \nAll tickets are non-refundable. \nYour ticket will be in your email.
URL:https://www.vkind.com/vegan-events/black-vegfest-spread-love-2/
LOCATION:Weeksville Heritage Society\, 158 Buffalo Avenue\, New York\, NY\, 11213\, United States
ATTACH;FMTTYPE=image/jpeg:https://www.vkind.com/wp-content/uploads/2023/07/Black-VegFest-Spread-Love-2.jpg
GEO:40.6741188;-73.9253126
X-APPLE-STRUCTURED-LOCATION;VALUE=URI;X-ADDRESS=Weeksville Heritage Society 158 Buffalo Avenue New York NY 11213 United States;X-APPLE-RADIUS=500;X-TITLE=158 Buffalo Avenue:geo:-73.9253126,40.6741188
END:VEVENT
END:VCALENDAR