BEGIN:VCALENDAR
VERSION:2.0
PRODID:-//Vkind - ECPv6.15.14//NONSGML v1.0//EN
CALSCALE:GREGORIAN
METHOD:PUBLISH
X-WR-CALNAME:Vkind
X-ORIGINAL-URL:https://www.vkind.com
X-WR-CALDESC:Events for Vkind
REFRESH-INTERVAL;VALUE=DURATION:PT1H
X-Robots-Tag:noindex
X-PUBLISHED-TTL:PT1H
BEGIN:VTIMEZONE
TZID:-04:00
END:VTIMEZONE
BEGIN:VTIMEZONE
TZID:-05:00
END:VTIMEZONE
BEGIN:VEVENT
DTSTART;TZID=-04:00:20240506T070000
DTEND;TZID=-04:00:20240512T235900
DTSTAMP:20260423T151316
CREATED:20240413T085045Z
LAST-MODIFIED:20240513T023526Z
UID:10007686-1714978800-1715558340@www.vkind.com
SUMMARY:DC Veg Restaurant Week! May 6- 12\, 2024
DESCRIPTION:The Veg Society of DC is proud to be an official sponsor of DC Veg Week! \nAre you ready for the DMV-wide celebration of plant-based eats?\n#DCvegweek is back in 2024 with dozens of restaurants\nserving up their best in green cuisine. \nJoin DC celebrity co-hosts Bershan Shaw and Joseph ‘JB’ Blair for week-long specials\, events\, and give-aways for delicious vegan eats. \nLearn more at [vegdc.org](http://vegdc.org/) and [https://www.instagram.com/dcvegweek/](https://www.instagram.com/dcvegweek/)\n(Special events will be added to the [VegDC.org](https://vegdc.org/) website as they are scheduled) \n**VSDC: More Than A Meetup**\nWe are so glad to have you as part of The Veg Society of DC Vegan Meetup group\, and we enjoy seeing you at our events. Did you know that [VSDC](https://vsdc.org/) is a nonprofit organization with membership benefits? \nWith VSDC membership\, you will save money at area restaurants and businesses\, attend VSDC member-only events\, and\, most importantly\, support us as a clear and consistent voice for improving the lives of all beings through community building and education centered on the benefits of a vegan diet and lifestyle. \nThe membership fee is minimal\, but the impact is significant! [Become a member of VSDC](https://vsdc.org/membership/). \n**VSDC. Creating communities. For your health\, the animals\, and the planet.**
URL:https://www.vkind.com/vegan-events/dc-veg-restaurant-week-may-6-12-2024/
LOCATION:Washington\, Washington\, DC\, United States
ATTACH;FMTTYPE=image/jpeg:https://www.vkind.com/wp-content/uploads/2024/04/1024x576-fg5CKU.tmp_.jpg
GEO:38.907192;-77.03687
END:VEVENT
BEGIN:VEVENT
DTSTART;TZID=-04:00:20230610T133000
DTEND;TZID=-04:00:20230610T163000
DTSTAMP:20260423T151316
CREATED:20230602T212225Z
LAST-MODIFIED:20230609T151544Z
UID:10000552-1686403800-1686414600@www.vkind.com
SUMMARY:VSDC LGBTQIA+ Marches in the Capital Pride Parade
DESCRIPTION:Happy Pride\, everyone!!! Get your flags and rainbow gear ready~ \nVSDC is so excited to march in the Capital Pride Parade with FARM (Farm Animal Rights Movement) on Saturday\, June 10th! This is the perfect time to celebrate our queerness and encourage kindness for all animals. We have spots available for marchers to come with creative signs and loud voices to extend community and share our love of love.\nThere is no fee for this event\, and there should be plenty of vegan options along the streets. Anyone can come\, no age requirements. Children are welcome as long as they are accompanied by an adult. \nWHEN: Saturday\, June 10th\, 1:30pm-4ish \nWHERE: Our staging point is 15th St NW & Rhode Island Ave NW by 1:30. The parade starts at 3. We will be getting everyone set up with literature and other things to hand out\, etc. \nPARKING: It’s going to be packed in the city so Metro is highly recommended (or Uber/Lyft). Street parking will be very hard to find but please do follow all parking signs and instructions. \n***Please RSVP quickly.*** \n*In an effort to reduce no shows for space-limited events\, we are now tracking those who fail to show up and do not change their RSVP beforehand. After three strikes you’re out – meaning that you will not be able to attend future space-limited VSDC events. It is unfair to those on the waitlist and to the restaurant when there are no-shows.* \nWhen you sign up to join\, you automatically acknowledge [VSDC’s Liability Waiver](https://vsdc.org/activity-waiver/) \nBy coming to this event\, we expect you to follow the code of conduct found at [Policies – VSDC – Veg Society of DC](https://vsdc.org/policies/) \nLooking forward to seeing you all there! \nvvvvvvvvvvvvvvvvvvvvvvvvvvvvvvvvvvvvvvvvvvvvvvvvvvvvvvvvvvvvvvv \nVSDC (http://www.vsdc.org) is a clear and consistent voice for improving the lives of all beings through education on the benefits of a vegan diet & lifestyle. Sharing food is the bond that brings families together; so it is with VSDC. From simply “breaking bread” to experiencing delicious and nutritious vegan foods from around the world\, we make your journey easier\, enjoyable & meaningful. \n**VSDC. Creating communities. For your health\, the animals\, and the planet.**
URL:https://www.vkind.com/vegan-events/vsdc-lgbtqia-marches-in-the-capital-pride-parade/
LOCATION:Washington\, Washington\, DC\, United States
ATTACH;FMTTYPE=image/jpeg:https://www.vkind.com/wp-content/uploads/2023/06/1024x576-iMqmnj.tmp_.jpg
GEO:38.907192;-77.03687
END:VEVENT
BEGIN:VEVENT
DTSTART;TZID=-04:00:20230506T070000
DTEND;TZID=-04:00:20230513T235900
DTSTAMP:20260423T151316
CREATED:20230411T175050Z
LAST-MODIFIED:20230513T203516Z
UID:10000495-1683356400-1684022340@www.vkind.com
SUMMARY:DC Veg Restaurant Week! (May 6-13\, 2023)
DESCRIPTION:The Veg Society of DC is proud to be an official sponsor of DC Veg Week! \nAre you ready for the DMV-wide celebration of plant-based eats?\n#DCvegweek is back in 2023 with dozens of restaurants\nserving up their best in green cuisine. \nJoin DC celebrity co-hosts Chef Spike Mendelsohn and vegan influencer Tracye McQuirter for week-long specials\, events\, and give-aways for delicious vegan eats. \nLearn more at [vegdc.org](http://vegdc.org/) and [https://www.instagram.com/dcvegweek/](https://www.instagram.com/dcvegweek/)\n(Special events will be added to the [VegDC.org](https://vegdc.org/) website as they are scheduled) \n[VSDC](https://vsdc.org/) is a clear and consistent voice for improving the lives of all beings through education on the benefits of a vegan diet & lifestyle. Sharing food is the bond that brings families together; so it is with VSDC. From simply “breaking bread” to experiencing delicious and nutritious vegan foods from around the world\, we make your journey easier\, enjoyable & meaningful.
URL:https://www.vkind.com/vegan-events/dc-veg-restaurant-week-may-6-13-2023/
LOCATION:Washington\, Washington\, DC\, United States
ATTACH;FMTTYPE=image/jpeg:https://www.vkind.com/wp-content/uploads/2023/04/1024x576-VF5l0t.tmp_.jpg
GEO:38.907192;-77.03687
END:VEVENT
BEGIN:VEVENT
DTSTART;TZID=-05:00:20221119T080000
DTEND;TZID=-05:00:20221123T200000
DTSTAMP:20260423T151316
CREATED:20221012T132054Z
LAST-MODIFIED:20221123T233536Z
UID:10000319-1668844800-1669233600@www.vkind.com
SUMMARY:VSDC Thanksgiving Food & Supply Drive for SOME and HRA\, Nov. 19-23
DESCRIPTION:The Veg Society of DC is continuing its Thanksgiving tradition of collecting items for The Humane Rescue Alliance and So Others May Eat (SOME) food bank. \nIf you are interested in donating\, please email fooddrive AT vsdc DOT org for the exact drop-off locations and any questions. \nDrop-offs will be accepted from Saturday\, Nov. 19\, until the evening of Wednesday November 23rd at four drop-off locations. (Two in DC\, one in Rockville\, MD and one in Falls Church\, VA.) Please write to FoodDrive@VSDC.org for addresses. \nBelow are details about needed items by the organizations: \n— The Humane Rescue Alliance protects animals\, supports families\, and advocates for positive change to create a world where all animals can thrive.\nList of needed items:\nAny unexpired wet food (for dogs and cats) that is non-prescription\nAny unexpired dry food (for dogs and cats) that is non-prescription\nKitty litter\nDog and cat toys\nPet treats\nSee the HRA Amazon wishlist for examples of needed items: https://cuddly.com/pantry/4907283/humane-rescue-alliance#!#campaign-container-wishlist \n— So Others May Eat (SOME) is an interfaith\, community-based organization that exists to help the poor and homeless of our nation’s capital.\nSuggested non-perishable items (all vegan – please do not bring any items containing meat\, dairy\, or eggs):\nPeanut butter and other nut butters\nWhole-grain crackers\nLow-sugar cereal\nOatmeal\nPasta sauce and tomato sauce\nGrains/quinoa\nNuts\nBreakfast bars\nBeans and lentils (dry or canned)\nCanned vegetables (low-sodium)\nCanned fruit (packed in water or juice) \nThank you for your generosity! \nVSDC (http://www.vsdc.org) is a clear and consistent voice for improving the lives of all beings through education on the benefits of a vegan diet & lifestyle. Sharing food is the bond that brings families together; so it is with VSDC. From simply “breaking bread” to experiencing delicious and nutritious vegan foods from around the world\, we make your journey easier\, enjoyable & meaningful. \nVSDC. Creating communities. For your health\, the animals\, and the planet.
URL:https://www.vkind.com/vegan-events/vsdc-thanksgiving-food-supply-drive-for-some-and-hra/
LOCATION:Washington\, Washington\, DC\, United States
ATTACH;FMTTYPE=image/jpeg:https://www.vkind.com/wp-content/uploads/2022/10/1024x576-tYiZGI.tmp_.jpg
GEO:38.907192;-77.03687
END:VEVENT
END:VCALENDAR