BEGIN:VCALENDAR
VERSION:2.0
PRODID:-//Vkind - ECPv6.15.14//NONSGML v1.0//EN
CALSCALE:GREGORIAN
METHOD:PUBLISH
X-ORIGINAL-URL:https://www.vkind.com
X-WR-CALDESC:Events for Vkind
REFRESH-INTERVAL;VALUE=DURATION:PT1H
X-Robots-Tag:noindex
X-PUBLISHED-TTL:PT1H
BEGIN:VTIMEZONE
TZID:-04:00
END:VTIMEZONE
BEGIN:VTIMEZONE
TZID:-05:00
END:VTIMEZONE
BEGIN:VEVENT
DTSTART;TZID=-04:00:20250331T190000
DTEND;TZID=-04:00:20250331T210000
DTSTAMP:20260423T022751
CREATED:20250311T210526Z
LAST-MODIFIED:20250331T023042Z
UID:10007898-1743447600-1743454800@www.vkind.com
SUMMARY:Veg Night Out at Vue 180 NYC Rooftop
DESCRIPTION:Welcome to our monthly Veg Night Out! \nThis will be a perfect location for us to chill and enjoy the evening with enchanting backdrop. It’s an ideal spot for savoring the city’s charm with a cocktail in hand as evening falls. Join for a toast to the city that never sleeps. \n“Perched on top of the [DoubleTree by Hilton New York Times Square South](https://www.booking.com/hotel/us/radisson-new-york-times-square.en.html?aid=1153070&no_rooms=1&group_adults=2)\, the rooftop is aptly named for its stunning views of the NYC skyline…” per TheRooftopGuide. \n**Vue 180 NYC Rooftop**\nFrom 7:00pm-9:00pm\n525 8th Ave\, New York\, NY\n(212) 255-9000 \n#5 on **NYC Advisor’**s best rooftop bars in NYC\, “You can get classic and specialty cocktails and wines in the chilling air with a great panoramic view…” \nFrom **TheTravel.com**: “.. Vue 180’s claim to fame\, is its iconic view of the Empire State Building. Located in proximity to Madison Square Garden\, this midtown bar serves happy hour drinks daily from 5:00 PM to 7:00 PM…” \nWith all the wonderful vegetarians and vegans who attend each of our events\, every event we do is liked by our members\, but our “Veg Night Out!” events are the most popular of all. People enjoy the fact they can mingle (speak with lots of different people)\, and they love the beautiful venues that we go to. Join us for a stellar evening of lively conversation and lovely surroundings with fellow vegetarians and vegans. \n**For our new members**: this is an incredibly friendly and welcoming group. We’ll be hanging out by the main bar area\, and you can get to know all our wonderful members. \nThis event has no cover and no minimum. But **please do buy a drink or two**\, or as many as you like. The venue requests that you dress appropriately: business\, business casual or smart casual. \nJoin us for a fun and relaxed fall evening socializing with fellow vegetarians and vegans. \n**Train Directions**: Take the (A) (C) (E) (1) (2) (3) to 34th St-Penn Station or (B) (D) (F) (M) (N) (Q) (R) to 34th St-Herald Sq. \nEddie
URL:https://www.vkind.com/vegan-events/veg-night-out-at-vue-180-nyc-rooftop-2/
LOCATION:Vue 180 Rooftop Bar & Lounge\, 525 8th Ave\, New York\, NY\, 10018\, United States
ATTACH;FMTTYPE=image/jpeg:https://www.vkind.com/wp-content/uploads/2023/11/1024x576-glop2E.tmp_.jpg
GEO:40.753784;-73.9926
X-APPLE-STRUCTURED-LOCATION;VALUE=URI;X-ADDRESS=Vue 180 Rooftop Bar & Lounge 525 8th Ave New York NY 10018 United States;X-APPLE-RADIUS=500;X-TITLE=525 8th Ave:geo:-73.9926,40.753784
END:VEVENT
BEGIN:VEVENT
DTSTART;TZID=-05:00:20231130T183000
DTEND;TZID=-05:00:20231130T210000
DTSTAMP:20260423T022751
CREATED:20231111T024550Z
LAST-MODIFIED:20231130T072604Z
UID:10007581-1701369000-1701378000@www.vkind.com
SUMMARY:Veg Night Out at Vue 180 NYC Rooftop
DESCRIPTION:Welcome to our monthly Veg Night Out! \nThis will be a perfect location for us to chill and enjoy the evening with enchanting backdrop. It’s an ideal spot for savoring the city’s charm with a cocktail in hand as evening falls. Join for a toast to the city that never sleeps. \n“Perched on top of the [DoubleTree by Hilton New York Times Square South](https://www.booking.com/hotel/us/radisson-new-york-times-square.en.html?aid=1153070&no_rooms=1&group_adults=2)\, the rooftop is aptly named for its stunning views of the NYC skyline…” per TheRooftopGuide. \n**Vue 180 NYC Rooftop**\nFrom 6:30pm-9:00pm\n525 8th Ave\, New York\, NY\n(212) 255-9000 \n#5 on **NYC Advisor’**s best rooftop bars in NYC\, “You can get classic and specialty cocktails and wines in the chilling air with a great panoramic view…” \nFrom **TheTravel.com**: “.. Vue 180’s claim to fame\, is its iconic view of the Empire State Building. Located in proximity to Madison Square Garden\, this midtown bar serves happy hour drinks daily from 5:00 PM to 7:00 PM…” \nWith all the wonderful vegetarians and vegans who attend each of our events\, every event we do is liked by our members\, but our “Veg Night Out!” events are the most popular of all. People enjoy the fact they can mingle (speak with lots of different people)\, and they love the beautiful venues that we go to. Join us for a stellar evening of lively conversation and lovely surroundings with fellow vegetarians and vegans. \n**For our new members**: this is an incredibly friendly and welcoming group. We’ll be hanging out by the main bar area\, and you can get to know all our wonderful members. \nThis event has no cover and no minimum. But **please do buy a drink or two**\, or as many as you like. The venue requests that you dress appropriately: business\, business casual or smart casual. \nJoin us for a fun and relaxed fall evening socializing with fellow vegetarians and vegans. \n**Train Directions**: Take the (A) (C) (E) (1) (2) (3) to 34th St-Penn Station or (B) (D) (F) (M) (N) (Q) (R) to 34th St-Herald Sq. \nEddie
URL:https://www.vkind.com/vegan-events/veg-night-out-at-vue-180-nyc-rooftop/
LOCATION:Vue 180 Rooftop Bar & Lounge\, 525 8th Ave\, New York\, NY\, 10018\, United States
ATTACH;FMTTYPE=image/jpeg:https://www.vkind.com/wp-content/uploads/2023/11/1024x576-glop2E.tmp_.jpg
GEO:40.753784;-73.9926
X-APPLE-STRUCTURED-LOCATION;VALUE=URI;X-ADDRESS=Vue 180 Rooftop Bar & Lounge 525 8th Ave New York NY 10018 United States;X-APPLE-RADIUS=500;X-TITLE=525 8th Ave:geo:-73.9926,40.753784
END:VEVENT
END:VCALENDAR