BEGIN:VCALENDAR
VERSION:2.0
PRODID:-//Vkind - ECPv6.15.14//NONSGML v1.0//EN
CALSCALE:GREGORIAN
METHOD:PUBLISH
X-WR-CALNAME:Vkind
X-ORIGINAL-URL:https://www.vkind.com
X-WR-CALDESC:Events for Vkind
REFRESH-INTERVAL;VALUE=DURATION:PT1H
X-Robots-Tag:noindex
X-PUBLISHED-TTL:PT1H
BEGIN:VTIMEZONE
TZID:Europe/Amsterdam
BEGIN:DAYLIGHT
TZOFFSETFROM:+0100
TZOFFSETTO:+0200
TZNAME:CEST
DTSTART:20220327T010000
END:DAYLIGHT
BEGIN:STANDARD
TZOFFSETFROM:+0200
TZOFFSETTO:+0100
TZNAME:CET
DTSTART:20221030T010000
END:STANDARD
BEGIN:DAYLIGHT
TZOFFSETFROM:+0100
TZOFFSETTO:+0200
TZNAME:CEST
DTSTART:20230326T010000
END:DAYLIGHT
BEGIN:STANDARD
TZOFFSETFROM:+0200
TZOFFSETTO:+0100
TZNAME:CET
DTSTART:20231029T010000
END:STANDARD
BEGIN:DAYLIGHT
TZOFFSETFROM:+0100
TZOFFSETTO:+0200
TZNAME:CEST
DTSTART:20240331T010000
END:DAYLIGHT
BEGIN:STANDARD
TZOFFSETFROM:+0200
TZOFFSETTO:+0100
TZNAME:CET
DTSTART:20241027T010000
END:STANDARD
END:VTIMEZONE
BEGIN:VEVENT
DTSTART;TZID=Europe/Amsterdam:20230901T190000
DTEND;TZID=Europe/Amsterdam:20230901T230000
DTSTAMP:20260424T000749
CREATED:20230728T135604Z
LAST-MODIFIED:20230728T135604Z
UID:10007470-1693594800-1693609200@www.vkind.com
SUMMARY:AMSTERDAM Worldwide Vegan Chalking Night!
DESCRIPTION:AMSTERDAM Worldwide Vegan Chalking Night! \nJoin animal rights activists across the world for the fourth annual Worldwide Vegan Chalking Night! \n? What is Worldwide Vegan Chalking Night? 12 hours of chalktivism for nonhuman animals!\n? When? Friday\, September 1st\, 2023!\n? Where? Main entrance of Vondelpark\, Amsterdam!\n? Goal? Cover the world with vibrant messages of compassion!\n? Why? All animals deserve moral consideration and respect! \n? GROUP: https://www.facebook.com/groups/2243853762601538\n? INSTAGRAM: https://www.instagram.com/worldveganchalking/\n 
URL:https://www.vkind.com/vegan-events/amsterdam-worldwide-vegan-chalking-night/
LOCATION:Vondelpark\, Vondelpark\, Amsterdam\, Netherlands
ATTACH;FMTTYPE=image/jpeg:https://www.vkind.com/wp-content/uploads/2023/07/AMSTERDAM-Worldwide-Vegan-Chalking-Night.jpg
GEO:52.3579426;4.867551
X-APPLE-STRUCTURED-LOCATION;VALUE=URI;X-ADDRESS=Vondelpark Vondelpark Amsterdam Netherlands;X-APPLE-RADIUS=500;X-TITLE=Vondelpark:geo:4.867551,52.3579426
END:VEVENT
END:VCALENDAR