BEGIN:VCALENDAR
VERSION:2.0
PRODID:-//Vkind - ECPv6.15.14//NONSGML v1.0//EN
CALSCALE:GREGORIAN
METHOD:PUBLISH
X-WR-CALNAME:Vkind
X-ORIGINAL-URL:https://www.vkind.com
X-WR-CALDESC:Events for Vkind
REFRESH-INTERVAL;VALUE=DURATION:PT1H
X-Robots-Tag:noindex
X-PUBLISHED-TTL:PT1H
BEGIN:VTIMEZONE
TZID:-04:00
END:VTIMEZONE
BEGIN:VEVENT
DTSTART;TZID=-04:00:20240613T183000
DTEND;TZID=-04:00:20240613T210000
DTSTAMP:20260423T012606
CREATED:20240529T214558Z
LAST-MODIFIED:20240613T185548Z
UID:10007724-1718303400-1718312400@www.vkind.com
SUMMARY:Williamsburg Veg*n Food Crawl #foodcrawl #BrooklynNYC
DESCRIPTION:**You can join the Veg*n Food Crawl for any length of time\, tag along for part of it\, and leave whenever you wish. We plan to visit several veg*n establishments\, with the option to order some to-go meals\, and eventually gather to eat as a group at Domino Park.** **Buying food/eating at Veg*n establishments is at your discretion.** \nNew York City boasts some fantastic eating and drinking neighborhoods\, and Williamsburg holds its own among the best. As likealocaltours.com states\, Williamsburg is “an influential hub for fashion\, music\, art\, food and of course hipster culture.” Williamsburg\, one of Brooklyn’s most popular and exciting neighborhoods\, straddles old and new. You can enjoy the lively arts\, music\, and boutique scene here\, relax in numerous cafes\, dine at excellent restaurants — and soak up the unique vibe. The neighborhood offers a diverse array of veg*n eateries\, from trendy cafes serving plant-based pastries to innovative restaurants with gourmet veg dishes – Williamsburg’s vibrant vegan food scene is sure to impress. \nJoin us as we walk through the neighborhood of Williamsburg – exploring the local scene\, and venues serving veg*n options. \n**1st Leg Food Crawl – 06:30 PM onwards**\n**Stop 1.1 – Vinnie’s Pizzeria** (148 Bedford Ave\, Brooklyn)\n[http://vinniesbrooklyn.com/](http://vinniesbrooklyn.com/)\nBedford Avenue pizza fixture serving up exotic slices & vegan options from a modest counter. FYI – They have some really awesome vegan Garlic Knots 🙂 \n**Stop 1.2 – Lucy’s Vietnamese – Williamsburg** (112 Berry St\, Brooklyn)\n[http://www.lucysvietnamese.com/](http://www.lucysvietnamese.com/)\nOffbeat chain serving cornmeal-crusted pizzas with quirky Cajun toppings in a kid-friendly space- Vegan Options \n**Stop 1.3 – Garden Carver** (187 Grand St\, Brooklyn)\n[https://gardencarver.com](https://gardencarver.com)\nPlant-Based Butcher Shop \nOR \n**Stop 1.3 – INDAY All Day** (658 Driggs Ave\, Brooklyn)\n[https://www.indayallday.com/williamsburg/](https://www.indayallday.com/williamsburg/)\nINDAY All Day celebrates the joyful connection of food & hospitality\, inspired by Indian cultures around the world. Veg*n and GF options. \n**2nd Leg Food Crawl – 7:45 PM onwards** \n**Stop 2.1 – INDAY All Day** (658 Driggs Ave\, Brooklyn)\n[https://www.indayallday.com/williamsburg/](https://www.indayallday.com/williamsburg/)\nINDAY All Day celebrates the joyful connection of food & hospitality\, inspired by Indian cultures around the world. Veg*n and GF options. \n**Stop 2.2 – Vanessa’s Dumpling House** (310 Bedford Ave\, Brooklyn)\n[http://www.vanessas.com/](http://www.vanessas.com/)\nSmall outfit supplying handmade dumplings\, steamed buns & other Asian faves\, plus bubble teas. Veg*n options. \n**Stop 2.3 – Guevara’s** (319 Kent Ave\, Brooklyn)\n[https://www.guevaras.com/](https://www.guevaras.com/)\nCoffee & vegan sandwiches & pastries served in a bright\, contemporary cafe with a grocery shop. \nIn the end\, we’ll walk up and hangout by the Domino’s Park (Seating Steps ~ **15 River St\, Brooklyn**) – Depending on the weather we might choose to hangout at an alternative location. \n**FOR OUR NEW MEMBERS:** this is an incredibly friendly and welcoming group. We are a FUN group. Join us as we explore Williamsburg neighborhood with lively conversations\, great veg*n food and drinks with fellow vegetarians and vegans. Please wear comfortable clothes and stay hydrated. \n**Food Crawl:** Everyone pays for themselves at veg*n establishments. Most of them take major credit cards. Easy! \n**TRAIN DIRECTIONS:** For Vinnie’s Pizzeria – Take L train to Bedford Ave – 3 Min/ 0.1 Mile. For INDAY All day – Take L train to Bedford Ave – 7 Min/ 0.3 Mile \n**How To Find Us:** Check out comments section on the Meetup page for group location. \nWe would love to have you join our Veg*n Food Crawl – Mark the day!\nKarthik :)) \n**You can join the Veg*n Food Crawl for any length of time\, tag along for part of it\, and leave whenever you wish. We plan to visit several veg*n establishments\, with the option to order some to-go meals\, and eventually gather to eat as a group at Domino Park.** **Buying food/eating at Veg*n establishments is at your discretion.** \nImage Courtesy – archdaily.com/914548/domino-park-james-corner-field-operations
URL:https://www.vkind.com/vegan-events/williamsburg-vegn-food-crawl-foodcrawl-brooklynnyc/
LOCATION:Vinnie’s Pizzeria\, 148 Bedford Ave\, Brooklyn\, NY\, 11249\, United States
ATTACH;FMTTYPE=image/jpeg:https://www.vkind.com/wp-content/uploads/2024/05/1024x576-4H4Ufe.tmp_.jpg
GEO:40.71888;-73.95677
X-APPLE-STRUCTURED-LOCATION;VALUE=URI;X-ADDRESS=Vinnie’s Pizzeria 148 Bedford Ave Brooklyn NY 11249 United States;X-APPLE-RADIUS=500;X-TITLE=148 Bedford Ave:geo:-73.95677,40.71888
END:VEVENT
BEGIN:VEVENT
DTSTART;TZID=-04:00:20221011T183000
DTEND;TZID=-04:00:20221011T210000
DTSTAMP:20260423T012606
CREATED:20220924T115000Z
LAST-MODIFIED:20221011T140453Z
UID:10000298-1665513000-1665522000@www.vkind.com
SUMMARY:Veg*n Pizza Crawl - Williamsburg #BrooklynNYC
DESCRIPTION:**You can join the Pizza crawl for any length of time\, tag along halfway\, and leave the crawl whenever you wish. Buying food/eating at Veg*n establishments is at your discretion.** \nNew York City has some fantastic eating and drinking neighborhoods\, and Williamsburg holds its own among the best. As likealocaltours.com states Williamsburg is “an influential hub for fashion\, music\, art\, food and of course hipster culture.. Williamsburg\, one of Brooklyn’s most popular and exciting neighborhoods\, straddles old and new. You can enjoy the lively arts\, music\, and boutique scene here\, chill in numerous cafes\, dine in some very good restaurants — and soak up the unique vibe.”. \nJoin us as we walk through the neighborhood of Williamsburg – exploring the local scene\, as we eat at PIZZA venues serving veg*n options. \n1st Leg Food Crawl – 06:30 PM onwards \nStop 1.1 – Vinnie’s Pizzeria (148 Bedford Ave\, Brooklyn)\nhttp://vinniesbrooklyn.com/\nBedford Avenue pizza fixture serving up exotic slices & vegan options from a modest counter. \nStop 1.2 – Two Boots Williamsburg (558 Driggs Ave\, Brooklyn)\nhttps://twoboots.com/locations/williamsburg\nOffbeat chain serving cornmeal-crusted pizzas with quirky Cajun toppings in a kid-friendly space- Vegan Options \nStop 1.3 – Ace’s Pizza (637 Driggs Ave\, Brooklyn)\nhttp://www.acesperfectpizza.com/\nDown-to-earth restaurant offering deep dish & thin crust pizza\, plus garlic bread- Vegan Options \n2nd Leg Food Crawl – 8:00 PM onwards \nStop 2.1 – Krispy Krust Pizza (175 Kent Ave\, Brooklyn)\nhttps://www.krispykrustpizzanyc.com/\nDecent selection of regular and grandma slices – Vegan Options \nIn the end\, we’ll walk up and hangout by the Waterfront at “North 5th Street Pier and Park” – (105 River St\, Brooklyn) – Depending on the weather we might choose to hangout at an alternative location. \nFOR OUR NEW MEMBERS: this is an incredibly friendly and welcoming group. We are a FUN group. Join us for a crisp fall season of walking in the Williamsburg neighborhood with lively conversations\, great veg*n pizza and drinks with fellow vegetarians and vegans. Please wear comfortable clothes and stay hydrated. \nFood Crawl – Everyone pays for themselves at veg*n establishments. Most of them take major credit cards. Easy! \nTRAIN DIRECTIONS: For Vinnie’s Pizzeria – Take L train to Bedford Ave – 3 Min/ 0.1 Mile. For Krispy Krust Pizza – Take L train to Bedford Ave – 9 Min/ 0.5 Mile \nWe would love to have you join our Veg*n Pizza Crawl – Mark the day!\nKarthik :)) \n**You can join the Pizza crawl for any length of time\, tag along halfway\, and leave the crawl whenever you wish. Buying food/eating at Veg*n establishments is at your discretion.** \nImage Courtesy – https://www.goodhousekeeping.com/
URL:https://www.vkind.com/vegan-events/vegn-pizza-crawl-williamsburg-brooklynnyc/
LOCATION:Vinnie’s Pizzeria\, 148 Bedford Ave\, Brooklyn\, NY\, 11249\, United States
ATTACH;FMTTYPE=image/jpeg:https://www.vkind.com/wp-content/uploads/2022/09/1024x576-i5mkn3.tmp_.jpg
GEO:40.71888;-73.95677
X-APPLE-STRUCTURED-LOCATION;VALUE=URI;X-ADDRESS=Vinnie’s Pizzeria 148 Bedford Ave Brooklyn NY 11249 United States;X-APPLE-RADIUS=500;X-TITLE=148 Bedford Ave:geo:-73.95677,40.71888
END:VEVENT
END:VCALENDAR