BEGIN:VCALENDAR
VERSION:2.0
PRODID:-//Vkind - ECPv6.15.14//NONSGML v1.0//EN
CALSCALE:GREGORIAN
METHOD:PUBLISH
X-ORIGINAL-URL:https://www.vkind.com
X-WR-CALDESC:Events for Vkind
REFRESH-INTERVAL;VALUE=DURATION:PT1H
X-Robots-Tag:noindex
X-PUBLISHED-TTL:PT1H
BEGIN:VTIMEZONE
TZID:-04:00
END:VTIMEZONE
BEGIN:VEVENT
DTSTART;TZID=-04:00:20250428T190000
DTEND;TZID=-04:00:20250428T210000
DTSTAMP:20260424T154220
CREATED:20250408T043553Z
LAST-MODIFIED:20250411T055046Z
UID:10007921-1745866800-1745874000@www.vkind.com
SUMMARY:Veg Night Out! Versa Rooftop
DESCRIPTION:Welcome to our monthly Veg Night Out! This month we’ll be visiting Versa Rooftop located on 35th Street between 7th and 8th Ave. \n“Located at the Renaissance New York Midtown Hotel\, just around the corner from Madison Square Garden\, is the trendy and upscale VERSA NYC. This modern rooftop restaurant\, bar\, and event space boasts a spacious indoor restaurant and lounge leading out to an equally spacious rooftop terrace\, offering breathtaking views of the Empire State Building and the Midtown skyline\,” **The Coll Places City Guide**. \n**The Rooftop Guide**: “… Quite stylish and sophisticated in setting\, yet very casual and relaxed in vibe …” \n**Time Out**: “…Featuring 12\,000 square feet of open air space and striking views of the Empire State Building\, Versa is NYC’s most versatile restaurant and event space. …” \n**Time – 7:00pm-9:00pm**\n**Address – 218 W 35th Street\, 18th Fl\, New York\, NY** \nJoin us to “:..immerse yourself in remarkable views of the Empire State Building\, just a few blocks east\, and the Hudson Yards\, a few blocks west… \,” **Forbes**. \nWith all the wonderful vegetarians and vegans who attend each of our events\, every event we do is liked by our members\, but our “Veg Night Out!” events are the most popular of all. People enjoy the fact they can mingle (speak with lots of different people)\, and they love the beautiful venues that we go to. Join us for a stellar evening of lively conversation and lovely surroundings with fellow vegetarians and vegans. \n**For our new members:** this is an incredibly friendly and welcoming group. **We’ll be hanging out by the main bar area**\, and you can get to know all our wonderful members. \nThis event has no cover and no minimum. But please do buy a drink or two\, or as many as you like. The venue requests that you dress appropriately: business\, business casual or smart casual. \nJoin us for a fun and relaxed evening socializing with fellow vegetarians and vegans. \n**Where to meet: We’ll be hanging out by the main bar area.** \n**Closest trains**: (A)\, (C)\, (E)\, (1)\, (2)\, (3)\, (B)\, (D)\, (F)\, (M)\, (N)\, (R)\, (Q)\, & (W) to 34th Street. \nEddie
URL:https://www.vkind.com/vegan-events/veg-night-out-versa-rooftop-2/
LOCATION:VERSA\, 218 W 35th St\, New York\, NY\, 10001\, United States
ATTACH;FMTTYPE=image/jpeg:https://www.vkind.com/wp-content/uploads/2024/03/1024x576-CV6ajI.tmp_.jpg
GEO:40.751568;-73.99115
X-APPLE-STRUCTURED-LOCATION;VALUE=URI;X-ADDRESS=VERSA 218 W 35th St New York NY 10001 United States;X-APPLE-RADIUS=500;X-TITLE=218 W 35th St:geo:-73.99115,40.751568
END:VEVENT
BEGIN:VEVENT
DTSTART;TZID=-04:00:20240325T190000
DTEND;TZID=-04:00:20240325T210000
DTSTAMP:20260424T154220
CREATED:20240306T122516Z
LAST-MODIFIED:20240325T183549Z
UID:10007664-1711393200-1711400400@www.vkind.com
SUMMARY:Veg Night Out! Versa Rooftop
DESCRIPTION:Welcome to our monthly Veg Night Out! This month we’ll be visiting Versa Rooftop located on 35th Street between 7th and 8th Ave. \n“Located at the Renaissance New York Midtown Hotel\, just around the corner from Madison Square Garden\, is the trendy and upscale VERSA NYC. This modern rooftop restaurant\, bar\, and event space boasts a spacious indoor restaurant and lounge leading out to an equally spacious rooftop terrace\, offering breathtaking views of the Empire State Building and the Midtown skyline\,” **The Coll Places City Guide**. \n**The Rooftop Guide**: “… Quite stylish and sophisticated in setting\, yet very casual and relaxed in vibe …” \n**Time Out**: “…Featuring 12\,000 square feet of open air space and striking views of the Empire State Building\, Versa is NYC’s most versatile restaurant and event space. …” \n**Time – 7:00pm-9:00pm**\n**Address – 218 W 35th Street\, 18th Fl\, New York\, NY** \nJoin us to “:..immerse yourself in remarkable views of the Empire State Building\, just a few blocks east\, and the Hudson Yards\, a few blocks west… \,” **Forbes**. \nWith all the wonderful vegetarians and vegans who attend each of our events\, every event we do is liked by our members\, but our “Veg Night Out!” events are the most popular of all. People enjoy the fact they can mingle (speak with lots of different people)\, and they love the beautiful venues that we go to. Join us for a stellar evening of lively conversation and lovely surroundings with fellow vegetarians and vegans. \n**For our new members:** this is an incredibly friendly and welcoming group. **We’ll be hanging out by the main bar area**\, and you can get to know all our wonderful members. \nThis event has no cover and no minimum. But please do buy a drink or two\, or as many as you like. The venue requests that you dress appropriately: business\, business casual or smart casual. \nJoin us for a fun and relaxed evening socializing with fellow vegetarians and vegans. \n**Where to meet: We’ll be hanging out by the main bar area.** \n**Closest trains**: (A)\, (C)\, (E)\, (1)\, (2)\, (3)\, (B)\, (D)\, (F)\, (M)\, (N)\, (R)\, (Q)\, & (W) to 34th Street. \nEddie
URL:https://www.vkind.com/vegan-events/veg-night-out-versa-rooftop/
LOCATION:VERSA\, 218 W 35th St\, New York\, NY\, 10001\, United States
ATTACH;FMTTYPE=image/jpeg:https://www.vkind.com/wp-content/uploads/2024/03/1024x576-CV6ajI.tmp_.jpg
GEO:40.751568;-73.99115
X-APPLE-STRUCTURED-LOCATION;VALUE=URI;X-ADDRESS=VERSA 218 W 35th St New York NY 10001 United States;X-APPLE-RADIUS=500;X-TITLE=218 W 35th St:geo:-73.99115,40.751568
END:VEVENT
END:VCALENDAR