BEGIN:VCALENDAR
VERSION:2.0
PRODID:-//Vkind - ECPv6.15.14//NONSGML v1.0//EN
CALSCALE:GREGORIAN
METHOD:PUBLISH
X-ORIGINAL-URL:https://www.vkind.com
X-WR-CALDESC:Events for Vkind
REFRESH-INTERVAL;VALUE=DURATION:PT1H
X-Robots-Tag:noindex
X-PUBLISHED-TTL:PT1H
BEGIN:VTIMEZONE
TZID:-05:00
END:VTIMEZONE
BEGIN:VEVENT
DTSTART;TZID=-05:00:20241216T183000
DTEND;TZID=-05:00:20241216T213000
DTSTAMP:20260424T135453
CREATED:20241202T175044Z
LAST-MODIFIED:20241216T230519Z
UID:10007846-1734373800-1734384600@www.vkind.com
SUMMARY:Veg*n Eats and NYC Holiday Lights Walking Tour #MidtownManhattan
DESCRIPTION:**For the 1st leg of the Holiday Lights Walking Tour\, please meet us at Van Leeuwen’s Ice Cream (1250 6th Ave\, New York) – 6:30 PM. To continue or join us for the 2nd leg of the Holiday Lights Walking Tour\, please meet us at Vegan on the Fly (24 W 45th St\, NYC) at 8:00 PM. You can join us for both the Holiday lights walking tours\, tag along halfway\, or leave the walk whenever you wish. Buying Veg*n food/drink options along the way at various stops is at your discretion.** \nEvery year\, New York City transforms into a twinkling winter wonderland during the holidays – From dazzling Christmas trees to over-the-top window displays and enchanting holiday markets\, there are countless bright ways to celebrate the festive season. Even better\, many of these magical experiences won’t cost you a thing! \nJoin us on a fun Holiday Lights walking tour through the heart of the city\, starting at the iconic Rockefeller Center and ending at the legendary Macy’s Herald Square. Along the way\, you’ll discover stunning light displays\, soak in the holiday cheer\, and make stops along the way for a delicious vegan bite. \nAs donyc.com states “…Nothing says holiday in the Big Apple like the glittering lights that brighten every block. This year\, many festive displays are accessible by foot or car.” \n**1st Leg Holiday Lights Walking Tour – 6:30PM onwards**\nStop 1.1 – Van Leeuwen’s Ice Cream (1250 6th Ave\, New York)\nMeet/Greet location – Grab some sweet treats.\nStop 1.2 – Giant Red Ornaments (1251 6th Avenue\, NYC)\nPhoto Op @ Iconic oversized red Christmas ornaments\nStop 1.3 – Radio City Music Hall (1260 6th Avenue\, NYC)\nAdmire the spectacular lights @ Radio City marquee\nStop 1.4 – Rockefeller Center (45 Rockefeller Plaza\, NYC)\nEnjoy the dazzling Christmas tree\, sparkling ice skating rink\, and festive decorations in and around the plaza.\nStop 1.5 – Saks Fifth Avenue Holiday lights (611 5th Avenue\, NYC)\nExplore Holiday lighting – Most popular Light show paused this year.\nStop 1.6 – Vegan on the Fly (24 W 45th St\, NYC)\nCounter-serve restaurant dishing up plant-based eats. \n***1st Leg Holiday Lights Walking Tour – 0.6 mile/ 15 min walking*** \n**2nd Leg Holiday Lights Walking Tour – 8:00 PM onwards**\nStop 2.1 – Vegan on the Fly (24 W 45th St\, NYC)\nCounter-serve restaurant dishing up plant-based eats.\nStop 2.2 – Bryant Park Winter Village (6th Avenue 42nd -40th St NYC)\nWalk-by Festive atmosphere at Winter village – Holiday market\nStop 2.3 – Macy’s Herald Square (151 W 34th Street\, NYC)\nExplore Store windows featuring incredible animated displays tell enchanting stories. \n***2nd Leg Holiday Lights Walking Tour – 0.9 mile/ 19 min walking*** \nFOR OUR NEW MEMBERS: this is an incredibly friendly and welcoming group. We are a FUN group. Join us for a festive walk in the Midtown NYC with lively conversations\, great food and drinks with fellow vegetarians and vegans. Grab your coziest scarf\, your comfiest shoes\, and let’s explore NYC during this holiday season. \nFree Holiday Lights Walk – Everyone pays for themselves at veg*n establishments. Most of them take major credit cards. Easy! \n**TRAIN DIRECTIONS:** For STOP 1.1 Van Leeuwen’s Ice Cream (1250 6th Ave\, New York) – Take B/D/F/M Train to 47-50 Sts-Rockefeller Ctr – Exit via 6th Ave & 48th St at NE corner – 2 min/ 0.1 mile walk. For STOP 2.1 Vegan on the Fly (24 W 45th St\, NYC) – Take N/Q/R/W Train to Times Sq – 42 St – Take the stairs · Exit via 6th Ave & 42nd St at NW corner – 9 min/ 0.4 mile walk. OR Take B/D/F/M Train to 47-50 Sts-Rockefeller Ctr – Exit via 6th Ave & 47th St at SE corner – 6 min/ 0.3 mile walk \nWe would love to have you join our Holiday Lights Walking tour! \n**For the 1st leg of the Holiday Lights Walking Tour\, please meet us at Van Leeuwen’s Ice Cream (1250 6th Ave\, New York) – 6:30 PM. To continue or join us for the 2nd leg of the Holiday Lights Walking Tour\, please meet us at Vegan on the Fly (24 W 45th St\, NYC) at 8:00 PM. You can join us for both the Holiday lights walking tours\, tag along halfway\, or leave the walk whenever you wish. Buying Veg*n food/drink options along the way at various stops is at your discretion.** \nKarthik :)) \nImage courtesy – https://www.getyourguide.com/new-york-city-l59/
URL:https://www.vkind.com/vegan-events/vegn-eats-and-nyc-holiday-lights-walking-tour-midtownmanhattan/
LOCATION:Van Leeuwen Ice Cream\, 1250 6th Ave\, New York\, NYC\, NY\, 10112\, United States
ATTACH;FMTTYPE=image/jpeg:https://www.vkind.com/wp-content/uploads/2024/12/1024x576-Dil6z3.tmp_.jpg
GEO:40.759514;-73.98046
X-APPLE-STRUCTURED-LOCATION;VALUE=URI;X-ADDRESS=Van Leeuwen Ice Cream 1250 6th Ave New York NYC NY 10112 United States;X-APPLE-RADIUS=500;X-TITLE=1250 6th Ave\, New York:geo:-73.98046,40.759514
END:VEVENT
END:VCALENDAR