BEGIN:VCALENDAR
VERSION:2.0
PRODID:-//Vkind - ECPv6.15.14//NONSGML v1.0//EN
CALSCALE:GREGORIAN
METHOD:PUBLISH
X-ORIGINAL-URL:https://www.vkind.com
X-WR-CALDESC:Events for Vkind
REFRESH-INTERVAL;VALUE=DURATION:PT1H
X-Robots-Tag:noindex
X-PUBLISHED-TTL:PT1H
BEGIN:VTIMEZONE
TZID:-04:00
END:VTIMEZONE
BEGIN:VEVENT
DTSTART;TZID=-04:00:20240716T183000
DTEND;TZID=-04:00:20240716T213000
DTSTAMP:20260423T213054
CREATED:20240625T214532Z
LAST-MODIFIED:20240716T050533Z
UID:10007743-1721154600-1721165400@www.vkind.com
SUMMARY:Vegan Dinner @ Urban Vegan Roots #Astoria #QueensNYC
DESCRIPTION:***Arrive any time between 6:30pm and 9:00pm and stay as long as you want or leave when you need to. Arriving at 7:00pm or 8:00pm is perfectly great.*** \nJoin us for a wonderful Vegan dinner event @ **URBAN VEGAN ROOTS Restaurant**\, serving **American and Latin inspired vegan cuisine**\, pizzas\, chef’s plant forward menu\, seasonal specials. Urban Vegan Roots is an **organic\, plant-based restaurant** located in Astoria Queens\, NY. The restaurant features a variety of vegan and vegetarian dishes\, many of which are inspired by global cuisines. The menu features everything from a vegan version of classic burgers\, to creative vegan takes on traditional dishes such as tacos\, enchiladas\, and burritos. The restaurant also offers an array of vegan desserts and drinks – Full bar\, Cocktails and Mocktails. The venue has earned a reputation for its fresh ingredients and flavorful recipes\, which create a unique and memorable dining experience. The restaurant is committed to providing a safe and welcoming environment for all its customers\, and strives to be an inclusive and diverse space. To ensure sustainability\, Urban Vegan Roots utilizes local and seasonal ingredients whenever possible. The restaurant also supports local farmers and businesses by sourcing from them whenever possible. \nFor more info :\n**Website** – [https://www.urbanveganroots.com/](https://www.urbanveganroots.com/) \nor Follow them on Instagram **@urbanveganroots** \nGOOGLE REVIEW – 4.5/5 stars\nA couple of fans reviewed as follows.. \nDistrict Yatta – “Such an amazing environment with great vegan food. I haven’t had much vegan food but\, if it tastes as amazing as the Warrior Sandwich I just had here! Definitely one of the best sandwiches I’ve had in my life. I’m on board. Phenomenal food\, great atmosphere\, live music and DJs! This place is indeed special! I will be back here” \nThe One WillFocus – “So first\, let me say\, the atmosphere was EXACTLY as it should be. The graffiti\, images\, overall lighting and music were on point. Great job. The bathrooms were spotless and smelled well and I find it rare in various restaurants that bathrooms are that well kept. Second… Our server Gigi was super welcoming\, great personality\, and made sure to make our experience there memorable. She was so great in fact that it was our first indicator that we should and WILL return.\nThird… The food… That was amazing and the fact that my wife is a super particular eater and enjoyed two dishes presented says a lot. The food was presented well\, smelled great\, and tasted even better. Hats off to the chef. The CnW with the Ice cream was too notch and will be my go to going forward. They outside themselves. Really beautiful everything 10/10. Parking: Mainly street parking and free after 7 otherwise paid through meter” \nFor our new members: this is an incredibly friendly and welcoming group. We are a FUN group. Join us for a stellar evening of lively conversations and great food with fellow vegetarians and vegans. \nEveryone pays for themselves. And Urban Vegan Roots takes major credit cards. Easy! \n**Train Directions:** Get to 36 Ave Station (N / W Train) – About 4 min/ 0.2 mile walk to the venue! \nHope to see you there!\nKarthik 🙂 \n***Arrive any time between 6:30pm and 9:00pm and stay as long as you want or leave when you need to. Arriving at 7:00pm or 8:00pm is perfectly great.*** \nImage courtesy – urbanveganroots.com/ Doordash
URL:https://www.vkind.com/vegan-events/vegan-dinner-urban-vegan-roots-astoria-queensnyc/
LOCATION:Urban Vegan Roots\, 34-47 31st St\, Queens\, NY\, 11106\, United States
ATTACH;FMTTYPE=image/jpeg:https://www.vkind.com/wp-content/uploads/2024/06/1024x576-Sea2ME.tmp_.jpg
GEO:40.758427;-73.92804
X-APPLE-STRUCTURED-LOCATION;VALUE=URI;X-ADDRESS=Urban Vegan Roots 34-47 31st St Queens NY 11106 United States;X-APPLE-RADIUS=500;X-TITLE=34-47 31st St:geo:-73.92804,40.758427
END:VEVENT
BEGIN:VEVENT
DTSTART;TZID=-04:00:20230315T183000
DTEND;TZID=-04:00:20230315T210000
DTSTAMP:20260423T213054
CREATED:20230301T073605Z
LAST-MODIFIED:20230315T083450Z
UID:10000454-1678905000-1678914000@www.vkind.com
SUMMARY:Vegan Dinner @ Urban Vegan Roots #AstoriaQueens
DESCRIPTION:***Arrive any time between 6:30pm and 9:00pm and stay as long as you want or leave when you need to. Arriving at 7:00pm or 8:00pm is perfectly great.*** \nJoin us for a wonderful Vegan dinner event @ **URBAN VEGAN ROOTS Restaurant**\, serving American and Latin inspired vegan cuisine\, pizzas\, chef’s plant forward menu\, seasonal specials. Urban Vegan Roots is an **organic\, plant-based restaurant** located in Astoria Queens\, NY. The restaurant features a variety of vegan and vegetarian dishes\, many of which are inspired by global cuisines. The menu features everything from a vegan version of classic burgers\, to creative vegan takes on traditional dishes such as tacos\, enchiladas\, and burritos. The restaurant also offers an array of vegan desserts and drinks – Full bar\, Cocktails and Mocktails. The venue has earned a reputation for its fresh ingredients and flavorful recipes\, which create a unique and memorable dining experience. The restaurant is committed to providing a safe and welcoming environment for all its customers\, and strives to be an inclusive and diverse space. To ensure sustainability\, Urban Vegan Roots utilizes local and seasonal ingredients whenever possible. The restaurant also supports local farmers and businesses by sourcing from them whenever possible. \nFor more info :\n**Website** – [https://www.urbanveganroots.com/](https://www.urbanveganroots.com/) \nor Follow them on Instagram **@urbanveganroots** \nCome join us at Urban Vegan Roots in Queens\, NY for an evening of delicious plant-based cuisine! \nGOOGLE REVIEW – 4.8/5 stars\nA couple of fans reviewed as follows.. \nCADBOOT – “It is our first time in this restaurant and we will try to be kind\, empathetic and realistic. Since we have been vegans for a long time (15 year)we can make sure that these people\, in this place\, know what they are doing. We are from Miami and we can assure you that this place is not only great but also has some of the best if not the best pizza we have ever eaten. We also ate a dish called mushroom empana.. and ok from her some things go on interesting ;? the reality it’s just Spectacular. I recommend this place 100%.” \nRiley Leonarda Harrison – “Wonderful vibes with the decor and music playing. I had the tomato soup with grilled cheese and the Hollywood special pizza which were both very nice. I also appreciate how patient my waiter was. I plan on going again :)” \nFor our new members: this is an incredibly friendly and welcoming group. We are a FUN group. Join us for a stellar evening of lively conversations and great food with fellow vegetarians and vegans. \nEveryone pays for themselves. And Urban Vegan Roots takes major credit cards. Easy! \n**Train Directions:** Get to 36 Ave Station (N / W Train) – About 4 min/ 0.2 mile walk to the venue! \nHope to see you there!\nKarthik 🙂 \n***Arrive any time between 6:30pm and 9:00pm and stay as long as you want or leave when you need to. Arriving at 7:00pm or 8:00pm is perfectly great.*** \nImage courtesy – urbanveganroots.com
URL:https://www.vkind.com/vegan-events/vegan-dinner-urban-vegan-roots-astoriaqueens/
LOCATION:Urban Vegan Roots\, 34-47 31st St\, Queens\, NY\, 11106\, United States
ATTACH;FMTTYPE=image/jpeg:https://www.vkind.com/wp-content/uploads/2023/03/1024x576-HqegN1.tmp_.jpg
GEO:40.758427;-73.92804
X-APPLE-STRUCTURED-LOCATION;VALUE=URI;X-ADDRESS=Urban Vegan Roots 34-47 31st St Queens NY 11106 United States;X-APPLE-RADIUS=500;X-TITLE=34-47 31st St:geo:-73.92804,40.758427
END:VEVENT
END:VCALENDAR