BEGIN:VCALENDAR
VERSION:2.0
PRODID:-//Vkind - ECPv6.15.14//NONSGML v1.0//EN
CALSCALE:GREGORIAN
METHOD:PUBLISH
X-WR-CALNAME:Vkind
X-ORIGINAL-URL:https://www.vkind.com
X-WR-CALDESC:Events for Vkind
REFRESH-INTERVAL;VALUE=DURATION:PT1H
X-Robots-Tag:noindex
X-PUBLISHED-TTL:PT1H
BEGIN:VTIMEZONE
TZID:-05:00
END:VTIMEZONE
BEGIN:VEVENT
DTSTART;TZID=-05:00:20250106T190000
DTEND;TZID=-05:00:20250106T210000
DTSTAMP:20260423T181237
CREATED:20241224T011525Z
LAST-MODIFIED:20241231T030046Z
UID:10007859-1736190000-1736197200@www.vkind.com
SUMMARY:Vegan Dinner at Urban Vegan Kitchen
DESCRIPTION:**Urban Vegan Kitchen** is a trendy American / International vegan restaurant with **a new location on 23rd Street**. They have a large and delectable **all-vegan menu**. (Which includes\, among many other things\, “breakfast all day”.) Click here ([https://urbanvegankitchen.com/menu](https://urbanvegankitchen.com/menu)) for Urban Vegan Kitchen’s menu. \n**TheTravel.com** listed Urban Vegan Kitchen as one of the “**10 Best Vegan Restaurants in NYC**” and wrote: “Feast on dishes like Korean BBQ “wings\,” Chick-un & Waffles\, and a shrimp taco so convincing that it’s real shrimp\, you’ll question if the staff secretly snuck seafood in your dish. Spoiler alert: they did not; their “shrimp” is made of konjac\, a starchy root vegetable native to Southeast Asia.” \nFor those of you who have never attended one of our Meetup events: this is an incredibly friendly & welcoming group. We always warmly welcome new members. Everyone pays for their own meal. Easy! \n**Train Directions:** Take the **F train** to **23rd Street** (corner of 6th Avenue) or the **C or E trains** to **23rd Street** (corner of 8th Avenue). Urban Vegan Kitchen is at 265 West 23rd Street\, between 7th & 8th Avenues. \nLooking forward to see you for a delicious vegan dinner with our wonderful vegetarian and vegan members! \nDavid
URL:https://www.vkind.com/vegan-events/vegan-dinner-at-urban-vegan-kitchen/
LOCATION:Urban Vegan Kitchen\, 265 W 23rd St.\,\, New york\, NY\, 10011\, United States
ATTACH;FMTTYPE=image/jpeg:https://www.vkind.com/wp-content/uploads/2024/12/1024x576-M4hrPq.tmp_.jpg
GEO:40.745148;-73.99771
X-APPLE-STRUCTURED-LOCATION;VALUE=URI;X-ADDRESS=Urban Vegan Kitchen 265 W 23rd St. New york NY 10011 United States;X-APPLE-RADIUS=500;X-TITLE=265 W 23rd St.\,:geo:-73.99771,40.745148
END:VEVENT
BEGIN:VEVENT
DTSTART;TZID=-05:00:20241128T110000
DTEND;TZID=-05:00:20241128T130000
DTSTAMP:20260423T181237
CREATED:20241114T141555Z
LAST-MODIFIED:20241128T170037Z
UID:10007840-1732791600-1732798800@www.vkind.com
SUMMARY:Vegan Thanksgiving Lunch at Urban Vegan Kitchen - Venue #1
DESCRIPTION:It has long been a tradition for our group to organize a Meetup on Thanksgiving Day\, for those of us who are in the city without their family over the holiday. \nWe also warmly invite those who may be going later in the day to their family celebrations\, to start their Thanksgiving Day with fellow vegetarians and vegans. \n*****Please RSVP for one Thanksgiving venue only. Please do not RSVP at two Thanksgiving venues to hold a spot at an additional venue. (If you do RSVP at a second Thanksgiving venue with our group\, you must cancel your RSVP at the first venue. Thank you.)***** \n**Urban Vegan Kitchen** is a trendy American / International vegan restaurant with **a new location on 23td Street**. They have a large and delectable all-vegan menu. Click here ([https://urbanvegankitchen.com/menu](https://urbanvegankitchen.com/menu)) for Urban Vegan Kitchen’s menu. \n**Please arrive promptly\, by 11:00am. There will be one seating only. We will be meeting as a group outside the restaurant\, and then entering as a group when their doors open at 11:00am. Plan to arrive early if needed\, in order to be on time for our group seating at 11:00am. Thank you.** \n**TheTravel.com** listed Urban Vegan Kitchen as one of the “**10 Best Vegan Restaurants in NYC**” and wrote: “Feast on dishes like Korean BBQ “wings\,” Chick-un & Waffles\, and a shrimp taco so convincing that it’s real shrimp\, you’ll question if the staff secretly snuck seafood in your dish. Spoiler alert: they did not; their “shrimp” is made of konjac\, a starchy root vegetable native to Southeast Asia.” \nFor those of you who have never attended one of our Meetup events: this is an incredibly friendly & welcoming group. We’ll be meeting right outside Urban Vegan Kitchen at 11:00am\, and then walking in as a group when the restaurant opens. Everyone pays for their own meal. Easy! \n**Train Directions:** Take the **F train** to **23rd Street** (corner of 6th Avenue) or the **C or E trains** to **23rd Street** (corner of 8th Avenue). Urban Vegan Kitchen is at 265 West 23rd Street\, between 7th & 8th Avenues. \n*****Please RSVP for one Thanksgiving venue only. Please do not RSVP at two Thanksgiving venues to hold a spot at an additional venue. (If you do RSVP at a second Thanksgiving venue with our group\, you must cancel your RSVP at the first venue. Thank you.)***** \n**Please arrive promptly\, by 11:00am. There will be one seating only. We will be meeting as a group outside the restaurant\, and then entering as a group when their doors open at 11:00am. Plan to arrive early if needed\, in order to be on time for our group seating at 11:00am. Thank you.** \nLooking forward to see you on Thanksgiving for a delicious lunch with our wonderful vegetarian and vegan members. \nDavid
URL:https://www.vkind.com/vegan-events/vegan-thanksgiving-lunch-at-urban-vegan-kitchen-2/
LOCATION:Urban Vegan Kitchen\, 265 W 23rd St.\,\, New york\, NY\, 10011\, United States
ATTACH;FMTTYPE=image/jpeg:https://www.vkind.com/wp-content/uploads/2022/11/1024x576-47xTH5.tmp_.jpg
GEO:40.745148;-73.99771
X-APPLE-STRUCTURED-LOCATION;VALUE=URI;X-ADDRESS=Urban Vegan Kitchen 265 W 23rd St. New york NY 10011 United States;X-APPLE-RADIUS=500;X-TITLE=265 W 23rd St.\,:geo:-73.99771,40.745148
END:VEVENT
BEGIN:VEVENT
DTSTART;TZID=-05:00:20231123T120000
DTEND;TZID=-05:00:20231123T140000
DTSTAMP:20260423T181237
CREATED:20231104T004541Z
LAST-MODIFIED:20231123T054544Z
UID:10007576-1700740800-1700748000@www.vkind.com
SUMMARY:Vegan Thanksgiving Lunch at Urban Vegan Kitchen - Venue #1
DESCRIPTION:It has long been a tradition for our group to organize a Meetup on Thanksgiving Day\, for those of us who are in the city without their family over the holiday. \nWe also warmly invite those who may be going later in the day to their family celebrations\, to start their Thanksgiving Day with fellow vegetarians and vegans. \n*****You may not RSVP for more than one of our Thanksgiving events. If you RSVP yes for this one and you’ve already RSVP’d for another Thanksgiving meal of ours\, please change that RSVP to no. Please adjust your RSVPs so that you are RSVPing for one Thanksgiving venue only\, otherwise your RSVPs will be removed. Thank you.***** \n**Urban Vegan Kitchen** is a trendy American / International vegan restaurant on Carmine Street in the West Village. It is one of my personal favorites\, and a late night hangout for some of our meetup group members. They have a large and delectable all-vegan menu. Click here ([https://order.online/store/urban-vegan-kitchen-new-york-30020/](https://order.online/store/urban-vegan-kitchen-new-york-30020/)) for Urban Vegan Kitchen’s extensive vegan menu\, which includes cocktails and alcoholic drinks. \n**Please arrive promptly\, by 12:00 noon. There will be one seating only. We will be meeting as a group outside the restaurant\, and then entering as a group when their doors open at 12:00 noon. Plan to arrive early if needed\, in order to be on time for our group seating at 12 noon. Thank you.** \n**TheTravel.com** listed Urban Vegan Kitchen as one of the “**10 Best Vegan Restaurants in NYC**” and wrote: “Feast on dishes like Korean BBQ “wings\,” Chick-un & Waffles\, and a shrimp taco so convincing that it’s real shrimp\, you’ll question if the staff secretly snuck seafood in your dish. Spoiler alert: they did not; their “shrimp” is made of konjac\, a starchy root vegetable native to Southeast Asia.” \nFor those of you who have never attended one of our Meetup events: this is an incredibly friendly & welcoming group. We’ll be meeting right outside Urban Vegan Kitchen at 12 noon\, and then walking in as a group when the restaurant opens. Everyone pays for their own meal. Easy! \n**Train Directions:** A\, B\, C\, D\, E\, F & M Trains to West 4th St.-Washington Sq. Or take the 1 Train to Houston St. \nLooking forward to see you on Thanksgiving for a delicious lunch with our wonderful vegetarian and vegan members. \n**Please arrive promptly\, by 12:00 noon. There will be one seating only. We will be meeting as a group outside the restaurant\, and then entering as a group when their doors open at 12:00 noon. Plan to arrive early if needed\, in order to be on time for our group seating at 12 noon. Thank you. Everyone pays for their own meal.** \n*****You may not RSVP for more than one of our Thanksgiving events. If you RSVP yes for this one and you’ve already RSVP’d for another Thanksgiving meal of ours\, please change that RSVP to no. Please adjust your RSVPs so that you are RSVPing for one Thanksgiving venue only\, otherwise your RSVPs will be removed. Thank you.***** \nDavid
URL:https://www.vkind.com/vegan-events/vegan-thanksgiving-lunch-at-urban-vegan-kitchen/
LOCATION:Urban Vegan Kitchen\, 265 W 23rd St.\,\, New york\, NY\, 10011\, United States
ATTACH;FMTTYPE=image/jpeg:https://www.vkind.com/wp-content/uploads/2022/11/1024x576-47xTH5.tmp_.jpg
GEO:40.745148;-73.99771
X-APPLE-STRUCTURED-LOCATION;VALUE=URI;X-ADDRESS=Urban Vegan Kitchen 265 W 23rd St. New york NY 10011 United States;X-APPLE-RADIUS=500;X-TITLE=265 W 23rd St.\,:geo:-73.99771,40.745148
END:VEVENT
BEGIN:VEVENT
DTSTART;TZID=-05:00:20221124T120000
DTEND;TZID=-05:00:20221124T140000
DTSTAMP:20260423T181237
CREATED:20221110T175045Z
LAST-MODIFIED:20221123T232030Z
UID:10000343-1669291200-1669298400@www.vkind.com
SUMMARY:Vegan Thanksgiving Lunch at Urban Vegan Kitchen (Limited Attendance) - Venue #2
DESCRIPTION:It has long been a tradition for our group to organize a Meetup on Thanksgiving Day\, for those of us who are in the city without their family over the holiday. \nWe also warmly invite those who may be going later in the day to their family celebrations\, to start their Thanksgiving Day with fellow vegetarians and vegans. \n**Urban Vegan Kitchen** is a trendy American / International vegan restaurant on Carmine Street in the West Village. It is one of my personal favorites\, and a late night hangout for some of our meetup group members. They have a large and delectable all-vegan menu. Click here ([http://cheqout.com/o/uvk](http://cheqout.com/o/uvk)) for Urban Vegan Kitchen’s extensive vegan menu\, which includes cocktails and alcoholic drinks. \n*****Please RSVP for one Thanksgiving venue only. Please do not RSVP at two Thanksgiving venues to hold a spot at an additional venue.***** \n**Please arrive promptly\, by 12:00 noon. There will be one seating only. We will be meeting as a group outside the restaurant\, and then entering as a group when their doors open at 12:00 noon. Plan to arrive early if needed\, in order to be on time for our group seating at 12 noon. Thank you.** \nLast week (Nov. 1st)\, **TheTravel.com** listed Urban Vegan Kitchen as one of the “**10 Best Vegan Restaurants in NYC**” and wrote: “Feast on dishes like Korean BBQ “wings\,” Chick-un & Waffles\, and a shrimp taco so convincing that it’s real shrimp\, you’ll question if the staff secretly snuck seafood in your dish. Spoiler alert: they did not; their “shrimp” is made of konjac\, a starchy root vegetable native to Southeast Asia.” \nFor those of you who have never attended one of our Meetup events: this is an incredibly friendly & welcoming group. We’ll be meeting right outside Urban Vegan Kitchen at 12 noon\, and then walking in as a group when the restaurant opens. Everyone pays for their own meal. Easy! \n*****Please RSVP for one Thanksgiving venue only. Please do not RSVP at two Thanksgiving venues to hold a spot at an additional venue.***** \n**Train Directions:** A\, B\, C\, D\, E\, F & M Trains to West 4th St.-Washington Sq. Or take the 1 Train to Houston St. \nLooking forward to see you on Thanksgiving for a delicious lunch with our wonderful vegetarian and vegan members. \n**Please arrive promptly\, by 12:00 noon. There will be one seating only. We will be meeting as a group outside the restaurant\, and then entering as a group when their doors open at 12:00 noon. Plan to arrive early if needed\, in order to be on time for our group seating at 12 noon. Thank you. Everyone pays for their own meal.** \nDavid
URL:https://www.vkind.com/vegan-events/vegan-thanksgiving-lunch-at-urban-vegan-kitchen-limited-attendance-venue-2/
LOCATION:Urban Vegan Kitchen\, 265 W 23rd St.\,\, New york\, NY\, 10011\, United States
ATTACH;FMTTYPE=image/jpeg:https://www.vkind.com/wp-content/uploads/2022/11/1024x576-47xTH5.tmp_.jpg
GEO:40.745148;-73.99771
X-APPLE-STRUCTURED-LOCATION;VALUE=URI;X-ADDRESS=Urban Vegan Kitchen 265 W 23rd St. New york NY 10011 United States;X-APPLE-RADIUS=500;X-TITLE=265 W 23rd St.\,:geo:-73.99771,40.745148
END:VEVENT
END:VCALENDAR