BEGIN:VCALENDAR
VERSION:2.0
PRODID:-//Vkind - ECPv6.15.14//NONSGML v1.0//EN
CALSCALE:GREGORIAN
METHOD:PUBLISH
X-WR-CALNAME:Vkind
X-ORIGINAL-URL:https://www.vkind.com
X-WR-CALDESC:Events for Vkind
REFRESH-INTERVAL;VALUE=DURATION:PT1H
X-Robots-Tag:noindex
X-PUBLISHED-TTL:PT1H
BEGIN:VTIMEZONE
TZID:-04:00
END:VTIMEZONE
BEGIN:VTIMEZONE
TZID:-05:00
END:VTIMEZONE
BEGIN:VEVENT
DTSTART;TZID=-04:00:20240331T140000
DTEND;TZID=-04:00:20240331T160000
DTSTAMP:20260423T212850
CREATED:20240310T215052Z
LAST-MODIFIED:20240331T114545Z
UID:10007668-1711893600-1711900800@www.vkind.com
SUMMARY:VSDC Running Group
DESCRIPTION:The running group will meet in the neighborhood right behind Ben’s Chili Bowl on U Street NW. (You can directly message Miles Harter for the details.) \nWe will run between three and six miles depending on what folks want to do. Runners can bring bags\, and there will be a secure place inside to leave them. We will also have a vegan dessert afterwards\, a birthday cake for one of our runners! \nYes\, we realize that March 31 also happens to be Easter Sunday\, but it was the only date in the next month or so that worked for all the runners at our first run earlier this month. And anyone also free to celebrate Easter earlier in the day. \nWhen you sign up to join\, you automatically acknowledge [VSDC’s Liability Waiver](https://vsdc.org/activity-waiver/) \nBy coming to this event\, we expect you to follow the code of conduct found at [Policies – VSDC – Veg Society of DC](https://vsdc.org/policies/) \n**VSDC: More Than A Meetup**\nWe are so glad to have you as part of The Veg Society of DC Vegan Meetup group\, and we enjoy seeing you at our events. Did you know that [VSDC](http://www.vsdc.org/) is a nonprofit organization with membership benefits? \nWith VSDC membership\, you will save money at area restaurants and businesses\, attend VSDC member-only events\, and\, most importantly\, support us as a clear and consistent voice for improving the lives of all beings through community-building and education centered on the benefits of a vegan diet and lifestyle. \nThe VSDC membership fee is minimal\, but the impact is significant! [Become a member of VSDC](https://vsdc.org/membership/). \n**VSDC. Creating communities. For your health\, the animals\, and the planet.**
URL:https://www.vkind.com/vegan-events/vsdc-running-group-2/
LOCATION:U Street Northwest\, U St NW\, Washington\, DC\, United States
ATTACH;FMTTYPE=image/jpeg:https://www.vkind.com/wp-content/uploads/2024/02/1024x576-ciT8Gj.tmp_.jpg
GEO:38.917;-77.025276
X-APPLE-STRUCTURED-LOCATION;VALUE=URI;X-ADDRESS=U Street Northwest U St NW Washington DC United States;X-APPLE-RADIUS=500;X-TITLE=U St NW:geo:-77.025276,38.917
END:VEVENT
BEGIN:VEVENT
DTSTART;TZID=-05:00:20240303T140000
DTEND;TZID=-05:00:20240303T160000
DTSTAMP:20260423T212850
CREATED:20240208T035057Z
LAST-MODIFIED:20240303T165512Z
UID:10007643-1709474400-1709481600@www.vkind.com
SUMMARY:VSDC Running Group
DESCRIPTION:The running group will meet in the neighborhood right behind Ben’s Chili Bowl on U Street NW. (Details supplied later.) We will run between three and six miles depending on what folks want to do. Runners can bring bags\, and there will be a secure place inside to leave them. \nWhen you sign up to join\, you automatically acknowledge [VSDC’s Liability Waiver](https://vsdc.org/activity-waiver/) \nBy coming to this event\, we expect you to follow the code of conduct found at [Policies – VSDC – Veg Society of DC](https://vsdc.org/policies/) \n**VSDC: More Than A Meetup**\nWe are so glad to have you as part of The Veg Society of DC Vegan Meetup group\, and we enjoy seeing you at our events. Did you know that [VSDC](http://www.vsdc.org/) is a nonprofit organization with membership benefits? \nWith VSDC membership\, you will save money at area restaurants and businesses\, attend VSDC member-only events\, and\, most importantly\, support us as a clear and consistent voice for improving the lives of all beings through community-building and education centered on the benefits of a vegan diet and lifestyle. \nThe VSDC membership fee is minimal\, but the impact is significant! [Become a member of VSDC](https://vsdc.org/membership/). \n**VSDC. Creating communities. For your health\, the animals\, and the planet.**
URL:https://www.vkind.com/vegan-events/vsdc-running-group/
LOCATION:U Street Northwest\, U St NW\, Washington\, DC\, United States
ATTACH;FMTTYPE=image/jpeg:https://www.vkind.com/wp-content/uploads/2024/02/1024x576-ciT8Gj.tmp_.jpg
GEO:38.917;-77.025276
X-APPLE-STRUCTURED-LOCATION;VALUE=URI;X-ADDRESS=U Street Northwest U St NW Washington DC United States;X-APPLE-RADIUS=500;X-TITLE=U St NW:geo:-77.025276,38.917
END:VEVENT
END:VCALENDAR