BEGIN:VCALENDAR
VERSION:2.0
PRODID:-//Vkind - ECPv6.15.14//NONSGML v1.0//EN
CALSCALE:GREGORIAN
METHOD:PUBLISH
X-ORIGINAL-URL:https://www.vkind.com
X-WR-CALDESC:Events for Vkind
REFRESH-INTERVAL;VALUE=DURATION:PT1H
X-Robots-Tag:noindex
X-PUBLISHED-TTL:PT1H
BEGIN:VTIMEZONE
TZID:America/Chicago
BEGIN:DAYLIGHT
TZOFFSETFROM:-0600
TZOFFSETTO:-0500
TZNAME:CDT
DTSTART:20220313T080000
END:DAYLIGHT
BEGIN:STANDARD
TZOFFSETFROM:-0500
TZOFFSETTO:-0600
TZNAME:CST
DTSTART:20221106T070000
END:STANDARD
BEGIN:DAYLIGHT
TZOFFSETFROM:-0600
TZOFFSETTO:-0500
TZNAME:CDT
DTSTART:20230312T080000
END:DAYLIGHT
BEGIN:STANDARD
TZOFFSETFROM:-0500
TZOFFSETTO:-0600
TZNAME:CST
DTSTART:20231105T070000
END:STANDARD
BEGIN:DAYLIGHT
TZOFFSETFROM:-0600
TZOFFSETTO:-0500
TZNAME:CDT
DTSTART:20240310T080000
END:DAYLIGHT
BEGIN:STANDARD
TZOFFSETFROM:-0500
TZOFFSETTO:-0600
TZNAME:CST
DTSTART:20241103T070000
END:STANDARD
END:VTIMEZONE
BEGIN:VEVENT
DTSTART;TZID=America/Chicago:20230818T190000
DTEND;TZID=America/Chicago:20230818T220000
DTSTAMP:20260423T130939
CREATED:20230726T151225Z
LAST-MODIFIED:20230726T151225Z
UID:10001378-1692385200-1692396000@www.vkind.com
SUMMARY:ALL VEGAN FEAST: Twilight Dinner #20
DESCRIPTION:For the first time\, I’ll be presenting a completely plant based\, multi-course dinner to celebrate the 20th Twilight Dinner. No meat\, no seafood\, no dairy; just an inventive take on the glory of local farmers’ produce. I began presenting Twilight Dinners at Milk and Honey Cafe in Wicker Park\, way back in 2018. They’ve come a long way since then and I am excited to celebrate. While this is not an anniversary dinner per se\, it is a very special dinner nonetheless. Rest assured this will be a dinner you don’t want to miss! \nSeating limited to 18 diners. Events sell out quickly\, so reserve seats now. $125 /ticket \nRSVP / TICKETS must be purchased by Aug 15\, 2023 – MAKE RESERVATIONS \nSeating begins at 7:00pm on Fri\, August 18\, 2023
URL:https://www.vkind.com/vegan-events/all-vegan-feast-twilight-dinner-20/
LOCATION:Twilight Kitchen\, 7135 North Clark Street\, Chicago\, IL\, 60626\, United States
ATTACH;FMTTYPE=image/jpeg:https://www.vkind.com/wp-content/uploads/2023/07/ALL-VEGAN-FEAST-Twilight-Dinner-20.jpg
GEO:42.0124303;-87.6743631
X-APPLE-STRUCTURED-LOCATION;VALUE=URI;X-ADDRESS=Twilight Kitchen 7135 North Clark Street Chicago IL 60626 United States;X-APPLE-RADIUS=500;X-TITLE=7135 North Clark Street:geo:-87.6743631,42.0124303
END:VEVENT
END:VCALENDAR