BEGIN:VCALENDAR
VERSION:2.0
PRODID:-//Vkind - ECPv6.15.14//NONSGML v1.0//EN
CALSCALE:GREGORIAN
METHOD:PUBLISH
X-WR-CALNAME:Vkind
X-ORIGINAL-URL:https://www.vkind.com
X-WR-CALDESC:Events for Vkind
REFRESH-INTERVAL;VALUE=DURATION:PT1H
X-Robots-Tag:noindex
X-PUBLISHED-TTL:PT1H
BEGIN:VTIMEZONE
TZID:-05:00
END:VTIMEZONE
BEGIN:VEVENT
DTSTART;TZID=-05:00:20240522T180000
DTEND;TZID=-05:00:20240522T200000
DTSTAMP:20260423T005448
CREATED:20240428T124527Z
LAST-MODIFIED:20240521T181552Z
UID:10007698-1716400800-1716408000@www.vkind.com
SUMMARY:VEGAN DINING AT TON-ICHI RAMEN!
DESCRIPTION:!!! PLEASE READ THE ENTIRE EVENT DESCRIPTION AND AGREE WITH THE EVENT ‘RSVP TERMS’ BEFORE RSVPING !!! \nJoin us for an authentic Japanese style dinner at TON-ICHI RAMEN! The restaurant welcomes us by offering us a special price for their classic Vegan Ramen ($10 vs reg. $13.88) you can also order any other vegan options (Spring salad\, Seaweed salad\, Crispy Brussel Sprout\, Edamame\, etc.) with 15% discount during the event. Everyone will pay separately and directly to the restaurant. \nRSVP TERMS: BY RSVPING FOR THE EVENT YOU COMMIT TO SHOW UP OR PAY FOR YOUR RSVP UNLESS YOU CANCEL BEFORE MAY 20 @ 12PM. THIS INCLUDES ANY GUESTS ON YOUR RSVP. IF YOU RSVP’d BUT DON’T COME (UNLESS CANCELED ON TIME)\, YOU PAY $10 ON-LINE (PLUS FOR YOUR GUESTS\, IF ANY). ORGANIZERS WILL CONTACT YOU. \nPlease invite your friends/family to enjoy this evening with us. \nSPACE IS LIMITED – PLEASE RSVP IN ADVANCE NOT TO MISS THIS GREAT OPPORTUNITY TO ENJOY THE DINING\, SOCIALIZING\, AND MAKING NEW FRIENDS! \nIf the event is full and you join the Waitlist\, you can be moved to the RSVP list whenever other people cancel their RSVP. Please remove yourself from the Waitlist if you can no longer commit to coming. Once you are moved from the waitlist to an active RSVP\, and you do not attend\, RSVP TERMS will apply. \nAny question or comments? Car-pooling arrangements? Please use the “Comments” section on the event page.
URL:https://www.vkind.com/vegan-events/vegan-dining-at-ton-ichi-ramen/
LOCATION:Ton-Ichi Ramen\, 17W422 W 22nd St\, Oakbrook Terrace\, IL\, 60181\, United States
ATTACH;FMTTYPE=image/jpeg:https://www.vkind.com/wp-content/uploads/2024/04/1024x576-9b015T.tmp_.jpg
GEO:41.84706;-87.968666
X-APPLE-STRUCTURED-LOCATION;VALUE=URI;X-ADDRESS=Ton-Ichi Ramen 17W422 W 22nd St Oakbrook Terrace IL 60181 United States;X-APPLE-RADIUS=500;X-TITLE=17W422 W 22nd St:geo:-87.968666,41.84706
END:VEVENT
END:VCALENDAR