BEGIN:VCALENDAR
VERSION:2.0
PRODID:-//Vkind - ECPv6.15.14//NONSGML v1.0//EN
CALSCALE:GREGORIAN
METHOD:PUBLISH
X-ORIGINAL-URL:https://www.vkind.com
X-WR-CALDESC:Events for Vkind
REFRESH-INTERVAL;VALUE=DURATION:PT1H
X-Robots-Tag:noindex
X-PUBLISHED-TTL:PT1H
BEGIN:VTIMEZONE
TZID:-04:00
END:VTIMEZONE
BEGIN:VEVENT
DTSTART;TZID=-04:00:20231021T113000
DTEND;TZID=-04:00:20231021T170000
DTSTAMP:20260422T225837
CREATED:20231005T132550Z
LAST-MODIFIED:20231021T200038Z
UID:10007556-1697887800-1697907600@www.vkind.com
SUMMARY:Veg*n Eats and SOHO Art Gallery Walk #LowerManhattan
DESCRIPTION:**For the 1st Art Walk Leg please meet us at Think Coffee (1 Bleecker St\, NYC) – 11:30 AM. To continue or join us for the 2nd Art Walk Leg please meet us at Neat Burger (25 Cleveland Pl\, NYC) at 2:30 PM. You can join us for both the art walk legs\, tag along halfway\, and leave the walk whenever you wish. Buying Veg*n food/drink options along the way at various Stops is at your discretion.** \nSoho\, a vibrant neighborhood in Manhattan\, New York City\, is renowned for its thriving art scene. The area boasts a plethora of art galleries that cater to a diverse range of tastes and styles. From contemporary and abstract art to photography and sculpture\, Soho’s galleries offer a rich tapestry of artistic expression. Whether you’re a seasoned art enthusiast or simply looking for a cultural outing\, Soho’s art galleries are a must-visit destination for anyone seeking inspiration and a glimpse into the ever-evolving art landscape of New York City. \nAs NYCgo.com states “New York City’s art galleries are as varied and surprising as NYC itself. Thankfully\, they’re mostly clustered into six main neighborhoods\, each with its own artistic vibe…Regardless of what’s being shown\, you’re guaranteed to encounter art that will amaze you—**all for FREE**.” \nJoin us as we walk through the neighborhood of Lower East Side – exploring local art galleries and eat/shop at veg*n establishments. \n**1st Leg Art Walk – 11:30 AM onwards**\nStop 1.1 – Think Coffee (1 Bleecker St\, NYC)\nMeet/Greet at Coffee Shop.\nStop 1.2 – The Hole NYC (312 Bowery\, NYC)\nGallery Info at [http://theholenyc.com/](http://theholenyc.com/)\nStop 1.3 – Yonah Schimmel Knishes (137 E Houston St\, NYC)\nQuick Bite/drink at Oldest Knish store w/ Vegan Options – Bring Cash$$\nStop 1.4 – Sperone Westwater(257 Bowery St\, NYC)\nGallery Info at [https://www.speronewestwater.com/](https://www.speronewestwater.com/)\nStop 1.5 – Fridman Gallery(169 Bowery St\, NYC)\nGallery Info at [https://www.fridmangallery.com/](https://www.fridmangallery.com/)\nStop 1.6 – Neat Burger (25 Cleveland Pl\, NYC)\nQuick Bite/drink\, serving plant based options for all-American classics\n*1st Leg Art Walk coverage – 0.99 mile/ 22 min walking*\n**2nd Leg Art Walk – 2:30 PM onwards**\nStop 2.1 – Neat Burger (25 Cleveland Pl\, NYC)\nQuick Bite/drink\, serving plant based options for all-American classics\nStop 2.2 – Andrew Edlin Gallery (212 Bowery\, NYC)\nGallery Info at [https://www.edlingallery.com/](https://www.edlingallery.com/)\nStop 2.3 – Proxy CO (121 Orchard St\, NYC)\nGallery info at [https://www.proxycogallery.com/](https://www.proxycogallery.com/)\nStop 2.4 – Erin McKenna’s Bakery NYC (248 Broome St\, NYC)\nQuick bite at all vegan/ kosher/ gluten-free bakery\nStop 2.5 – Orchard Grocer (78 Orchard St\, NYC)\nShop/Quick Bite at this Vegan venue\nStop FINAL – Marc Straus Gallery (299 Grand St\, NYC)\nGallery Info at [https://www.marcstraus.com/](https://www.marcstraus.com/)\n*2nd Leg Art Walk coverage – 0.9 mile/ 21 min walking* \nFOR OUR NEW MEMBERS: this is an incredibly friendly and welcoming group. We are a FUN group. Join us for a stellar afternoon of walk in the Lower East Side with lively conversations\, great food and drinks with fellow vegetarians and vegans. \nFree Gallery Walk – Everyone pays for themselves at veg*n establishments. Most of them take major credit cards. Easy! \nTRAIN DIRECTIONS: For Think Coffee – Take B/D/F/M or 6 Train to Bleecker St – Lafayette St Subway Station – 5 min/ 0.2 mile walk. For Neat Burger – Take R train to Prince St Station – 5 min / 0.2 mile walk. \nWe would love to have you join our ART Walk – Mark the day! \n**For the 1st Art Walk Leg please meet us at Think Coffee (1 Bleecker St\, NYC) – 11:30 AM. To continue or join us for the 2nd Art Walk Leg please meet us at Neat Burger (25 Cleveland Pl\, NYC) at 2:30 PM. You can join us for both the art walk legs\, tag along halfway\, and leave the walk whenever you wish. Buying Veg*n food/drink options along the way at various Stops is at your discretion.** \nKarthik :)) \nImage courtesy – https://www.nyctourism.com/
URL:https://www.vkind.com/vegan-events/vegn-eats-and-soho-art-gallery-walk-lowermanhattan/
LOCATION:Think Coffee\, 1 Bleecker St\, New York\, NY\, 10003\, us
ATTACH;FMTTYPE=image/jpeg:https://www.vkind.com/wp-content/uploads/2023/10/1024x576-zyu2OR.tmp_.jpg
GEO:40.725418;-73.99243
X-APPLE-STRUCTURED-LOCATION;VALUE=URI;X-ADDRESS=Think Coffee 1 Bleecker St New York NY 10003 us;X-APPLE-RADIUS=500;X-TITLE=1 Bleecker St:geo:-73.99243,40.725418
END:VEVENT
END:VCALENDAR