BEGIN:VCALENDAR
VERSION:2.0
PRODID:-//Vkind - ECPv6.15.14//NONSGML v1.0//EN
CALSCALE:GREGORIAN
METHOD:PUBLISH
X-ORIGINAL-URL:https://www.vkind.com
X-WR-CALDESC:Events for Vkind
REFRESH-INTERVAL;VALUE=DURATION:PT1H
X-Robots-Tag:noindex
X-PUBLISHED-TTL:PT1H
BEGIN:VTIMEZONE
TZID:-05:00
END:VTIMEZONE
BEGIN:VEVENT
DTSTART;TZID=-05:00:20250417T180000
DTEND;TZID=-05:00:20250417T192000
DTSTAMP:20260423T172137
CREATED:20250325T014524Z
LAST-MODIFIED:20250410T051533Z
UID:10007913-1744912800-1744917600@www.vkind.com
SUMMARY:Eloise Butler Gardens walk
DESCRIPTION:Walk around Eloise Butler Gardens in Theodore Wirth Park which opens this year on April 15. Only week day it stays open until 8 is Thursdays. \nFree parking at Wirth Lake beach\, will start from there.
URL:https://www.vkind.com/vegan-events/eloise-butler-gardens-walk/
LOCATION:Theodore Wirth Lake Beach\, 3200 Glenwood Ave. N\, Minneapolis\, MN\, 55405\, United States
ATTACH;FMTTYPE=image/jpeg:https://www.vkind.com/wp-content/uploads/2022/06/1024x576-66Qh71.tmp_.jpg
GEO:44.979797;-93.32347
X-APPLE-STRUCTURED-LOCATION;VALUE=URI;X-ADDRESS=Theodore Wirth Lake Beach 3200 Glenwood Ave. N Minneapolis MN 55405 United States;X-APPLE-RADIUS=500;X-TITLE=3200 Glenwood Ave. N:geo:-93.32347,44.979797
END:VEVENT
END:VCALENDAR