BEGIN:VCALENDAR
VERSION:2.0
PRODID:-//Vkind - ECPv6.15.14//NONSGML v1.0//EN
CALSCALE:GREGORIAN
METHOD:PUBLISH
X-ORIGINAL-URL:https://www.vkind.com
X-WR-CALDESC:Events for Vkind
REFRESH-INTERVAL;VALUE=DURATION:PT1H
X-Robots-Tag:noindex
X-PUBLISHED-TTL:PT1H
BEGIN:VTIMEZONE
TZID:-05:00
END:VTIMEZONE
BEGIN:VEVENT
DTSTART;TZID=-05:00:20221207T190000
DTEND;TZID=-05:00:20221207T220000
DTSTAMP:20260424T060220
CREATED:20221127T233542Z
LAST-MODIFIED:20221208T000523Z
UID:10000371-1670439600-1670450400@www.vkind.com
SUMMARY:Veg*n Dinner -  The Vegoist @ 113 Restaurant #LowerEastSide
DESCRIPTION:***Arrive any time between 7:00pm and 10:00pm and stay as long as you want or leave when you need to. Arriving at 8:00pm or 9:00pm is perfectly great. We will be dining indoors.*** \nJoin us for a wonderful Veg*n dinner event at **THE VEGOIST @ 113** **Restaurant**\, this venue is fairly new and it is run by the same group that also runs No-5 NYC restaurant in Astoria Queens. Vegoist @ 113 venue used to the famous Mehanata Bulgarian bar (the one with infamous Ice cage room :))\, which closed its door during the pandemic. As this venue serves both vegan and non-vegan food\, it is easy to invite friends/family who might be curious and like to explore plant based options – FYI they have Vegan Bar! (Of course\, as always\, no meat eating is allowed at our meetups.) \nFor more info :\nCheck them on Instagram **@the_vegoist_113** \nCome join us for Dinner\, as we plan to support their vegan venture! \nGOOGLE REVIEW – 4.7/5 stars\nA couple of fans reviewed as follows.. \nEmma P – “Phenomenal experience! The food was delicious and the service was amazing! We ordered the buffalo cauliflower drumsticks (very spicy but so good)\, truffle Mac and cheese\, crab cakes\, truffle fries\, strawberry arugula salad and three types of tacos (all the vegan versions). Flavors were delicious and portion sizes were great\, perfect for sharing too! For desert we had the death by chocolate\, carrot cake and the white chocolate raspberry cheesecake. All were delicious. I’m not a fan of cheesecake but the white chocolate cheesecake was one of the best desserts I’ve had. The carrot cake and the chocolate cake were moist and frosting was amazing. The atmosphere inside the restaurant was perfect and I can’t give our waitress enough praise. Highly recommend for anyone wanting a delicious meal! We even took some food to go:)” \nDima – “Absolutely amazing! The place is beautiful\, cozy and elegant! The food is fresh and awesome! Delicious high quality plates\, selection of wines and great service. Love it !” \nFor our new members: this is an incredibly friendly and welcoming group. We are a FUN group. Join us for a stellar evening of lively conversations and great food with fellow vegetarians and vegans. \nEveryone pays for themselves. And Vegoist takes major credit cards. Easy! \n**Train Directions:** Get to Delancey St · Essex St Station (F/M Train) – 2 min/ 499 ft walk \nWe would love to have you there..\nKarthik 🙂 \n***Arrive any time between 7:00pm and 10:00pm and stay as long as you want or leave when you need to. Arriving at 8:00pm or 9:00pm is perfectly great. We will be dining indoors.*** \nImage courtesy – tagvenue.com
URL:https://www.vkind.com/vegan-events/vegn-dinner-the-vegoist-113-restaurant-lowereastside/
LOCATION:The Vegoist at 113\, 113 Ludlow St\, New York\, NY\, 10002\, us
ATTACH;FMTTYPE=image/jpeg:https://www.vkind.com/wp-content/uploads/2022/11/1024x576-BZrBp3.tmp_.jpg
GEO:40.719482;-73.988914
X-APPLE-STRUCTURED-LOCATION;VALUE=URI;X-ADDRESS=The Vegoist at 113 113 Ludlow St New York NY 10002 us;X-APPLE-RADIUS=500;X-TITLE=113 Ludlow St:geo:-73.988914,40.719482
END:VEVENT
END:VCALENDAR