BEGIN:VCALENDAR
VERSION:2.0
PRODID:-//Vkind - ECPv6.15.14//NONSGML v1.0//EN
CALSCALE:GREGORIAN
METHOD:PUBLISH
X-WR-CALNAME:Vkind
X-ORIGINAL-URL:https://www.vkind.com
X-WR-CALDESC:Events for Vkind
REFRESH-INTERVAL;VALUE=DURATION:PT1H
X-Robots-Tag:noindex
X-PUBLISHED-TTL:PT1H
BEGIN:VTIMEZONE
TZID:America/Los_Angeles
BEGIN:DAYLIGHT
TZOFFSETFROM:-0800
TZOFFSETTO:-0700
TZNAME:PDT
DTSTART:20220313T100000
END:DAYLIGHT
BEGIN:STANDARD
TZOFFSETFROM:-0700
TZOFFSETTO:-0800
TZNAME:PST
DTSTART:20221106T090000
END:STANDARD
BEGIN:DAYLIGHT
TZOFFSETFROM:-0800
TZOFFSETTO:-0700
TZNAME:PDT
DTSTART:20230312T100000
END:DAYLIGHT
BEGIN:STANDARD
TZOFFSETFROM:-0700
TZOFFSETTO:-0800
TZNAME:PST
DTSTART:20231105T090000
END:STANDARD
BEGIN:DAYLIGHT
TZOFFSETFROM:-0800
TZOFFSETTO:-0700
TZNAME:PDT
DTSTART:20240310T100000
END:DAYLIGHT
BEGIN:STANDARD
TZOFFSETFROM:-0700
TZOFFSETTO:-0800
TZNAME:PST
DTSTART:20241103T090000
END:STANDARD
END:VTIMEZONE
BEGIN:VEVENT
DTSTART;TZID=America/Los_Angeles:20230826T170000
DTEND;TZID=America/Los_Angeles:20230826T200000
DTSTAMP:20260423T172119
CREATED:20230727T135653Z
LAST-MODIFIED:20230727T135653Z
UID:10003734-1693069200-1693080000@www.vkind.com
SUMMARY:Summer Supper on The Muddy Pug Farm & Sanctuary
DESCRIPTION:We cordially invite you to an evening filled with delicious plant-based cuisine\, inspiring stories\, and the opportunity to make a positive impact on the lives of rescued farm animals. By attending this event\, you’ll be contributing to the ongoing care and rehabilitation of our beloved residents\, who have come to us from abuse\, neglect or abandonment. \nHighlights of the evening include: \n🌿 Gourmet vegan dinner \n🎤 Inspirational talks from animal advocates and experts \n📸 Photo opportunities with some of our beloved animal residents \n🎁 Silent auction with unique items and experiences \nWhether you’re an animal lover\, an advocate for sustainability\, or simply curious about the work we do\, this Benefit Dinner is an opportunity to come together\, celebrate compassion\, and support The Muddy Pug’s mission to save lives\, give sanctuary and build community. \nWe encourage you to invite your friends and family who might be interested in attending this memorable evening for a great cause. Together\, we can make a difference in the lives of these remarkable animals. \nWe look forward to seeing you there! 🐮🐷🐥 #FarmSanctuaryBenefitDinner
URL:https://www.vkind.com/vegan-events/summer-supper-on-the-muddy-pug-farm-sanctuary/
LOCATION:The Muddy Pug Farm & Sanctuary\, 20821 266th Place SE\, Maple Valley\, WA\, 98038\, United States
ATTACH;FMTTYPE=image/jpeg:https://www.vkind.com/wp-content/uploads/2023/07/Summer-Supper-on-The-Muddy-Pug-Farm-Sanctuary.jpg
GEO:47.4143932;-121.9870951
X-APPLE-STRUCTURED-LOCATION;VALUE=URI;X-ADDRESS=The Muddy Pug Farm & Sanctuary 20821 266th Place SE Maple Valley WA 98038 United States;X-APPLE-RADIUS=500;X-TITLE=20821 266th Place SE:geo:-121.9870951,47.4143932
END:VEVENT
END:VCALENDAR