BEGIN:VCALENDAR
VERSION:2.0
PRODID:-//Vkind - ECPv6.15.14//NONSGML v1.0//EN
CALSCALE:GREGORIAN
METHOD:PUBLISH
X-WR-CALNAME:Vkind
X-ORIGINAL-URL:https://www.vkind.com
X-WR-CALDESC:Events for Vkind
REFRESH-INTERVAL;VALUE=DURATION:PT1H
X-Robots-Tag:noindex
X-PUBLISHED-TTL:PT1H
BEGIN:VTIMEZONE
TZID:-04:00
END:VTIMEZONE
BEGIN:VEVENT
DTSTART;TZID=-04:00:20231007T113000
DTEND;TZID=-04:00:20231007T153000
DTSTAMP:20260423T132301
CREATED:20230917T084552Z
LAST-MODIFIED:20231007T140029Z
UID:10007548-1696678200-1696692600@www.vkind.com
SUMMARY:Explore the MET Cloisters w/ Veg*n Brunch - Manhattan #Inwood
DESCRIPTION:**Meet at Healthy In Dyckman Juice Bar & Cafe (4734 Broadway\, New York\, NY) to grab a veg*n bite/ get a drink prior to visiting MET Cloisters. In addition to Meetup RSVP\, everyone is required to [Buy MET Tickets](https://engage.metmuseum.org/admission/?promocode=52357&_gl=1*tzv0t4*_ga*MTExNDU5NTAxNy4xNjk0ODEwMzY1*_ga_Y0W8DGNBTB*MTY5NDgxMDM2NC4xLjEuMTY5NDgxMjc3MC4wLjAuMA..) for entry. Note New York State residents and NY\, NJ\, CT students – You can pay less than the general admission ticket prices \, the amount you pay for tickets is up to you. If you wish to pay less than the general admission ticket prices\, you may purchase your ticket with a valid ID. No advance reservations are required.** \nAs the crisp autumn breeze sweeps through the city\, there’s no better time to embark on a cultural journey back in time than in early October. Nestled within the serene embrace of Fort Tryon Park in Upper Manhattan\, the Metropolitan Museum of Art’s Cloisters transports visitors to a different era and place altogether. This enchanting museum\, often referred to as “**The Cloisters**\,” is a hidden gem that beckons those seeking respite from the bustling streets of New York City. In this idyllic setting\, where the leaves are just beginning to don their vibrant fall colors\, you’ll find a unique fusion of medieval European art\, architecture\, and gardens\, making it a perfect destination for a timeless and contemplative experience. Join us to explore the captivating charm of the MET Cloisters\, where history and nature harmoniously converge. \nFor more information check – [https://www.metmuseum.org/visit/plan-your-visit/met-cloisters](https://www.metmuseum.org/visit/plan-your-visit/met-cloisters) \n**FOR OUR NEW MEMBERS:** this is an incredibly friendly and welcoming group. We are a FUN group. Join us as we explore the MET Cloisters\, with fellow vegetarians and vegans. \nEveryone is required to [Buy MET Tickets](https://engage.metmuseum.org/admission/?promocode=52357&_gl=1*tzv0t4*_ga*MTExNDU5NTAxNy4xNjk0ODEwMzY1*_ga_Y0W8DGNBTB*MTY5NDgxMDM2NC4xLjEuMTY5NDgxMjc3MC4wLjAuMA..) for entry – The Healthy In Dyckman Juice Bar & Cafe takes major credit cards if you wish to purchase food / drink items on your own. \n**TRAIN DIRECTIONS:** Take A train to Dyckman St (Exit via Broadway & Dyckman St at SE corner) – 1 min/ 364 ft to the cafe\, we will walk to the MET Cloisters as a group. \nWe would love to see you there.. \nKarthik :)) \n**Meet at Healthy In Dyckman Juice Bar & Cafe (4734 Broadway\, New York\, NY) to grab a veg*n bite/ get a drink prior to visiting MET Cloisters. In addition to Meetup RSVP\, everyone is required to [Buy MET Tickets](https://engage.metmuseum.org/admission/?promocode=52357&_gl=1*tzv0t4*_ga*MTExNDU5NTAxNy4xNjk0ODEwMzY1*_ga_Y0W8DGNBTB*MTY5NDgxMDM2NC4xLjEuMTY5NDgxMjc3MC4wLjAuMA..) for entry. Note New York State residents and NY\, NJ\, CT students – You can pay less than the general admission ticket prices \, the amount you pay for tickets is up to you. If you wish to pay less than the general admission ticket prices\, you may purchase your ticket with a valid ID. No advance reservations are required.** \nImage Courtesy – https://www.metmuseum.org/
URL:https://www.vkind.com/vegan-events/explore-the-met-cloisters-w-vegn-brunch-manhattan-inwood/
LOCATION:The Met Cloisters\, 99 Margaret Corbin Dr\, New York\, NY\, 10040\, us
ATTACH;FMTTYPE=image/jpeg:https://www.vkind.com/wp-content/uploads/2023/09/1024x576-HAFWaP.tmp_.jpg
GEO:40.864864;-73.931725
X-APPLE-STRUCTURED-LOCATION;VALUE=URI;X-ADDRESS=The Met Cloisters 99 Margaret Corbin Dr New York NY 10040 us;X-APPLE-RADIUS=500;X-TITLE=99 Margaret Corbin Dr:geo:-73.931725,40.864864
END:VEVENT
END:VCALENDAR