BEGIN:VCALENDAR
VERSION:2.0
PRODID:-//Vkind - ECPv6.15.14//NONSGML v1.0//EN
CALSCALE:GREGORIAN
METHOD:PUBLISH
X-WR-CALNAME:Vkind
X-ORIGINAL-URL:https://www.vkind.com
X-WR-CALDESC:Events for Vkind
REFRESH-INTERVAL;VALUE=DURATION:PT1H
X-Robots-Tag:noindex
X-PUBLISHED-TTL:PT1H
BEGIN:VTIMEZONE
TZID:America/New_York
BEGIN:DAYLIGHT
TZOFFSETFROM:-0500
TZOFFSETTO:-0400
TZNAME:EDT
DTSTART:20250309T070000
END:DAYLIGHT
BEGIN:STANDARD
TZOFFSETFROM:-0400
TZOFFSETTO:-0500
TZNAME:EST
DTSTART:20251102T060000
END:STANDARD
BEGIN:DAYLIGHT
TZOFFSETFROM:-0500
TZOFFSETTO:-0400
TZNAME:EDT
DTSTART:20260308T070000
END:DAYLIGHT
BEGIN:STANDARD
TZOFFSETFROM:-0400
TZOFFSETTO:-0500
TZNAME:EST
DTSTART:20261101T060000
END:STANDARD
BEGIN:DAYLIGHT
TZOFFSETFROM:-0500
TZOFFSETTO:-0400
TZNAME:EDT
DTSTART:20270314T070000
END:DAYLIGHT
BEGIN:STANDARD
TZOFFSETFROM:-0400
TZOFFSETTO:-0500
TZNAME:EST
DTSTART:20271107T060000
END:STANDARD
BEGIN:DAYLIGHT
TZOFFSETFROM:-0500
TZOFFSETTO:-0400
TZNAME:EDT
DTSTART:20280312T070000
END:DAYLIGHT
BEGIN:STANDARD
TZOFFSETFROM:-0400
TZOFFSETTO:-0500
TZNAME:EST
DTSTART:20281105T060000
END:STANDARD
END:VTIMEZONE
BEGIN:VEVENT
DTSTART;TZID=America/New_York:20260830T120000
DTEND;TZID=America/New_York:20260830T150000
DTSTAMP:20260421T203539
CREATED:20230726T140602Z
LAST-MODIFIED:20230726T140602Z
UID:10001273-1788091200-1788102000@www.vkind.com
SUMMARY:Vegan Sunday Brunch
DESCRIPTION:Every Sunday \nNoon to 3 pm \nVegan Sunday Brunch \nThe Lair (420 Safe Place) \nSunday Funday (games\, movies\, & brunch)
URL:https://www.vkind.com/vegan-events/vegan-sunday-brunch/2026-08-30/
LOCATION:The Lair 420 Social Club\, 323 N 52ND ST\, Philadelphia\, PA\, 19139\, United States
ATTACH;FMTTYPE=image/jpeg:https://www.vkind.com/wp-content/uploads/2023/07/Vegan-Sunday-Brunch.jpg
GEO:39.9660173;-75.2244895
X-APPLE-STRUCTURED-LOCATION;VALUE=URI;X-ADDRESS=The Lair 420 Social Club 323 N 52ND ST Philadelphia PA 19139 United States;X-APPLE-RADIUS=500;X-TITLE=323 N 52ND ST:geo:-75.2244895,39.9660173
END:VEVENT
BEGIN:VEVENT
DTSTART;TZID=America/New_York:20260906T120000
DTEND;TZID=America/New_York:20260906T150000
DTSTAMP:20260421T203539
CREATED:20230726T140602Z
LAST-MODIFIED:20230726T140602Z
UID:10001274-1788696000-1788706800@www.vkind.com
SUMMARY:Vegan Sunday Brunch
DESCRIPTION:Every Sunday \nNoon to 3 pm \nVegan Sunday Brunch \nThe Lair (420 Safe Place) \nSunday Funday (games\, movies\, & brunch)
URL:https://www.vkind.com/vegan-events/vegan-sunday-brunch/2026-09-06/
LOCATION:The Lair 420 Social Club\, 323 N 52ND ST\, Philadelphia\, PA\, 19139\, United States
ATTACH;FMTTYPE=image/jpeg:https://www.vkind.com/wp-content/uploads/2023/07/Vegan-Sunday-Brunch.jpg
GEO:39.9660173;-75.2244895
X-APPLE-STRUCTURED-LOCATION;VALUE=URI;X-ADDRESS=The Lair 420 Social Club 323 N 52ND ST Philadelphia PA 19139 United States;X-APPLE-RADIUS=500;X-TITLE=323 N 52ND ST:geo:-75.2244895,39.9660173
END:VEVENT
BEGIN:VEVENT
DTSTART;TZID=America/New_York:20260913T120000
DTEND;TZID=America/New_York:20260913T150000
DTSTAMP:20260421T203539
CREATED:20230726T140602Z
LAST-MODIFIED:20230726T140602Z
UID:10001275-1789300800-1789311600@www.vkind.com
SUMMARY:Vegan Sunday Brunch
DESCRIPTION:Every Sunday \nNoon to 3 pm \nVegan Sunday Brunch \nThe Lair (420 Safe Place) \nSunday Funday (games\, movies\, & brunch)
URL:https://www.vkind.com/vegan-events/vegan-sunday-brunch/2026-09-13/
LOCATION:The Lair 420 Social Club\, 323 N 52ND ST\, Philadelphia\, PA\, 19139\, United States
ATTACH;FMTTYPE=image/jpeg:https://www.vkind.com/wp-content/uploads/2023/07/Vegan-Sunday-Brunch.jpg
GEO:39.9660173;-75.2244895
X-APPLE-STRUCTURED-LOCATION;VALUE=URI;X-ADDRESS=The Lair 420 Social Club 323 N 52ND ST Philadelphia PA 19139 United States;X-APPLE-RADIUS=500;X-TITLE=323 N 52ND ST:geo:-75.2244895,39.9660173
END:VEVENT
BEGIN:VEVENT
DTSTART;TZID=America/New_York:20260920T120000
DTEND;TZID=America/New_York:20260920T150000
DTSTAMP:20260421T203539
CREATED:20230726T140602Z
LAST-MODIFIED:20230726T140602Z
UID:10001276-1789905600-1789916400@www.vkind.com
SUMMARY:Vegan Sunday Brunch
DESCRIPTION:Every Sunday \nNoon to 3 pm \nVegan Sunday Brunch \nThe Lair (420 Safe Place) \nSunday Funday (games\, movies\, & brunch)
URL:https://www.vkind.com/vegan-events/vegan-sunday-brunch/2026-09-20/
LOCATION:The Lair 420 Social Club\, 323 N 52ND ST\, Philadelphia\, PA\, 19139\, United States
ATTACH;FMTTYPE=image/jpeg:https://www.vkind.com/wp-content/uploads/2023/07/Vegan-Sunday-Brunch.jpg
GEO:39.9660173;-75.2244895
X-APPLE-STRUCTURED-LOCATION;VALUE=URI;X-ADDRESS=The Lair 420 Social Club 323 N 52ND ST Philadelphia PA 19139 United States;X-APPLE-RADIUS=500;X-TITLE=323 N 52ND ST:geo:-75.2244895,39.9660173
END:VEVENT
BEGIN:VEVENT
DTSTART;TZID=America/New_York:20260927T120000
DTEND;TZID=America/New_York:20260927T150000
DTSTAMP:20260421T203539
CREATED:20230726T140602Z
LAST-MODIFIED:20230726T140602Z
UID:10001277-1790510400-1790521200@www.vkind.com
SUMMARY:Vegan Sunday Brunch
DESCRIPTION:Every Sunday \nNoon to 3 pm \nVegan Sunday Brunch \nThe Lair (420 Safe Place) \nSunday Funday (games\, movies\, & brunch)
URL:https://www.vkind.com/vegan-events/vegan-sunday-brunch/2026-09-27/
LOCATION:The Lair 420 Social Club\, 323 N 52ND ST\, Philadelphia\, PA\, 19139\, United States
ATTACH;FMTTYPE=image/jpeg:https://www.vkind.com/wp-content/uploads/2023/07/Vegan-Sunday-Brunch.jpg
GEO:39.9660173;-75.2244895
X-APPLE-STRUCTURED-LOCATION;VALUE=URI;X-ADDRESS=The Lair 420 Social Club 323 N 52ND ST Philadelphia PA 19139 United States;X-APPLE-RADIUS=500;X-TITLE=323 N 52ND ST:geo:-75.2244895,39.9660173
END:VEVENT
BEGIN:VEVENT
DTSTART;TZID=America/New_York:20261004T120000
DTEND;TZID=America/New_York:20261004T150000
DTSTAMP:20260421T203539
CREATED:20230726T140602Z
LAST-MODIFIED:20230726T140602Z
UID:10001278-1791115200-1791126000@www.vkind.com
SUMMARY:Vegan Sunday Brunch
DESCRIPTION:Every Sunday \nNoon to 3 pm \nVegan Sunday Brunch \nThe Lair (420 Safe Place) \nSunday Funday (games\, movies\, & brunch)
URL:https://www.vkind.com/vegan-events/vegan-sunday-brunch/2026-10-04/
LOCATION:The Lair 420 Social Club\, 323 N 52ND ST\, Philadelphia\, PA\, 19139\, United States
ATTACH;FMTTYPE=image/jpeg:https://www.vkind.com/wp-content/uploads/2023/07/Vegan-Sunday-Brunch.jpg
GEO:39.9660173;-75.2244895
X-APPLE-STRUCTURED-LOCATION;VALUE=URI;X-ADDRESS=The Lair 420 Social Club 323 N 52ND ST Philadelphia PA 19139 United States;X-APPLE-RADIUS=500;X-TITLE=323 N 52ND ST:geo:-75.2244895,39.9660173
END:VEVENT
BEGIN:VEVENT
DTSTART;TZID=America/New_York:20261011T120000
DTEND;TZID=America/New_York:20261011T150000
DTSTAMP:20260421T203539
CREATED:20230726T140602Z
LAST-MODIFIED:20230726T140602Z
UID:10001279-1791720000-1791730800@www.vkind.com
SUMMARY:Vegan Sunday Brunch
DESCRIPTION:Every Sunday \nNoon to 3 pm \nVegan Sunday Brunch \nThe Lair (420 Safe Place) \nSunday Funday (games\, movies\, & brunch)
URL:https://www.vkind.com/vegan-events/vegan-sunday-brunch/2026-10-11/
LOCATION:The Lair 420 Social Club\, 323 N 52ND ST\, Philadelphia\, PA\, 19139\, United States
ATTACH;FMTTYPE=image/jpeg:https://www.vkind.com/wp-content/uploads/2023/07/Vegan-Sunday-Brunch.jpg
GEO:39.9660173;-75.2244895
X-APPLE-STRUCTURED-LOCATION;VALUE=URI;X-ADDRESS=The Lair 420 Social Club 323 N 52ND ST Philadelphia PA 19139 United States;X-APPLE-RADIUS=500;X-TITLE=323 N 52ND ST:geo:-75.2244895,39.9660173
END:VEVENT
BEGIN:VEVENT
DTSTART;TZID=America/New_York:20261018T120000
DTEND;TZID=America/New_York:20261018T150000
DTSTAMP:20260421T203539
CREATED:20230726T140602Z
LAST-MODIFIED:20230726T140602Z
UID:10001280-1792324800-1792335600@www.vkind.com
SUMMARY:Vegan Sunday Brunch
DESCRIPTION:Every Sunday \nNoon to 3 pm \nVegan Sunday Brunch \nThe Lair (420 Safe Place) \nSunday Funday (games\, movies\, & brunch)
URL:https://www.vkind.com/vegan-events/vegan-sunday-brunch/2026-10-18/
LOCATION:The Lair 420 Social Club\, 323 N 52ND ST\, Philadelphia\, PA\, 19139\, United States
ATTACH;FMTTYPE=image/jpeg:https://www.vkind.com/wp-content/uploads/2023/07/Vegan-Sunday-Brunch.jpg
GEO:39.9660173;-75.2244895
X-APPLE-STRUCTURED-LOCATION;VALUE=URI;X-ADDRESS=The Lair 420 Social Club 323 N 52ND ST Philadelphia PA 19139 United States;X-APPLE-RADIUS=500;X-TITLE=323 N 52ND ST:geo:-75.2244895,39.9660173
END:VEVENT
BEGIN:VEVENT
DTSTART;TZID=America/New_York:20261025T120000
DTEND;TZID=America/New_York:20261025T150000
DTSTAMP:20260421T203539
CREATED:20230726T140602Z
LAST-MODIFIED:20230726T140602Z
UID:10001281-1792929600-1792940400@www.vkind.com
SUMMARY:Vegan Sunday Brunch
DESCRIPTION:Every Sunday \nNoon to 3 pm \nVegan Sunday Brunch \nThe Lair (420 Safe Place) \nSunday Funday (games\, movies\, & brunch)
URL:https://www.vkind.com/vegan-events/vegan-sunday-brunch/2026-10-25/
LOCATION:The Lair 420 Social Club\, 323 N 52ND ST\, Philadelphia\, PA\, 19139\, United States
ATTACH;FMTTYPE=image/jpeg:https://www.vkind.com/wp-content/uploads/2023/07/Vegan-Sunday-Brunch.jpg
GEO:39.9660173;-75.2244895
X-APPLE-STRUCTURED-LOCATION;VALUE=URI;X-ADDRESS=The Lair 420 Social Club 323 N 52ND ST Philadelphia PA 19139 United States;X-APPLE-RADIUS=500;X-TITLE=323 N 52ND ST:geo:-75.2244895,39.9660173
END:VEVENT
BEGIN:VEVENT
DTSTART;TZID=America/New_York:20261101T120000
DTEND;TZID=America/New_York:20261101T150000
DTSTAMP:20260421T203539
CREATED:20230726T140602Z
LAST-MODIFIED:20230726T140602Z
UID:10001282-1793534400-1793545200@www.vkind.com
SUMMARY:Vegan Sunday Brunch
DESCRIPTION:Every Sunday \nNoon to 3 pm \nVegan Sunday Brunch \nThe Lair (420 Safe Place) \nSunday Funday (games\, movies\, & brunch)
URL:https://www.vkind.com/vegan-events/vegan-sunday-brunch/2026-11-01/
LOCATION:The Lair 420 Social Club\, 323 N 52ND ST\, Philadelphia\, PA\, 19139\, United States
ATTACH;FMTTYPE=image/jpeg:https://www.vkind.com/wp-content/uploads/2023/07/Vegan-Sunday-Brunch.jpg
GEO:39.9660173;-75.2244895
X-APPLE-STRUCTURED-LOCATION;VALUE=URI;X-ADDRESS=The Lair 420 Social Club 323 N 52ND ST Philadelphia PA 19139 United States;X-APPLE-RADIUS=500;X-TITLE=323 N 52ND ST:geo:-75.2244895,39.9660173
END:VEVENT
BEGIN:VEVENT
DTSTART;TZID=America/New_York:20261108T120000
DTEND;TZID=America/New_York:20261108T150000
DTSTAMP:20260421T203539
CREATED:20230726T140602Z
LAST-MODIFIED:20230726T140602Z
UID:10001283-1794139200-1794150000@www.vkind.com
SUMMARY:Vegan Sunday Brunch
DESCRIPTION:Every Sunday \nNoon to 3 pm \nVegan Sunday Brunch \nThe Lair (420 Safe Place) \nSunday Funday (games\, movies\, & brunch)
URL:https://www.vkind.com/vegan-events/vegan-sunday-brunch/2026-11-08/
LOCATION:The Lair 420 Social Club\, 323 N 52ND ST\, Philadelphia\, PA\, 19139\, United States
ATTACH;FMTTYPE=image/jpeg:https://www.vkind.com/wp-content/uploads/2023/07/Vegan-Sunday-Brunch.jpg
GEO:39.9660173;-75.2244895
X-APPLE-STRUCTURED-LOCATION;VALUE=URI;X-ADDRESS=The Lair 420 Social Club 323 N 52ND ST Philadelphia PA 19139 United States;X-APPLE-RADIUS=500;X-TITLE=323 N 52ND ST:geo:-75.2244895,39.9660173
END:VEVENT
BEGIN:VEVENT
DTSTART;TZID=America/New_York:20261115T120000
DTEND;TZID=America/New_York:20261115T150000
DTSTAMP:20260421T203539
CREATED:20230726T140602Z
LAST-MODIFIED:20230726T140602Z
UID:10001284-1794744000-1794754800@www.vkind.com
SUMMARY:Vegan Sunday Brunch
DESCRIPTION:Every Sunday \nNoon to 3 pm \nVegan Sunday Brunch \nThe Lair (420 Safe Place) \nSunday Funday (games\, movies\, & brunch)
URL:https://www.vkind.com/vegan-events/vegan-sunday-brunch/2026-11-15/
LOCATION:The Lair 420 Social Club\, 323 N 52ND ST\, Philadelphia\, PA\, 19139\, United States
ATTACH;FMTTYPE=image/jpeg:https://www.vkind.com/wp-content/uploads/2023/07/Vegan-Sunday-Brunch.jpg
GEO:39.9660173;-75.2244895
X-APPLE-STRUCTURED-LOCATION;VALUE=URI;X-ADDRESS=The Lair 420 Social Club 323 N 52ND ST Philadelphia PA 19139 United States;X-APPLE-RADIUS=500;X-TITLE=323 N 52ND ST:geo:-75.2244895,39.9660173
END:VEVENT
BEGIN:VEVENT
DTSTART;TZID=America/New_York:20261122T120000
DTEND;TZID=America/New_York:20261122T150000
DTSTAMP:20260421T203539
CREATED:20230726T140602Z
LAST-MODIFIED:20230726T140602Z
UID:10001285-1795348800-1795359600@www.vkind.com
SUMMARY:Vegan Sunday Brunch
DESCRIPTION:Every Sunday \nNoon to 3 pm \nVegan Sunday Brunch \nThe Lair (420 Safe Place) \nSunday Funday (games\, movies\, & brunch)
URL:https://www.vkind.com/vegan-events/vegan-sunday-brunch/2026-11-22/
LOCATION:The Lair 420 Social Club\, 323 N 52ND ST\, Philadelphia\, PA\, 19139\, United States
ATTACH;FMTTYPE=image/jpeg:https://www.vkind.com/wp-content/uploads/2023/07/Vegan-Sunday-Brunch.jpg
GEO:39.9660173;-75.2244895
X-APPLE-STRUCTURED-LOCATION;VALUE=URI;X-ADDRESS=The Lair 420 Social Club 323 N 52ND ST Philadelphia PA 19139 United States;X-APPLE-RADIUS=500;X-TITLE=323 N 52ND ST:geo:-75.2244895,39.9660173
END:VEVENT
BEGIN:VEVENT
DTSTART;TZID=America/New_York:20261129T120000
DTEND;TZID=America/New_York:20261129T150000
DTSTAMP:20260421T203539
CREATED:20230726T140602Z
LAST-MODIFIED:20230726T140602Z
UID:10001286-1795953600-1795964400@www.vkind.com
SUMMARY:Vegan Sunday Brunch
DESCRIPTION:Every Sunday \nNoon to 3 pm \nVegan Sunday Brunch \nThe Lair (420 Safe Place) \nSunday Funday (games\, movies\, & brunch)
URL:https://www.vkind.com/vegan-events/vegan-sunday-brunch/2026-11-29/
LOCATION:The Lair 420 Social Club\, 323 N 52ND ST\, Philadelphia\, PA\, 19139\, United States
ATTACH;FMTTYPE=image/jpeg:https://www.vkind.com/wp-content/uploads/2023/07/Vegan-Sunday-Brunch.jpg
GEO:39.9660173;-75.2244895
X-APPLE-STRUCTURED-LOCATION;VALUE=URI;X-ADDRESS=The Lair 420 Social Club 323 N 52ND ST Philadelphia PA 19139 United States;X-APPLE-RADIUS=500;X-TITLE=323 N 52ND ST:geo:-75.2244895,39.9660173
END:VEVENT
BEGIN:VEVENT
DTSTART;TZID=America/New_York:20261206T120000
DTEND;TZID=America/New_York:20261206T150000
DTSTAMP:20260421T203539
CREATED:20230726T140602Z
LAST-MODIFIED:20230726T140602Z
UID:10001287-1796558400-1796569200@www.vkind.com
SUMMARY:Vegan Sunday Brunch
DESCRIPTION:Every Sunday \nNoon to 3 pm \nVegan Sunday Brunch \nThe Lair (420 Safe Place) \nSunday Funday (games\, movies\, & brunch)
URL:https://www.vkind.com/vegan-events/vegan-sunday-brunch/2026-12-06/
LOCATION:The Lair 420 Social Club\, 323 N 52ND ST\, Philadelphia\, PA\, 19139\, United States
ATTACH;FMTTYPE=image/jpeg:https://www.vkind.com/wp-content/uploads/2023/07/Vegan-Sunday-Brunch.jpg
GEO:39.9660173;-75.2244895
X-APPLE-STRUCTURED-LOCATION;VALUE=URI;X-ADDRESS=The Lair 420 Social Club 323 N 52ND ST Philadelphia PA 19139 United States;X-APPLE-RADIUS=500;X-TITLE=323 N 52ND ST:geo:-75.2244895,39.9660173
END:VEVENT
BEGIN:VEVENT
DTSTART;TZID=America/New_York:20261213T120000
DTEND;TZID=America/New_York:20261213T150000
DTSTAMP:20260421T203539
CREATED:20230726T140602Z
LAST-MODIFIED:20230726T140602Z
UID:10001288-1797163200-1797174000@www.vkind.com
SUMMARY:Vegan Sunday Brunch
DESCRIPTION:Every Sunday \nNoon to 3 pm \nVegan Sunday Brunch \nThe Lair (420 Safe Place) \nSunday Funday (games\, movies\, & brunch)
URL:https://www.vkind.com/vegan-events/vegan-sunday-brunch/2026-12-13/
LOCATION:The Lair 420 Social Club\, 323 N 52ND ST\, Philadelphia\, PA\, 19139\, United States
ATTACH;FMTTYPE=image/jpeg:https://www.vkind.com/wp-content/uploads/2023/07/Vegan-Sunday-Brunch.jpg
GEO:39.9660173;-75.2244895
X-APPLE-STRUCTURED-LOCATION;VALUE=URI;X-ADDRESS=The Lair 420 Social Club 323 N 52ND ST Philadelphia PA 19139 United States;X-APPLE-RADIUS=500;X-TITLE=323 N 52ND ST:geo:-75.2244895,39.9660173
END:VEVENT
BEGIN:VEVENT
DTSTART;TZID=America/New_York:20261220T120000
DTEND;TZID=America/New_York:20261220T150000
DTSTAMP:20260421T203539
CREATED:20230726T140602Z
LAST-MODIFIED:20230726T140602Z
UID:10001289-1797768000-1797778800@www.vkind.com
SUMMARY:Vegan Sunday Brunch
DESCRIPTION:Every Sunday \nNoon to 3 pm \nVegan Sunday Brunch \nThe Lair (420 Safe Place) \nSunday Funday (games\, movies\, & brunch)
URL:https://www.vkind.com/vegan-events/vegan-sunday-brunch/2026-12-20/
LOCATION:The Lair 420 Social Club\, 323 N 52ND ST\, Philadelphia\, PA\, 19139\, United States
ATTACH;FMTTYPE=image/jpeg:https://www.vkind.com/wp-content/uploads/2023/07/Vegan-Sunday-Brunch.jpg
GEO:39.9660173;-75.2244895
X-APPLE-STRUCTURED-LOCATION;VALUE=URI;X-ADDRESS=The Lair 420 Social Club 323 N 52ND ST Philadelphia PA 19139 United States;X-APPLE-RADIUS=500;X-TITLE=323 N 52ND ST:geo:-75.2244895,39.9660173
END:VEVENT
BEGIN:VEVENT
DTSTART;TZID=America/New_York:20261227T120000
DTEND;TZID=America/New_York:20261227T150000
DTSTAMP:20260421T203539
CREATED:20230726T140602Z
LAST-MODIFIED:20230726T140602Z
UID:10001290-1798372800-1798383600@www.vkind.com
SUMMARY:Vegan Sunday Brunch
DESCRIPTION:Every Sunday \nNoon to 3 pm \nVegan Sunday Brunch \nThe Lair (420 Safe Place) \nSunday Funday (games\, movies\, & brunch)
URL:https://www.vkind.com/vegan-events/vegan-sunday-brunch/2026-12-27/
LOCATION:The Lair 420 Social Club\, 323 N 52ND ST\, Philadelphia\, PA\, 19139\, United States
ATTACH;FMTTYPE=image/jpeg:https://www.vkind.com/wp-content/uploads/2023/07/Vegan-Sunday-Brunch.jpg
GEO:39.9660173;-75.2244895
X-APPLE-STRUCTURED-LOCATION;VALUE=URI;X-ADDRESS=The Lair 420 Social Club 323 N 52ND ST Philadelphia PA 19139 United States;X-APPLE-RADIUS=500;X-TITLE=323 N 52ND ST:geo:-75.2244895,39.9660173
END:VEVENT
BEGIN:VEVENT
DTSTART;TZID=America/New_York:20270103T120000
DTEND;TZID=America/New_York:20270103T150000
DTSTAMP:20260421T203539
CREATED:20230726T140602Z
LAST-MODIFIED:20230726T140602Z
UID:10001291-1798977600-1798988400@www.vkind.com
SUMMARY:Vegan Sunday Brunch
DESCRIPTION:Every Sunday \nNoon to 3 pm \nVegan Sunday Brunch \nThe Lair (420 Safe Place) \nSunday Funday (games\, movies\, & brunch)
URL:https://www.vkind.com/vegan-events/vegan-sunday-brunch/2027-01-03/
LOCATION:The Lair 420 Social Club\, 323 N 52ND ST\, Philadelphia\, PA\, 19139\, United States
ATTACH;FMTTYPE=image/jpeg:https://www.vkind.com/wp-content/uploads/2023/07/Vegan-Sunday-Brunch.jpg
GEO:39.9660173;-75.2244895
X-APPLE-STRUCTURED-LOCATION;VALUE=URI;X-ADDRESS=The Lair 420 Social Club 323 N 52ND ST Philadelphia PA 19139 United States;X-APPLE-RADIUS=500;X-TITLE=323 N 52ND ST:geo:-75.2244895,39.9660173
END:VEVENT
BEGIN:VEVENT
DTSTART;TZID=America/New_York:20270110T120000
DTEND;TZID=America/New_York:20270110T150000
DTSTAMP:20260421T203539
CREATED:20230726T140602Z
LAST-MODIFIED:20230726T140602Z
UID:10001292-1799582400-1799593200@www.vkind.com
SUMMARY:Vegan Sunday Brunch
DESCRIPTION:Every Sunday \nNoon to 3 pm \nVegan Sunday Brunch \nThe Lair (420 Safe Place) \nSunday Funday (games\, movies\, & brunch)
URL:https://www.vkind.com/vegan-events/vegan-sunday-brunch/2027-01-10/
LOCATION:The Lair 420 Social Club\, 323 N 52ND ST\, Philadelphia\, PA\, 19139\, United States
ATTACH;FMTTYPE=image/jpeg:https://www.vkind.com/wp-content/uploads/2023/07/Vegan-Sunday-Brunch.jpg
GEO:39.9660173;-75.2244895
X-APPLE-STRUCTURED-LOCATION;VALUE=URI;X-ADDRESS=The Lair 420 Social Club 323 N 52ND ST Philadelphia PA 19139 United States;X-APPLE-RADIUS=500;X-TITLE=323 N 52ND ST:geo:-75.2244895,39.9660173
END:VEVENT
BEGIN:VEVENT
DTSTART;TZID=America/New_York:20270117T120000
DTEND;TZID=America/New_York:20270117T150000
DTSTAMP:20260421T203539
CREATED:20230726T140602Z
LAST-MODIFIED:20230726T140602Z
UID:10001293-1800187200-1800198000@www.vkind.com
SUMMARY:Vegan Sunday Brunch
DESCRIPTION:Every Sunday \nNoon to 3 pm \nVegan Sunday Brunch \nThe Lair (420 Safe Place) \nSunday Funday (games\, movies\, & brunch)
URL:https://www.vkind.com/vegan-events/vegan-sunday-brunch/2027-01-17/
LOCATION:The Lair 420 Social Club\, 323 N 52ND ST\, Philadelphia\, PA\, 19139\, United States
ATTACH;FMTTYPE=image/jpeg:https://www.vkind.com/wp-content/uploads/2023/07/Vegan-Sunday-Brunch.jpg
GEO:39.9660173;-75.2244895
X-APPLE-STRUCTURED-LOCATION;VALUE=URI;X-ADDRESS=The Lair 420 Social Club 323 N 52ND ST Philadelphia PA 19139 United States;X-APPLE-RADIUS=500;X-TITLE=323 N 52ND ST:geo:-75.2244895,39.9660173
END:VEVENT
BEGIN:VEVENT
DTSTART;TZID=America/New_York:20270124T120000
DTEND;TZID=America/New_York:20270124T150000
DTSTAMP:20260421T203539
CREATED:20230726T140602Z
LAST-MODIFIED:20230726T140602Z
UID:10001294-1800792000-1800802800@www.vkind.com
SUMMARY:Vegan Sunday Brunch
DESCRIPTION:Every Sunday \nNoon to 3 pm \nVegan Sunday Brunch \nThe Lair (420 Safe Place) \nSunday Funday (games\, movies\, & brunch)
URL:https://www.vkind.com/vegan-events/vegan-sunday-brunch/2027-01-24/
LOCATION:The Lair 420 Social Club\, 323 N 52ND ST\, Philadelphia\, PA\, 19139\, United States
ATTACH;FMTTYPE=image/jpeg:https://www.vkind.com/wp-content/uploads/2023/07/Vegan-Sunday-Brunch.jpg
GEO:39.9660173;-75.2244895
X-APPLE-STRUCTURED-LOCATION;VALUE=URI;X-ADDRESS=The Lair 420 Social Club 323 N 52ND ST Philadelphia PA 19139 United States;X-APPLE-RADIUS=500;X-TITLE=323 N 52ND ST:geo:-75.2244895,39.9660173
END:VEVENT
BEGIN:VEVENT
DTSTART;TZID=America/New_York:20270131T120000
DTEND;TZID=America/New_York:20270131T150000
DTSTAMP:20260421T203539
CREATED:20230726T140602Z
LAST-MODIFIED:20230726T140602Z
UID:10001295-1801396800-1801407600@www.vkind.com
SUMMARY:Vegan Sunday Brunch
DESCRIPTION:Every Sunday \nNoon to 3 pm \nVegan Sunday Brunch \nThe Lair (420 Safe Place) \nSunday Funday (games\, movies\, & brunch)
URL:https://www.vkind.com/vegan-events/vegan-sunday-brunch/2027-01-31/
LOCATION:The Lair 420 Social Club\, 323 N 52ND ST\, Philadelphia\, PA\, 19139\, United States
ATTACH;FMTTYPE=image/jpeg:https://www.vkind.com/wp-content/uploads/2023/07/Vegan-Sunday-Brunch.jpg
GEO:39.9660173;-75.2244895
X-APPLE-STRUCTURED-LOCATION;VALUE=URI;X-ADDRESS=The Lair 420 Social Club 323 N 52ND ST Philadelphia PA 19139 United States;X-APPLE-RADIUS=500;X-TITLE=323 N 52ND ST:geo:-75.2244895,39.9660173
END:VEVENT
BEGIN:VEVENT
DTSTART;TZID=America/New_York:20270207T120000
DTEND;TZID=America/New_York:20270207T150000
DTSTAMP:20260421T203539
CREATED:20230726T140602Z
LAST-MODIFIED:20230726T140602Z
UID:10001296-1802001600-1802012400@www.vkind.com
SUMMARY:Vegan Sunday Brunch
DESCRIPTION:Every Sunday \nNoon to 3 pm \nVegan Sunday Brunch \nThe Lair (420 Safe Place) \nSunday Funday (games\, movies\, & brunch)
URL:https://www.vkind.com/vegan-events/vegan-sunday-brunch/2027-02-07/
LOCATION:The Lair 420 Social Club\, 323 N 52ND ST\, Philadelphia\, PA\, 19139\, United States
ATTACH;FMTTYPE=image/jpeg:https://www.vkind.com/wp-content/uploads/2023/07/Vegan-Sunday-Brunch.jpg
GEO:39.9660173;-75.2244895
X-APPLE-STRUCTURED-LOCATION;VALUE=URI;X-ADDRESS=The Lair 420 Social Club 323 N 52ND ST Philadelphia PA 19139 United States;X-APPLE-RADIUS=500;X-TITLE=323 N 52ND ST:geo:-75.2244895,39.9660173
END:VEVENT
BEGIN:VEVENT
DTSTART;TZID=America/New_York:20270214T120000
DTEND;TZID=America/New_York:20270214T150000
DTSTAMP:20260421T203539
CREATED:20230726T140602Z
LAST-MODIFIED:20230726T140602Z
UID:10001297-1802606400-1802617200@www.vkind.com
SUMMARY:Vegan Sunday Brunch
DESCRIPTION:Every Sunday \nNoon to 3 pm \nVegan Sunday Brunch \nThe Lair (420 Safe Place) \nSunday Funday (games\, movies\, & brunch)
URL:https://www.vkind.com/vegan-events/vegan-sunday-brunch/2027-02-14/
LOCATION:The Lair 420 Social Club\, 323 N 52ND ST\, Philadelphia\, PA\, 19139\, United States
ATTACH;FMTTYPE=image/jpeg:https://www.vkind.com/wp-content/uploads/2023/07/Vegan-Sunday-Brunch.jpg
GEO:39.9660173;-75.2244895
X-APPLE-STRUCTURED-LOCATION;VALUE=URI;X-ADDRESS=The Lair 420 Social Club 323 N 52ND ST Philadelphia PA 19139 United States;X-APPLE-RADIUS=500;X-TITLE=323 N 52ND ST:geo:-75.2244895,39.9660173
END:VEVENT
BEGIN:VEVENT
DTSTART;TZID=America/New_York:20270221T120000
DTEND;TZID=America/New_York:20270221T150000
DTSTAMP:20260421T203539
CREATED:20230726T140602Z
LAST-MODIFIED:20230726T140602Z
UID:10001298-1803211200-1803222000@www.vkind.com
SUMMARY:Vegan Sunday Brunch
DESCRIPTION:Every Sunday \nNoon to 3 pm \nVegan Sunday Brunch \nThe Lair (420 Safe Place) \nSunday Funday (games\, movies\, & brunch)
URL:https://www.vkind.com/vegan-events/vegan-sunday-brunch/2027-02-21/
LOCATION:The Lair 420 Social Club\, 323 N 52ND ST\, Philadelphia\, PA\, 19139\, United States
ATTACH;FMTTYPE=image/jpeg:https://www.vkind.com/wp-content/uploads/2023/07/Vegan-Sunday-Brunch.jpg
GEO:39.9660173;-75.2244895
X-APPLE-STRUCTURED-LOCATION;VALUE=URI;X-ADDRESS=The Lair 420 Social Club 323 N 52ND ST Philadelphia PA 19139 United States;X-APPLE-RADIUS=500;X-TITLE=323 N 52ND ST:geo:-75.2244895,39.9660173
END:VEVENT
BEGIN:VEVENT
DTSTART;TZID=America/New_York:20270228T120000
DTEND;TZID=America/New_York:20270228T150000
DTSTAMP:20260421T203539
CREATED:20230726T140602Z
LAST-MODIFIED:20230726T140602Z
UID:10001299-1803816000-1803826800@www.vkind.com
SUMMARY:Vegan Sunday Brunch
DESCRIPTION:Every Sunday \nNoon to 3 pm \nVegan Sunday Brunch \nThe Lair (420 Safe Place) \nSunday Funday (games\, movies\, & brunch)
URL:https://www.vkind.com/vegan-events/vegan-sunday-brunch/2027-02-28/
LOCATION:The Lair 420 Social Club\, 323 N 52ND ST\, Philadelphia\, PA\, 19139\, United States
ATTACH;FMTTYPE=image/jpeg:https://www.vkind.com/wp-content/uploads/2023/07/Vegan-Sunday-Brunch.jpg
GEO:39.9660173;-75.2244895
X-APPLE-STRUCTURED-LOCATION;VALUE=URI;X-ADDRESS=The Lair 420 Social Club 323 N 52ND ST Philadelphia PA 19139 United States;X-APPLE-RADIUS=500;X-TITLE=323 N 52ND ST:geo:-75.2244895,39.9660173
END:VEVENT
BEGIN:VEVENT
DTSTART;TZID=America/New_York:20270307T120000
DTEND;TZID=America/New_York:20270307T150000
DTSTAMP:20260421T203539
CREATED:20230726T140602Z
LAST-MODIFIED:20230726T140602Z
UID:10001300-1804420800-1804431600@www.vkind.com
SUMMARY:Vegan Sunday Brunch
DESCRIPTION:Every Sunday \nNoon to 3 pm \nVegan Sunday Brunch \nThe Lair (420 Safe Place) \nSunday Funday (games\, movies\, & brunch)
URL:https://www.vkind.com/vegan-events/vegan-sunday-brunch/2027-03-07/
LOCATION:The Lair 420 Social Club\, 323 N 52ND ST\, Philadelphia\, PA\, 19139\, United States
ATTACH;FMTTYPE=image/jpeg:https://www.vkind.com/wp-content/uploads/2023/07/Vegan-Sunday-Brunch.jpg
GEO:39.9660173;-75.2244895
X-APPLE-STRUCTURED-LOCATION;VALUE=URI;X-ADDRESS=The Lair 420 Social Club 323 N 52ND ST Philadelphia PA 19139 United States;X-APPLE-RADIUS=500;X-TITLE=323 N 52ND ST:geo:-75.2244895,39.9660173
END:VEVENT
BEGIN:VEVENT
DTSTART;TZID=America/New_York:20270314T120000
DTEND;TZID=America/New_York:20270314T150000
DTSTAMP:20260421T203539
CREATED:20230726T140602Z
LAST-MODIFIED:20230726T140602Z
UID:10001301-1805025600-1805036400@www.vkind.com
SUMMARY:Vegan Sunday Brunch
DESCRIPTION:Every Sunday \nNoon to 3 pm \nVegan Sunday Brunch \nThe Lair (420 Safe Place) \nSunday Funday (games\, movies\, & brunch)
URL:https://www.vkind.com/vegan-events/vegan-sunday-brunch/2027-03-14/
LOCATION:The Lair 420 Social Club\, 323 N 52ND ST\, Philadelphia\, PA\, 19139\, United States
ATTACH;FMTTYPE=image/jpeg:https://www.vkind.com/wp-content/uploads/2023/07/Vegan-Sunday-Brunch.jpg
GEO:39.9660173;-75.2244895
X-APPLE-STRUCTURED-LOCATION;VALUE=URI;X-ADDRESS=The Lair 420 Social Club 323 N 52ND ST Philadelphia PA 19139 United States;X-APPLE-RADIUS=500;X-TITLE=323 N 52ND ST:geo:-75.2244895,39.9660173
END:VEVENT
BEGIN:VEVENT
DTSTART;TZID=America/New_York:20270321T120000
DTEND;TZID=America/New_York:20270321T150000
DTSTAMP:20260421T203539
CREATED:20230726T140602Z
LAST-MODIFIED:20230726T140602Z
UID:10001302-1805630400-1805641200@www.vkind.com
SUMMARY:Vegan Sunday Brunch
DESCRIPTION:Every Sunday \nNoon to 3 pm \nVegan Sunday Brunch \nThe Lair (420 Safe Place) \nSunday Funday (games\, movies\, & brunch)
URL:https://www.vkind.com/vegan-events/vegan-sunday-brunch/2027-03-21/
LOCATION:The Lair 420 Social Club\, 323 N 52ND ST\, Philadelphia\, PA\, 19139\, United States
ATTACH;FMTTYPE=image/jpeg:https://www.vkind.com/wp-content/uploads/2023/07/Vegan-Sunday-Brunch.jpg
GEO:39.9660173;-75.2244895
X-APPLE-STRUCTURED-LOCATION;VALUE=URI;X-ADDRESS=The Lair 420 Social Club 323 N 52ND ST Philadelphia PA 19139 United States;X-APPLE-RADIUS=500;X-TITLE=323 N 52ND ST:geo:-75.2244895,39.9660173
END:VEVENT
END:VCALENDAR