BEGIN:VCALENDAR
VERSION:2.0
PRODID:-//Vkind - ECPv6.15.14//NONSGML v1.0//EN
CALSCALE:GREGORIAN
METHOD:PUBLISH
X-ORIGINAL-URL:https://www.vkind.com
X-WR-CALDESC:Events for Vkind
REFRESH-INTERVAL;VALUE=DURATION:PT1H
X-Robots-Tag:noindex
X-PUBLISHED-TTL:PT1H
BEGIN:VTIMEZONE
TZID:America/New_York
BEGIN:DAYLIGHT
TZOFFSETFROM:-0500
TZOFFSETTO:-0400
TZNAME:EDT
DTSTART:20240310T070000
END:DAYLIGHT
BEGIN:STANDARD
TZOFFSETFROM:-0400
TZOFFSETTO:-0500
TZNAME:EST
DTSTART:20241103T060000
END:STANDARD
BEGIN:DAYLIGHT
TZOFFSETFROM:-0500
TZOFFSETTO:-0400
TZNAME:EDT
DTSTART:20250309T070000
END:DAYLIGHT
BEGIN:STANDARD
TZOFFSETFROM:-0400
TZOFFSETTO:-0500
TZNAME:EST
DTSTART:20251102T060000
END:STANDARD
BEGIN:DAYLIGHT
TZOFFSETFROM:-0500
TZOFFSETTO:-0400
TZNAME:EDT
DTSTART:20260308T070000
END:DAYLIGHT
BEGIN:STANDARD
TZOFFSETFROM:-0400
TZOFFSETTO:-0500
TZNAME:EST
DTSTART:20261101T060000
END:STANDARD
BEGIN:DAYLIGHT
TZOFFSETFROM:-0500
TZOFFSETTO:-0400
TZNAME:EDT
DTSTART:20270314T070000
END:DAYLIGHT
BEGIN:STANDARD
TZOFFSETFROM:-0400
TZOFFSETTO:-0500
TZNAME:EST
DTSTART:20271107T060000
END:STANDARD
END:VTIMEZONE
BEGIN:VEVENT
DTSTART;TZID=America/New_York:20260125T120000
DTEND;TZID=America/New_York:20260125T150000
DTSTAMP:20260421T203602
CREATED:20230726T140602Z
LAST-MODIFIED:20230726T140602Z
UID:10001242-1769342400-1769353200@www.vkind.com
SUMMARY:Vegan Sunday Brunch
DESCRIPTION:Every Sunday \nNoon to 3 pm \nVegan Sunday Brunch \nThe Lair (420 Safe Place) \nSunday Funday (games\, movies\, & brunch)
URL:https://www.vkind.com/vegan-events/vegan-sunday-brunch/2026-01-25/
LOCATION:The Lair 420 Social Club\, 323 N 52ND ST\, Philadelphia\, PA\, 19139\, United States
ATTACH;FMTTYPE=image/jpeg:https://www.vkind.com/wp-content/uploads/2023/07/Vegan-Sunday-Brunch.jpg
GEO:39.9660173;-75.2244895
X-APPLE-STRUCTURED-LOCATION;VALUE=URI;X-ADDRESS=The Lair 420 Social Club 323 N 52ND ST Philadelphia PA 19139 United States;X-APPLE-RADIUS=500;X-TITLE=323 N 52ND ST:geo:-75.2244895,39.9660173
END:VEVENT
BEGIN:VEVENT
DTSTART;TZID=America/New_York:20260118T120000
DTEND;TZID=America/New_York:20260118T150000
DTSTAMP:20260421T203602
CREATED:20230726T140602Z
LAST-MODIFIED:20230726T140602Z
UID:10001241-1768737600-1768748400@www.vkind.com
SUMMARY:Vegan Sunday Brunch
DESCRIPTION:Every Sunday \nNoon to 3 pm \nVegan Sunday Brunch \nThe Lair (420 Safe Place) \nSunday Funday (games\, movies\, & brunch)
URL:https://www.vkind.com/vegan-events/vegan-sunday-brunch/2026-01-18/
LOCATION:The Lair 420 Social Club\, 323 N 52ND ST\, Philadelphia\, PA\, 19139\, United States
ATTACH;FMTTYPE=image/jpeg:https://www.vkind.com/wp-content/uploads/2023/07/Vegan-Sunday-Brunch.jpg
GEO:39.9660173;-75.2244895
X-APPLE-STRUCTURED-LOCATION;VALUE=URI;X-ADDRESS=The Lair 420 Social Club 323 N 52ND ST Philadelphia PA 19139 United States;X-APPLE-RADIUS=500;X-TITLE=323 N 52ND ST:geo:-75.2244895,39.9660173
END:VEVENT
BEGIN:VEVENT
DTSTART;TZID=America/New_York:20260111T120000
DTEND;TZID=America/New_York:20260111T150000
DTSTAMP:20260421T203602
CREATED:20230726T140602Z
LAST-MODIFIED:20230726T140602Z
UID:10001240-1768132800-1768143600@www.vkind.com
SUMMARY:Vegan Sunday Brunch
DESCRIPTION:Every Sunday \nNoon to 3 pm \nVegan Sunday Brunch \nThe Lair (420 Safe Place) \nSunday Funday (games\, movies\, & brunch)
URL:https://www.vkind.com/vegan-events/vegan-sunday-brunch/2026-01-11/
LOCATION:The Lair 420 Social Club\, 323 N 52ND ST\, Philadelphia\, PA\, 19139\, United States
ATTACH;FMTTYPE=image/jpeg:https://www.vkind.com/wp-content/uploads/2023/07/Vegan-Sunday-Brunch.jpg
GEO:39.9660173;-75.2244895
X-APPLE-STRUCTURED-LOCATION;VALUE=URI;X-ADDRESS=The Lair 420 Social Club 323 N 52ND ST Philadelphia PA 19139 United States;X-APPLE-RADIUS=500;X-TITLE=323 N 52ND ST:geo:-75.2244895,39.9660173
END:VEVENT
BEGIN:VEVENT
DTSTART;TZID=America/New_York:20260104T120000
DTEND;TZID=America/New_York:20260104T150000
DTSTAMP:20260421T203602
CREATED:20230726T140602Z
LAST-MODIFIED:20230726T140602Z
UID:10001239-1767528000-1767538800@www.vkind.com
SUMMARY:Vegan Sunday Brunch
DESCRIPTION:Every Sunday \nNoon to 3 pm \nVegan Sunday Brunch \nThe Lair (420 Safe Place) \nSunday Funday (games\, movies\, & brunch)
URL:https://www.vkind.com/vegan-events/vegan-sunday-brunch/2026-01-04/
LOCATION:The Lair 420 Social Club\, 323 N 52ND ST\, Philadelphia\, PA\, 19139\, United States
ATTACH;FMTTYPE=image/jpeg:https://www.vkind.com/wp-content/uploads/2023/07/Vegan-Sunday-Brunch.jpg
GEO:39.9660173;-75.2244895
X-APPLE-STRUCTURED-LOCATION;VALUE=URI;X-ADDRESS=The Lair 420 Social Club 323 N 52ND ST Philadelphia PA 19139 United States;X-APPLE-RADIUS=500;X-TITLE=323 N 52ND ST:geo:-75.2244895,39.9660173
END:VEVENT
BEGIN:VEVENT
DTSTART;TZID=America/New_York:20251228T120000
DTEND;TZID=America/New_York:20251228T150000
DTSTAMP:20260421T203602
CREATED:20230726T140602Z
LAST-MODIFIED:20230726T140602Z
UID:10001238-1766923200-1766934000@www.vkind.com
SUMMARY:Vegan Sunday Brunch
DESCRIPTION:Every Sunday \nNoon to 3 pm \nVegan Sunday Brunch \nThe Lair (420 Safe Place) \nSunday Funday (games\, movies\, & brunch)
URL:https://www.vkind.com/vegan-events/vegan-sunday-brunch/2025-12-28/
LOCATION:The Lair 420 Social Club\, 323 N 52ND ST\, Philadelphia\, PA\, 19139\, United States
ATTACH;FMTTYPE=image/jpeg:https://www.vkind.com/wp-content/uploads/2023/07/Vegan-Sunday-Brunch.jpg
GEO:39.9660173;-75.2244895
X-APPLE-STRUCTURED-LOCATION;VALUE=URI;X-ADDRESS=The Lair 420 Social Club 323 N 52ND ST Philadelphia PA 19139 United States;X-APPLE-RADIUS=500;X-TITLE=323 N 52ND ST:geo:-75.2244895,39.9660173
END:VEVENT
BEGIN:VEVENT
DTSTART;TZID=America/New_York:20251221T120000
DTEND;TZID=America/New_York:20251221T150000
DTSTAMP:20260421T203602
CREATED:20230726T140602Z
LAST-MODIFIED:20230726T140602Z
UID:10001237-1766318400-1766329200@www.vkind.com
SUMMARY:Vegan Sunday Brunch
DESCRIPTION:Every Sunday \nNoon to 3 pm \nVegan Sunday Brunch \nThe Lair (420 Safe Place) \nSunday Funday (games\, movies\, & brunch)
URL:https://www.vkind.com/vegan-events/vegan-sunday-brunch/2025-12-21/
LOCATION:The Lair 420 Social Club\, 323 N 52ND ST\, Philadelphia\, PA\, 19139\, United States
ATTACH;FMTTYPE=image/jpeg:https://www.vkind.com/wp-content/uploads/2023/07/Vegan-Sunday-Brunch.jpg
GEO:39.9660173;-75.2244895
X-APPLE-STRUCTURED-LOCATION;VALUE=URI;X-ADDRESS=The Lair 420 Social Club 323 N 52ND ST Philadelphia PA 19139 United States;X-APPLE-RADIUS=500;X-TITLE=323 N 52ND ST:geo:-75.2244895,39.9660173
END:VEVENT
BEGIN:VEVENT
DTSTART;TZID=America/New_York:20251214T120000
DTEND;TZID=America/New_York:20251214T150000
DTSTAMP:20260421T203602
CREATED:20230726T140602Z
LAST-MODIFIED:20230726T140602Z
UID:10001236-1765713600-1765724400@www.vkind.com
SUMMARY:Vegan Sunday Brunch
DESCRIPTION:Every Sunday \nNoon to 3 pm \nVegan Sunday Brunch \nThe Lair (420 Safe Place) \nSunday Funday (games\, movies\, & brunch)
URL:https://www.vkind.com/vegan-events/vegan-sunday-brunch/2025-12-14/
LOCATION:The Lair 420 Social Club\, 323 N 52ND ST\, Philadelphia\, PA\, 19139\, United States
ATTACH;FMTTYPE=image/jpeg:https://www.vkind.com/wp-content/uploads/2023/07/Vegan-Sunday-Brunch.jpg
GEO:39.9660173;-75.2244895
X-APPLE-STRUCTURED-LOCATION;VALUE=URI;X-ADDRESS=The Lair 420 Social Club 323 N 52ND ST Philadelphia PA 19139 United States;X-APPLE-RADIUS=500;X-TITLE=323 N 52ND ST:geo:-75.2244895,39.9660173
END:VEVENT
BEGIN:VEVENT
DTSTART;TZID=America/New_York:20251207T120000
DTEND;TZID=America/New_York:20251207T150000
DTSTAMP:20260421T203602
CREATED:20230726T140602Z
LAST-MODIFIED:20230726T140602Z
UID:10001235-1765108800-1765119600@www.vkind.com
SUMMARY:Vegan Sunday Brunch
DESCRIPTION:Every Sunday \nNoon to 3 pm \nVegan Sunday Brunch \nThe Lair (420 Safe Place) \nSunday Funday (games\, movies\, & brunch)
URL:https://www.vkind.com/vegan-events/vegan-sunday-brunch/2025-12-07/
LOCATION:The Lair 420 Social Club\, 323 N 52ND ST\, Philadelphia\, PA\, 19139\, United States
ATTACH;FMTTYPE=image/jpeg:https://www.vkind.com/wp-content/uploads/2023/07/Vegan-Sunday-Brunch.jpg
GEO:39.9660173;-75.2244895
X-APPLE-STRUCTURED-LOCATION;VALUE=URI;X-ADDRESS=The Lair 420 Social Club 323 N 52ND ST Philadelphia PA 19139 United States;X-APPLE-RADIUS=500;X-TITLE=323 N 52ND ST:geo:-75.2244895,39.9660173
END:VEVENT
BEGIN:VEVENT
DTSTART;TZID=America/New_York:20251130T120000
DTEND;TZID=America/New_York:20251130T150000
DTSTAMP:20260421T203602
CREATED:20230726T140602Z
LAST-MODIFIED:20230726T140602Z
UID:10001234-1764504000-1764514800@www.vkind.com
SUMMARY:Vegan Sunday Brunch
DESCRIPTION:Every Sunday \nNoon to 3 pm \nVegan Sunday Brunch \nThe Lair (420 Safe Place) \nSunday Funday (games\, movies\, & brunch)
URL:https://www.vkind.com/vegan-events/vegan-sunday-brunch/2025-11-30/
LOCATION:The Lair 420 Social Club\, 323 N 52ND ST\, Philadelphia\, PA\, 19139\, United States
ATTACH;FMTTYPE=image/jpeg:https://www.vkind.com/wp-content/uploads/2023/07/Vegan-Sunday-Brunch.jpg
GEO:39.9660173;-75.2244895
X-APPLE-STRUCTURED-LOCATION;VALUE=URI;X-ADDRESS=The Lair 420 Social Club 323 N 52ND ST Philadelphia PA 19139 United States;X-APPLE-RADIUS=500;X-TITLE=323 N 52ND ST:geo:-75.2244895,39.9660173
END:VEVENT
BEGIN:VEVENT
DTSTART;TZID=America/New_York:20251123T120000
DTEND;TZID=America/New_York:20251123T150000
DTSTAMP:20260421T203602
CREATED:20230726T140602Z
LAST-MODIFIED:20230726T140602Z
UID:10001233-1763899200-1763910000@www.vkind.com
SUMMARY:Vegan Sunday Brunch
DESCRIPTION:Every Sunday \nNoon to 3 pm \nVegan Sunday Brunch \nThe Lair (420 Safe Place) \nSunday Funday (games\, movies\, & brunch)
URL:https://www.vkind.com/vegan-events/vegan-sunday-brunch/2025-11-23/
LOCATION:The Lair 420 Social Club\, 323 N 52ND ST\, Philadelphia\, PA\, 19139\, United States
ATTACH;FMTTYPE=image/jpeg:https://www.vkind.com/wp-content/uploads/2023/07/Vegan-Sunday-Brunch.jpg
GEO:39.9660173;-75.2244895
X-APPLE-STRUCTURED-LOCATION;VALUE=URI;X-ADDRESS=The Lair 420 Social Club 323 N 52ND ST Philadelphia PA 19139 United States;X-APPLE-RADIUS=500;X-TITLE=323 N 52ND ST:geo:-75.2244895,39.9660173
END:VEVENT
BEGIN:VEVENT
DTSTART;TZID=America/New_York:20251116T120000
DTEND;TZID=America/New_York:20251116T150000
DTSTAMP:20260421T203602
CREATED:20230726T140602Z
LAST-MODIFIED:20230726T140602Z
UID:10001232-1763294400-1763305200@www.vkind.com
SUMMARY:Vegan Sunday Brunch
DESCRIPTION:Every Sunday \nNoon to 3 pm \nVegan Sunday Brunch \nThe Lair (420 Safe Place) \nSunday Funday (games\, movies\, & brunch)
URL:https://www.vkind.com/vegan-events/vegan-sunday-brunch/2025-11-16/
LOCATION:The Lair 420 Social Club\, 323 N 52ND ST\, Philadelphia\, PA\, 19139\, United States
ATTACH;FMTTYPE=image/jpeg:https://www.vkind.com/wp-content/uploads/2023/07/Vegan-Sunday-Brunch.jpg
GEO:39.9660173;-75.2244895
X-APPLE-STRUCTURED-LOCATION;VALUE=URI;X-ADDRESS=The Lair 420 Social Club 323 N 52ND ST Philadelphia PA 19139 United States;X-APPLE-RADIUS=500;X-TITLE=323 N 52ND ST:geo:-75.2244895,39.9660173
END:VEVENT
BEGIN:VEVENT
DTSTART;TZID=America/New_York:20251109T120000
DTEND;TZID=America/New_York:20251109T150000
DTSTAMP:20260421T203602
CREATED:20230726T140602Z
LAST-MODIFIED:20230726T140602Z
UID:10001231-1762689600-1762700400@www.vkind.com
SUMMARY:Vegan Sunday Brunch
DESCRIPTION:Every Sunday \nNoon to 3 pm \nVegan Sunday Brunch \nThe Lair (420 Safe Place) \nSunday Funday (games\, movies\, & brunch)
URL:https://www.vkind.com/vegan-events/vegan-sunday-brunch/2025-11-09/
LOCATION:The Lair 420 Social Club\, 323 N 52ND ST\, Philadelphia\, PA\, 19139\, United States
ATTACH;FMTTYPE=image/jpeg:https://www.vkind.com/wp-content/uploads/2023/07/Vegan-Sunday-Brunch.jpg
GEO:39.9660173;-75.2244895
X-APPLE-STRUCTURED-LOCATION;VALUE=URI;X-ADDRESS=The Lair 420 Social Club 323 N 52ND ST Philadelphia PA 19139 United States;X-APPLE-RADIUS=500;X-TITLE=323 N 52ND ST:geo:-75.2244895,39.9660173
END:VEVENT
BEGIN:VEVENT
DTSTART;TZID=America/New_York:20251102T120000
DTEND;TZID=America/New_York:20251102T150000
DTSTAMP:20260421T203602
CREATED:20230726T140602Z
LAST-MODIFIED:20230726T140602Z
UID:10001230-1762084800-1762095600@www.vkind.com
SUMMARY:Vegan Sunday Brunch
DESCRIPTION:Every Sunday \nNoon to 3 pm \nVegan Sunday Brunch \nThe Lair (420 Safe Place) \nSunday Funday (games\, movies\, & brunch)
URL:https://www.vkind.com/vegan-events/vegan-sunday-brunch/2025-11-02/
LOCATION:The Lair 420 Social Club\, 323 N 52ND ST\, Philadelphia\, PA\, 19139\, United States
ATTACH;FMTTYPE=image/jpeg:https://www.vkind.com/wp-content/uploads/2023/07/Vegan-Sunday-Brunch.jpg
GEO:39.9660173;-75.2244895
X-APPLE-STRUCTURED-LOCATION;VALUE=URI;X-ADDRESS=The Lair 420 Social Club 323 N 52ND ST Philadelphia PA 19139 United States;X-APPLE-RADIUS=500;X-TITLE=323 N 52ND ST:geo:-75.2244895,39.9660173
END:VEVENT
BEGIN:VEVENT
DTSTART;TZID=America/New_York:20251026T120000
DTEND;TZID=America/New_York:20251026T150000
DTSTAMP:20260421T203602
CREATED:20230726T140602Z
LAST-MODIFIED:20230726T140602Z
UID:10001229-1761480000-1761490800@www.vkind.com
SUMMARY:Vegan Sunday Brunch
DESCRIPTION:Every Sunday \nNoon to 3 pm \nVegan Sunday Brunch \nThe Lair (420 Safe Place) \nSunday Funday (games\, movies\, & brunch)
URL:https://www.vkind.com/vegan-events/vegan-sunday-brunch/2025-10-26/
LOCATION:The Lair 420 Social Club\, 323 N 52ND ST\, Philadelphia\, PA\, 19139\, United States
ATTACH;FMTTYPE=image/jpeg:https://www.vkind.com/wp-content/uploads/2023/07/Vegan-Sunday-Brunch.jpg
GEO:39.9660173;-75.2244895
X-APPLE-STRUCTURED-LOCATION;VALUE=URI;X-ADDRESS=The Lair 420 Social Club 323 N 52ND ST Philadelphia PA 19139 United States;X-APPLE-RADIUS=500;X-TITLE=323 N 52ND ST:geo:-75.2244895,39.9660173
END:VEVENT
BEGIN:VEVENT
DTSTART;TZID=America/New_York:20251019T120000
DTEND;TZID=America/New_York:20251019T150000
DTSTAMP:20260421T203602
CREATED:20230726T140602Z
LAST-MODIFIED:20230726T140602Z
UID:10001228-1760875200-1760886000@www.vkind.com
SUMMARY:Vegan Sunday Brunch
DESCRIPTION:Every Sunday \nNoon to 3 pm \nVegan Sunday Brunch \nThe Lair (420 Safe Place) \nSunday Funday (games\, movies\, & brunch)
URL:https://www.vkind.com/vegan-events/vegan-sunday-brunch/2025-10-19/
LOCATION:The Lair 420 Social Club\, 323 N 52ND ST\, Philadelphia\, PA\, 19139\, United States
ATTACH;FMTTYPE=image/jpeg:https://www.vkind.com/wp-content/uploads/2023/07/Vegan-Sunday-Brunch.jpg
GEO:39.9660173;-75.2244895
X-APPLE-STRUCTURED-LOCATION;VALUE=URI;X-ADDRESS=The Lair 420 Social Club 323 N 52ND ST Philadelphia PA 19139 United States;X-APPLE-RADIUS=500;X-TITLE=323 N 52ND ST:geo:-75.2244895,39.9660173
END:VEVENT
BEGIN:VEVENT
DTSTART;TZID=America/New_York:20251012T120000
DTEND;TZID=America/New_York:20251012T150000
DTSTAMP:20260421T203602
CREATED:20230726T140602Z
LAST-MODIFIED:20230726T140602Z
UID:10001227-1760270400-1760281200@www.vkind.com
SUMMARY:Vegan Sunday Brunch
DESCRIPTION:Every Sunday \nNoon to 3 pm \nVegan Sunday Brunch \nThe Lair (420 Safe Place) \nSunday Funday (games\, movies\, & brunch)
URL:https://www.vkind.com/vegan-events/vegan-sunday-brunch/2025-10-12/
LOCATION:The Lair 420 Social Club\, 323 N 52ND ST\, Philadelphia\, PA\, 19139\, United States
ATTACH;FMTTYPE=image/jpeg:https://www.vkind.com/wp-content/uploads/2023/07/Vegan-Sunday-Brunch.jpg
GEO:39.9660173;-75.2244895
X-APPLE-STRUCTURED-LOCATION;VALUE=URI;X-ADDRESS=The Lair 420 Social Club 323 N 52ND ST Philadelphia PA 19139 United States;X-APPLE-RADIUS=500;X-TITLE=323 N 52ND ST:geo:-75.2244895,39.9660173
END:VEVENT
BEGIN:VEVENT
DTSTART;TZID=America/New_York:20251005T120000
DTEND;TZID=America/New_York:20251005T150000
DTSTAMP:20260421T203602
CREATED:20230726T140602Z
LAST-MODIFIED:20230726T140602Z
UID:10001226-1759665600-1759676400@www.vkind.com
SUMMARY:Vegan Sunday Brunch
DESCRIPTION:Every Sunday \nNoon to 3 pm \nVegan Sunday Brunch \nThe Lair (420 Safe Place) \nSunday Funday (games\, movies\, & brunch)
URL:https://www.vkind.com/vegan-events/vegan-sunday-brunch/2025-10-05/
LOCATION:The Lair 420 Social Club\, 323 N 52ND ST\, Philadelphia\, PA\, 19139\, United States
ATTACH;FMTTYPE=image/jpeg:https://www.vkind.com/wp-content/uploads/2023/07/Vegan-Sunday-Brunch.jpg
GEO:39.9660173;-75.2244895
X-APPLE-STRUCTURED-LOCATION;VALUE=URI;X-ADDRESS=The Lair 420 Social Club 323 N 52ND ST Philadelphia PA 19139 United States;X-APPLE-RADIUS=500;X-TITLE=323 N 52ND ST:geo:-75.2244895,39.9660173
END:VEVENT
BEGIN:VEVENT
DTSTART;TZID=America/New_York:20250928T120000
DTEND;TZID=America/New_York:20250928T150000
DTSTAMP:20260421T203602
CREATED:20230726T140602Z
LAST-MODIFIED:20230726T140602Z
UID:10001225-1759060800-1759071600@www.vkind.com
SUMMARY:Vegan Sunday Brunch
DESCRIPTION:Every Sunday \nNoon to 3 pm \nVegan Sunday Brunch \nThe Lair (420 Safe Place) \nSunday Funday (games\, movies\, & brunch)
URL:https://www.vkind.com/vegan-events/vegan-sunday-brunch/2025-09-28/
LOCATION:The Lair 420 Social Club\, 323 N 52ND ST\, Philadelphia\, PA\, 19139\, United States
ATTACH;FMTTYPE=image/jpeg:https://www.vkind.com/wp-content/uploads/2023/07/Vegan-Sunday-Brunch.jpg
GEO:39.9660173;-75.2244895
X-APPLE-STRUCTURED-LOCATION;VALUE=URI;X-ADDRESS=The Lair 420 Social Club 323 N 52ND ST Philadelphia PA 19139 United States;X-APPLE-RADIUS=500;X-TITLE=323 N 52ND ST:geo:-75.2244895,39.9660173
END:VEVENT
BEGIN:VEVENT
DTSTART;TZID=America/New_York:20250921T120000
DTEND;TZID=America/New_York:20250921T150000
DTSTAMP:20260421T203602
CREATED:20230726T140602Z
LAST-MODIFIED:20230726T140602Z
UID:10001224-1758456000-1758466800@www.vkind.com
SUMMARY:Vegan Sunday Brunch
DESCRIPTION:Every Sunday \nNoon to 3 pm \nVegan Sunday Brunch \nThe Lair (420 Safe Place) \nSunday Funday (games\, movies\, & brunch)
URL:https://www.vkind.com/vegan-events/vegan-sunday-brunch/2025-09-21/
LOCATION:The Lair 420 Social Club\, 323 N 52ND ST\, Philadelphia\, PA\, 19139\, United States
ATTACH;FMTTYPE=image/jpeg:https://www.vkind.com/wp-content/uploads/2023/07/Vegan-Sunday-Brunch.jpg
GEO:39.9660173;-75.2244895
X-APPLE-STRUCTURED-LOCATION;VALUE=URI;X-ADDRESS=The Lair 420 Social Club 323 N 52ND ST Philadelphia PA 19139 United States;X-APPLE-RADIUS=500;X-TITLE=323 N 52ND ST:geo:-75.2244895,39.9660173
END:VEVENT
BEGIN:VEVENT
DTSTART;TZID=America/New_York:20250914T120000
DTEND;TZID=America/New_York:20250914T150000
DTSTAMP:20260421T203602
CREATED:20230726T140602Z
LAST-MODIFIED:20230726T140602Z
UID:10001223-1757851200-1757862000@www.vkind.com
SUMMARY:Vegan Sunday Brunch
DESCRIPTION:Every Sunday \nNoon to 3 pm \nVegan Sunday Brunch \nThe Lair (420 Safe Place) \nSunday Funday (games\, movies\, & brunch)
URL:https://www.vkind.com/vegan-events/vegan-sunday-brunch/2025-09-14/
LOCATION:The Lair 420 Social Club\, 323 N 52ND ST\, Philadelphia\, PA\, 19139\, United States
ATTACH;FMTTYPE=image/jpeg:https://www.vkind.com/wp-content/uploads/2023/07/Vegan-Sunday-Brunch.jpg
GEO:39.9660173;-75.2244895
X-APPLE-STRUCTURED-LOCATION;VALUE=URI;X-ADDRESS=The Lair 420 Social Club 323 N 52ND ST Philadelphia PA 19139 United States;X-APPLE-RADIUS=500;X-TITLE=323 N 52ND ST:geo:-75.2244895,39.9660173
END:VEVENT
BEGIN:VEVENT
DTSTART;TZID=America/New_York:20250907T120000
DTEND;TZID=America/New_York:20250907T150000
DTSTAMP:20260421T203602
CREATED:20230726T140602Z
LAST-MODIFIED:20230726T140602Z
UID:10001222-1757246400-1757257200@www.vkind.com
SUMMARY:Vegan Sunday Brunch
DESCRIPTION:Every Sunday \nNoon to 3 pm \nVegan Sunday Brunch \nThe Lair (420 Safe Place) \nSunday Funday (games\, movies\, & brunch)
URL:https://www.vkind.com/vegan-events/vegan-sunday-brunch/2025-09-07/
LOCATION:The Lair 420 Social Club\, 323 N 52ND ST\, Philadelphia\, PA\, 19139\, United States
ATTACH;FMTTYPE=image/jpeg:https://www.vkind.com/wp-content/uploads/2023/07/Vegan-Sunday-Brunch.jpg
GEO:39.9660173;-75.2244895
X-APPLE-STRUCTURED-LOCATION;VALUE=URI;X-ADDRESS=The Lair 420 Social Club 323 N 52ND ST Philadelphia PA 19139 United States;X-APPLE-RADIUS=500;X-TITLE=323 N 52ND ST:geo:-75.2244895,39.9660173
END:VEVENT
BEGIN:VEVENT
DTSTART;TZID=America/New_York:20250831T120000
DTEND;TZID=America/New_York:20250831T150000
DTSTAMP:20260421T203602
CREATED:20230726T140602Z
LAST-MODIFIED:20230726T140602Z
UID:10001221-1756641600-1756652400@www.vkind.com
SUMMARY:Vegan Sunday Brunch
DESCRIPTION:Every Sunday \nNoon to 3 pm \nVegan Sunday Brunch \nThe Lair (420 Safe Place) \nSunday Funday (games\, movies\, & brunch)
URL:https://www.vkind.com/vegan-events/vegan-sunday-brunch/2025-08-31/
LOCATION:The Lair 420 Social Club\, 323 N 52ND ST\, Philadelphia\, PA\, 19139\, United States
ATTACH;FMTTYPE=image/jpeg:https://www.vkind.com/wp-content/uploads/2023/07/Vegan-Sunday-Brunch.jpg
GEO:39.9660173;-75.2244895
X-APPLE-STRUCTURED-LOCATION;VALUE=URI;X-ADDRESS=The Lair 420 Social Club 323 N 52ND ST Philadelphia PA 19139 United States;X-APPLE-RADIUS=500;X-TITLE=323 N 52ND ST:geo:-75.2244895,39.9660173
END:VEVENT
BEGIN:VEVENT
DTSTART;TZID=America/New_York:20250824T120000
DTEND;TZID=America/New_York:20250824T150000
DTSTAMP:20260421T203602
CREATED:20230726T140602Z
LAST-MODIFIED:20230726T140602Z
UID:10001220-1756036800-1756047600@www.vkind.com
SUMMARY:Vegan Sunday Brunch
DESCRIPTION:Every Sunday \nNoon to 3 pm \nVegan Sunday Brunch \nThe Lair (420 Safe Place) \nSunday Funday (games\, movies\, & brunch)
URL:https://www.vkind.com/vegan-events/vegan-sunday-brunch/2025-08-24/
LOCATION:The Lair 420 Social Club\, 323 N 52ND ST\, Philadelphia\, PA\, 19139\, United States
ATTACH;FMTTYPE=image/jpeg:https://www.vkind.com/wp-content/uploads/2023/07/Vegan-Sunday-Brunch.jpg
GEO:39.9660173;-75.2244895
X-APPLE-STRUCTURED-LOCATION;VALUE=URI;X-ADDRESS=The Lair 420 Social Club 323 N 52ND ST Philadelphia PA 19139 United States;X-APPLE-RADIUS=500;X-TITLE=323 N 52ND ST:geo:-75.2244895,39.9660173
END:VEVENT
BEGIN:VEVENT
DTSTART;TZID=America/New_York:20250817T120000
DTEND;TZID=America/New_York:20250817T150000
DTSTAMP:20260421T203602
CREATED:20230726T140602Z
LAST-MODIFIED:20230726T140602Z
UID:10001219-1755432000-1755442800@www.vkind.com
SUMMARY:Vegan Sunday Brunch
DESCRIPTION:Every Sunday \nNoon to 3 pm \nVegan Sunday Brunch \nThe Lair (420 Safe Place) \nSunday Funday (games\, movies\, & brunch)
URL:https://www.vkind.com/vegan-events/vegan-sunday-brunch/2025-08-17/
LOCATION:The Lair 420 Social Club\, 323 N 52ND ST\, Philadelphia\, PA\, 19139\, United States
ATTACH;FMTTYPE=image/jpeg:https://www.vkind.com/wp-content/uploads/2023/07/Vegan-Sunday-Brunch.jpg
GEO:39.9660173;-75.2244895
X-APPLE-STRUCTURED-LOCATION;VALUE=URI;X-ADDRESS=The Lair 420 Social Club 323 N 52ND ST Philadelphia PA 19139 United States;X-APPLE-RADIUS=500;X-TITLE=323 N 52ND ST:geo:-75.2244895,39.9660173
END:VEVENT
BEGIN:VEVENT
DTSTART;TZID=America/New_York:20250810T120000
DTEND;TZID=America/New_York:20250810T150000
DTSTAMP:20260421T203602
CREATED:20230726T140602Z
LAST-MODIFIED:20230726T140602Z
UID:10001218-1754827200-1754838000@www.vkind.com
SUMMARY:Vegan Sunday Brunch
DESCRIPTION:Every Sunday \nNoon to 3 pm \nVegan Sunday Brunch \nThe Lair (420 Safe Place) \nSunday Funday (games\, movies\, & brunch)
URL:https://www.vkind.com/vegan-events/vegan-sunday-brunch/2025-08-10/
LOCATION:The Lair 420 Social Club\, 323 N 52ND ST\, Philadelphia\, PA\, 19139\, United States
ATTACH;FMTTYPE=image/jpeg:https://www.vkind.com/wp-content/uploads/2023/07/Vegan-Sunday-Brunch.jpg
GEO:39.9660173;-75.2244895
X-APPLE-STRUCTURED-LOCATION;VALUE=URI;X-ADDRESS=The Lair 420 Social Club 323 N 52ND ST Philadelphia PA 19139 United States;X-APPLE-RADIUS=500;X-TITLE=323 N 52ND ST:geo:-75.2244895,39.9660173
END:VEVENT
BEGIN:VEVENT
DTSTART;TZID=America/New_York:20250803T120000
DTEND;TZID=America/New_York:20250803T150000
DTSTAMP:20260421T203602
CREATED:20230726T140602Z
LAST-MODIFIED:20230726T140602Z
UID:10001217-1754222400-1754233200@www.vkind.com
SUMMARY:Vegan Sunday Brunch
DESCRIPTION:Every Sunday \nNoon to 3 pm \nVegan Sunday Brunch \nThe Lair (420 Safe Place) \nSunday Funday (games\, movies\, & brunch)
URL:https://www.vkind.com/vegan-events/vegan-sunday-brunch/2025-08-03/
LOCATION:The Lair 420 Social Club\, 323 N 52ND ST\, Philadelphia\, PA\, 19139\, United States
ATTACH;FMTTYPE=image/jpeg:https://www.vkind.com/wp-content/uploads/2023/07/Vegan-Sunday-Brunch.jpg
GEO:39.9660173;-75.2244895
X-APPLE-STRUCTURED-LOCATION;VALUE=URI;X-ADDRESS=The Lair 420 Social Club 323 N 52ND ST Philadelphia PA 19139 United States;X-APPLE-RADIUS=500;X-TITLE=323 N 52ND ST:geo:-75.2244895,39.9660173
END:VEVENT
BEGIN:VEVENT
DTSTART;TZID=America/New_York:20250727T120000
DTEND;TZID=America/New_York:20250727T150000
DTSTAMP:20260421T203602
CREATED:20230726T140602Z
LAST-MODIFIED:20230726T140602Z
UID:10001216-1753617600-1753628400@www.vkind.com
SUMMARY:Vegan Sunday Brunch
DESCRIPTION:Every Sunday \nNoon to 3 pm \nVegan Sunday Brunch \nThe Lair (420 Safe Place) \nSunday Funday (games\, movies\, & brunch)
URL:https://www.vkind.com/vegan-events/vegan-sunday-brunch/2025-07-27/
LOCATION:The Lair 420 Social Club\, 323 N 52ND ST\, Philadelphia\, PA\, 19139\, United States
ATTACH;FMTTYPE=image/jpeg:https://www.vkind.com/wp-content/uploads/2023/07/Vegan-Sunday-Brunch.jpg
GEO:39.9660173;-75.2244895
X-APPLE-STRUCTURED-LOCATION;VALUE=URI;X-ADDRESS=The Lair 420 Social Club 323 N 52ND ST Philadelphia PA 19139 United States;X-APPLE-RADIUS=500;X-TITLE=323 N 52ND ST:geo:-75.2244895,39.9660173
END:VEVENT
BEGIN:VEVENT
DTSTART;TZID=America/New_York:20250720T120000
DTEND;TZID=America/New_York:20250720T150000
DTSTAMP:20260421T203602
CREATED:20230726T140602Z
LAST-MODIFIED:20230726T140602Z
UID:10001215-1753012800-1753023600@www.vkind.com
SUMMARY:Vegan Sunday Brunch
DESCRIPTION:Every Sunday \nNoon to 3 pm \nVegan Sunday Brunch \nThe Lair (420 Safe Place) \nSunday Funday (games\, movies\, & brunch)
URL:https://www.vkind.com/vegan-events/vegan-sunday-brunch/2025-07-20/
LOCATION:The Lair 420 Social Club\, 323 N 52ND ST\, Philadelphia\, PA\, 19139\, United States
ATTACH;FMTTYPE=image/jpeg:https://www.vkind.com/wp-content/uploads/2023/07/Vegan-Sunday-Brunch.jpg
GEO:39.9660173;-75.2244895
X-APPLE-STRUCTURED-LOCATION;VALUE=URI;X-ADDRESS=The Lair 420 Social Club 323 N 52ND ST Philadelphia PA 19139 United States;X-APPLE-RADIUS=500;X-TITLE=323 N 52ND ST:geo:-75.2244895,39.9660173
END:VEVENT
BEGIN:VEVENT
DTSTART;TZID=America/New_York:20250713T120000
DTEND;TZID=America/New_York:20250713T150000
DTSTAMP:20260421T203602
CREATED:20230726T140602Z
LAST-MODIFIED:20230726T140602Z
UID:10001214-1752408000-1752418800@www.vkind.com
SUMMARY:Vegan Sunday Brunch
DESCRIPTION:Every Sunday \nNoon to 3 pm \nVegan Sunday Brunch \nThe Lair (420 Safe Place) \nSunday Funday (games\, movies\, & brunch)
URL:https://www.vkind.com/vegan-events/vegan-sunday-brunch/2025-07-13/
LOCATION:The Lair 420 Social Club\, 323 N 52ND ST\, Philadelphia\, PA\, 19139\, United States
ATTACH;FMTTYPE=image/jpeg:https://www.vkind.com/wp-content/uploads/2023/07/Vegan-Sunday-Brunch.jpg
GEO:39.9660173;-75.2244895
X-APPLE-STRUCTURED-LOCATION;VALUE=URI;X-ADDRESS=The Lair 420 Social Club 323 N 52ND ST Philadelphia PA 19139 United States;X-APPLE-RADIUS=500;X-TITLE=323 N 52ND ST:geo:-75.2244895,39.9660173
END:VEVENT
BEGIN:VEVENT
DTSTART;TZID=America/New_York:20250706T120000
DTEND;TZID=America/New_York:20250706T150000
DTSTAMP:20260421T203602
CREATED:20230726T140602Z
LAST-MODIFIED:20230726T140602Z
UID:10001213-1751803200-1751814000@www.vkind.com
SUMMARY:Vegan Sunday Brunch
DESCRIPTION:Every Sunday \nNoon to 3 pm \nVegan Sunday Brunch \nThe Lair (420 Safe Place) \nSunday Funday (games\, movies\, & brunch)
URL:https://www.vkind.com/vegan-events/vegan-sunday-brunch/2025-07-06/
LOCATION:The Lair 420 Social Club\, 323 N 52ND ST\, Philadelphia\, PA\, 19139\, United States
ATTACH;FMTTYPE=image/jpeg:https://www.vkind.com/wp-content/uploads/2023/07/Vegan-Sunday-Brunch.jpg
GEO:39.9660173;-75.2244895
X-APPLE-STRUCTURED-LOCATION;VALUE=URI;X-ADDRESS=The Lair 420 Social Club 323 N 52ND ST Philadelphia PA 19139 United States;X-APPLE-RADIUS=500;X-TITLE=323 N 52ND ST:geo:-75.2244895,39.9660173
END:VEVENT
END:VCALENDAR