BEGIN:VCALENDAR
VERSION:2.0
PRODID:-//Vkind - ECPv6.15.14//NONSGML v1.0//EN
CALSCALE:GREGORIAN
METHOD:PUBLISH
X-WR-CALNAME:Vkind
X-ORIGINAL-URL:https://www.vkind.com
X-WR-CALDESC:Events for Vkind
REFRESH-INTERVAL;VALUE=DURATION:PT1H
X-Robots-Tag:noindex
X-PUBLISHED-TTL:PT1H
BEGIN:VTIMEZONE
TZID:America/New_York
BEGIN:DAYLIGHT
TZOFFSETFROM:-0500
TZOFFSETTO:-0400
TZNAME:EDT
DTSTART:20220313T070000
END:DAYLIGHT
BEGIN:STANDARD
TZOFFSETFROM:-0400
TZOFFSETTO:-0500
TZNAME:EST
DTSTART:20221106T060000
END:STANDARD
BEGIN:DAYLIGHT
TZOFFSETFROM:-0500
TZOFFSETTO:-0400
TZNAME:EDT
DTSTART:20230312T070000
END:DAYLIGHT
BEGIN:STANDARD
TZOFFSETFROM:-0400
TZOFFSETTO:-0500
TZNAME:EST
DTSTART:20231105T060000
END:STANDARD
BEGIN:DAYLIGHT
TZOFFSETFROM:-0500
TZOFFSETTO:-0400
TZNAME:EDT
DTSTART:20240310T070000
END:DAYLIGHT
BEGIN:STANDARD
TZOFFSETFROM:-0400
TZOFFSETTO:-0500
TZNAME:EST
DTSTART:20241103T060000
END:STANDARD
BEGIN:DAYLIGHT
TZOFFSETFROM:-0500
TZOFFSETTO:-0400
TZNAME:EDT
DTSTART:20250309T070000
END:DAYLIGHT
BEGIN:STANDARD
TZOFFSETFROM:-0400
TZOFFSETTO:-0500
TZNAME:EST
DTSTART:20251102T060000
END:STANDARD
END:VTIMEZONE
BEGIN:VEVENT
DTSTART;TZID=America/New_York:20240211T120000
DTEND;TZID=America/New_York:20240211T150000
DTSTAMP:20260424T123945
CREATED:20230726T140602Z
LAST-MODIFIED:20230726T140602Z
UID:10001140-1707652800-1707663600@www.vkind.com
SUMMARY:Vegan Sunday Brunch
DESCRIPTION:Every Sunday \nNoon to 3 pm \nVegan Sunday Brunch \nThe Lair (420 Safe Place) \nSunday Funday (games\, movies\, & brunch)
URL:https://www.vkind.com/vegan-events/vegan-sunday-brunch/2024-02-11/
LOCATION:The Lair 420 Social Club\, 323 N 52ND ST\, Philadelphia\, PA\, 19139\, United States
ATTACH;FMTTYPE=image/jpeg:https://www.vkind.com/wp-content/uploads/2023/07/Vegan-Sunday-Brunch.jpg
GEO:39.9660173;-75.2244895
X-APPLE-STRUCTURED-LOCATION;VALUE=URI;X-ADDRESS=The Lair 420 Social Club 323 N 52ND ST Philadelphia PA 19139 United States;X-APPLE-RADIUS=500;X-TITLE=323 N 52ND ST:geo:-75.2244895,39.9660173
END:VEVENT
BEGIN:VEVENT
DTSTART;TZID=America/New_York:20240204T120000
DTEND;TZID=America/New_York:20240204T150000
DTSTAMP:20260424T123945
CREATED:20230726T140602Z
LAST-MODIFIED:20230726T140602Z
UID:10001139-1707048000-1707058800@www.vkind.com
SUMMARY:Vegan Sunday Brunch
DESCRIPTION:Every Sunday \nNoon to 3 pm \nVegan Sunday Brunch \nThe Lair (420 Safe Place) \nSunday Funday (games\, movies\, & brunch)
URL:https://www.vkind.com/vegan-events/vegan-sunday-brunch/2024-02-04/
LOCATION:The Lair 420 Social Club\, 323 N 52ND ST\, Philadelphia\, PA\, 19139\, United States
ATTACH;FMTTYPE=image/jpeg:https://www.vkind.com/wp-content/uploads/2023/07/Vegan-Sunday-Brunch.jpg
GEO:39.9660173;-75.2244895
X-APPLE-STRUCTURED-LOCATION;VALUE=URI;X-ADDRESS=The Lair 420 Social Club 323 N 52ND ST Philadelphia PA 19139 United States;X-APPLE-RADIUS=500;X-TITLE=323 N 52ND ST:geo:-75.2244895,39.9660173
END:VEVENT
BEGIN:VEVENT
DTSTART;TZID=America/New_York:20240128T120000
DTEND;TZID=America/New_York:20240128T150000
DTSTAMP:20260424T123945
CREATED:20230726T140602Z
LAST-MODIFIED:20230726T140602Z
UID:10001138-1706443200-1706454000@www.vkind.com
SUMMARY:Vegan Sunday Brunch
DESCRIPTION:Every Sunday \nNoon to 3 pm \nVegan Sunday Brunch \nThe Lair (420 Safe Place) \nSunday Funday (games\, movies\, & brunch)
URL:https://www.vkind.com/vegan-events/vegan-sunday-brunch/2024-01-28/
LOCATION:The Lair 420 Social Club\, 323 N 52ND ST\, Philadelphia\, PA\, 19139\, United States
ATTACH;FMTTYPE=image/jpeg:https://www.vkind.com/wp-content/uploads/2023/07/Vegan-Sunday-Brunch.jpg
GEO:39.9660173;-75.2244895
X-APPLE-STRUCTURED-LOCATION;VALUE=URI;X-ADDRESS=The Lair 420 Social Club 323 N 52ND ST Philadelphia PA 19139 United States;X-APPLE-RADIUS=500;X-TITLE=323 N 52ND ST:geo:-75.2244895,39.9660173
END:VEVENT
BEGIN:VEVENT
DTSTART;TZID=America/New_York:20240121T120000
DTEND;TZID=America/New_York:20240121T150000
DTSTAMP:20260424T123945
CREATED:20230726T140602Z
LAST-MODIFIED:20230726T140602Z
UID:10001137-1705838400-1705849200@www.vkind.com
SUMMARY:Vegan Sunday Brunch
DESCRIPTION:Every Sunday \nNoon to 3 pm \nVegan Sunday Brunch \nThe Lair (420 Safe Place) \nSunday Funday (games\, movies\, & brunch)
URL:https://www.vkind.com/vegan-events/vegan-sunday-brunch/2024-01-21/
LOCATION:The Lair 420 Social Club\, 323 N 52ND ST\, Philadelphia\, PA\, 19139\, United States
ATTACH;FMTTYPE=image/jpeg:https://www.vkind.com/wp-content/uploads/2023/07/Vegan-Sunday-Brunch.jpg
GEO:39.9660173;-75.2244895
X-APPLE-STRUCTURED-LOCATION;VALUE=URI;X-ADDRESS=The Lair 420 Social Club 323 N 52ND ST Philadelphia PA 19139 United States;X-APPLE-RADIUS=500;X-TITLE=323 N 52ND ST:geo:-75.2244895,39.9660173
END:VEVENT
BEGIN:VEVENT
DTSTART;TZID=America/New_York:20240114T120000
DTEND;TZID=America/New_York:20240114T150000
DTSTAMP:20260424T123945
CREATED:20230726T140602Z
LAST-MODIFIED:20230726T140602Z
UID:10001136-1705233600-1705244400@www.vkind.com
SUMMARY:Vegan Sunday Brunch
DESCRIPTION:Every Sunday \nNoon to 3 pm \nVegan Sunday Brunch \nThe Lair (420 Safe Place) \nSunday Funday (games\, movies\, & brunch)
URL:https://www.vkind.com/vegan-events/vegan-sunday-brunch/2024-01-14/
LOCATION:The Lair 420 Social Club\, 323 N 52ND ST\, Philadelphia\, PA\, 19139\, United States
ATTACH;FMTTYPE=image/jpeg:https://www.vkind.com/wp-content/uploads/2023/07/Vegan-Sunday-Brunch.jpg
GEO:39.9660173;-75.2244895
X-APPLE-STRUCTURED-LOCATION;VALUE=URI;X-ADDRESS=The Lair 420 Social Club 323 N 52ND ST Philadelphia PA 19139 United States;X-APPLE-RADIUS=500;X-TITLE=323 N 52ND ST:geo:-75.2244895,39.9660173
END:VEVENT
BEGIN:VEVENT
DTSTART;TZID=America/New_York:20240107T120000
DTEND;TZID=America/New_York:20240107T150000
DTSTAMP:20260424T123945
CREATED:20230726T140602Z
LAST-MODIFIED:20230726T140602Z
UID:10001135-1704628800-1704639600@www.vkind.com
SUMMARY:Vegan Sunday Brunch
DESCRIPTION:Every Sunday \nNoon to 3 pm \nVegan Sunday Brunch \nThe Lair (420 Safe Place) \nSunday Funday (games\, movies\, & brunch)
URL:https://www.vkind.com/vegan-events/vegan-sunday-brunch/2024-01-07/
LOCATION:The Lair 420 Social Club\, 323 N 52ND ST\, Philadelphia\, PA\, 19139\, United States
ATTACH;FMTTYPE=image/jpeg:https://www.vkind.com/wp-content/uploads/2023/07/Vegan-Sunday-Brunch.jpg
GEO:39.9660173;-75.2244895
X-APPLE-STRUCTURED-LOCATION;VALUE=URI;X-ADDRESS=The Lair 420 Social Club 323 N 52ND ST Philadelphia PA 19139 United States;X-APPLE-RADIUS=500;X-TITLE=323 N 52ND ST:geo:-75.2244895,39.9660173
END:VEVENT
BEGIN:VEVENT
DTSTART;TZID=America/New_York:20231231T120000
DTEND;TZID=America/New_York:20231231T150000
DTSTAMP:20260424T123945
CREATED:20230726T140602Z
LAST-MODIFIED:20230726T140602Z
UID:10001134-1704024000-1704034800@www.vkind.com
SUMMARY:Vegan Sunday Brunch
DESCRIPTION:Every Sunday \nNoon to 3 pm \nVegan Sunday Brunch \nThe Lair (420 Safe Place) \nSunday Funday (games\, movies\, & brunch)
URL:https://www.vkind.com/vegan-events/vegan-sunday-brunch/2023-12-31/
LOCATION:The Lair 420 Social Club\, 323 N 52ND ST\, Philadelphia\, PA\, 19139\, United States
ATTACH;FMTTYPE=image/jpeg:https://www.vkind.com/wp-content/uploads/2023/07/Vegan-Sunday-Brunch.jpg
GEO:39.9660173;-75.2244895
X-APPLE-STRUCTURED-LOCATION;VALUE=URI;X-ADDRESS=The Lair 420 Social Club 323 N 52ND ST Philadelphia PA 19139 United States;X-APPLE-RADIUS=500;X-TITLE=323 N 52ND ST:geo:-75.2244895,39.9660173
END:VEVENT
BEGIN:VEVENT
DTSTART;TZID=America/New_York:20231224T120000
DTEND;TZID=America/New_York:20231224T150000
DTSTAMP:20260424T123945
CREATED:20230726T140602Z
LAST-MODIFIED:20230726T140602Z
UID:10001133-1703419200-1703430000@www.vkind.com
SUMMARY:Vegan Sunday Brunch
DESCRIPTION:Every Sunday \nNoon to 3 pm \nVegan Sunday Brunch \nThe Lair (420 Safe Place) \nSunday Funday (games\, movies\, & brunch)
URL:https://www.vkind.com/vegan-events/vegan-sunday-brunch/2023-12-24/
LOCATION:The Lair 420 Social Club\, 323 N 52ND ST\, Philadelphia\, PA\, 19139\, United States
ATTACH;FMTTYPE=image/jpeg:https://www.vkind.com/wp-content/uploads/2023/07/Vegan-Sunday-Brunch.jpg
GEO:39.9660173;-75.2244895
X-APPLE-STRUCTURED-LOCATION;VALUE=URI;X-ADDRESS=The Lair 420 Social Club 323 N 52ND ST Philadelphia PA 19139 United States;X-APPLE-RADIUS=500;X-TITLE=323 N 52ND ST:geo:-75.2244895,39.9660173
END:VEVENT
BEGIN:VEVENT
DTSTART;TZID=America/New_York:20231217T120000
DTEND;TZID=America/New_York:20231217T150000
DTSTAMP:20260424T123945
CREATED:20230726T140602Z
LAST-MODIFIED:20230726T140602Z
UID:10001132-1702814400-1702825200@www.vkind.com
SUMMARY:Vegan Sunday Brunch
DESCRIPTION:Every Sunday \nNoon to 3 pm \nVegan Sunday Brunch \nThe Lair (420 Safe Place) \nSunday Funday (games\, movies\, & brunch)
URL:https://www.vkind.com/vegan-events/vegan-sunday-brunch/2023-12-17/
LOCATION:The Lair 420 Social Club\, 323 N 52ND ST\, Philadelphia\, PA\, 19139\, United States
ATTACH;FMTTYPE=image/jpeg:https://www.vkind.com/wp-content/uploads/2023/07/Vegan-Sunday-Brunch.jpg
GEO:39.9660173;-75.2244895
X-APPLE-STRUCTURED-LOCATION;VALUE=URI;X-ADDRESS=The Lair 420 Social Club 323 N 52ND ST Philadelphia PA 19139 United States;X-APPLE-RADIUS=500;X-TITLE=323 N 52ND ST:geo:-75.2244895,39.9660173
END:VEVENT
BEGIN:VEVENT
DTSTART;TZID=America/New_York:20231210T120000
DTEND;TZID=America/New_York:20231210T150000
DTSTAMP:20260424T123945
CREATED:20230726T140602Z
LAST-MODIFIED:20230726T140602Z
UID:10001131-1702209600-1702220400@www.vkind.com
SUMMARY:Vegan Sunday Brunch
DESCRIPTION:Every Sunday \nNoon to 3 pm \nVegan Sunday Brunch \nThe Lair (420 Safe Place) \nSunday Funday (games\, movies\, & brunch)
URL:https://www.vkind.com/vegan-events/vegan-sunday-brunch/2023-12-10/
LOCATION:The Lair 420 Social Club\, 323 N 52ND ST\, Philadelphia\, PA\, 19139\, United States
ATTACH;FMTTYPE=image/jpeg:https://www.vkind.com/wp-content/uploads/2023/07/Vegan-Sunday-Brunch.jpg
GEO:39.9660173;-75.2244895
X-APPLE-STRUCTURED-LOCATION;VALUE=URI;X-ADDRESS=The Lair 420 Social Club 323 N 52ND ST Philadelphia PA 19139 United States;X-APPLE-RADIUS=500;X-TITLE=323 N 52ND ST:geo:-75.2244895,39.9660173
END:VEVENT
BEGIN:VEVENT
DTSTART;TZID=America/New_York:20231203T120000
DTEND;TZID=America/New_York:20231203T150000
DTSTAMP:20260424T123945
CREATED:20230726T140602Z
LAST-MODIFIED:20230726T140602Z
UID:10001130-1701604800-1701615600@www.vkind.com
SUMMARY:Vegan Sunday Brunch
DESCRIPTION:Every Sunday \nNoon to 3 pm \nVegan Sunday Brunch \nThe Lair (420 Safe Place) \nSunday Funday (games\, movies\, & brunch)
URL:https://www.vkind.com/vegan-events/vegan-sunday-brunch/2023-12-03/
LOCATION:The Lair 420 Social Club\, 323 N 52ND ST\, Philadelphia\, PA\, 19139\, United States
ATTACH;FMTTYPE=image/jpeg:https://www.vkind.com/wp-content/uploads/2023/07/Vegan-Sunday-Brunch.jpg
GEO:39.9660173;-75.2244895
X-APPLE-STRUCTURED-LOCATION;VALUE=URI;X-ADDRESS=The Lair 420 Social Club 323 N 52ND ST Philadelphia PA 19139 United States;X-APPLE-RADIUS=500;X-TITLE=323 N 52ND ST:geo:-75.2244895,39.9660173
END:VEVENT
BEGIN:VEVENT
DTSTART;TZID=America/New_York:20231126T120000
DTEND;TZID=America/New_York:20231126T150000
DTSTAMP:20260424T123945
CREATED:20230726T140602Z
LAST-MODIFIED:20230726T140602Z
UID:10001129-1701000000-1701010800@www.vkind.com
SUMMARY:Vegan Sunday Brunch
DESCRIPTION:Every Sunday \nNoon to 3 pm \nVegan Sunday Brunch \nThe Lair (420 Safe Place) \nSunday Funday (games\, movies\, & brunch)
URL:https://www.vkind.com/vegan-events/vegan-sunday-brunch/2023-11-26/
LOCATION:The Lair 420 Social Club\, 323 N 52ND ST\, Philadelphia\, PA\, 19139\, United States
ATTACH;FMTTYPE=image/jpeg:https://www.vkind.com/wp-content/uploads/2023/07/Vegan-Sunday-Brunch.jpg
GEO:39.9660173;-75.2244895
X-APPLE-STRUCTURED-LOCATION;VALUE=URI;X-ADDRESS=The Lair 420 Social Club 323 N 52ND ST Philadelphia PA 19139 United States;X-APPLE-RADIUS=500;X-TITLE=323 N 52ND ST:geo:-75.2244895,39.9660173
END:VEVENT
BEGIN:VEVENT
DTSTART;TZID=America/New_York:20231119T120000
DTEND;TZID=America/New_York:20231119T150000
DTSTAMP:20260424T123945
CREATED:20230726T140602Z
LAST-MODIFIED:20230726T140602Z
UID:10001128-1700395200-1700406000@www.vkind.com
SUMMARY:Vegan Sunday Brunch
DESCRIPTION:Every Sunday \nNoon to 3 pm \nVegan Sunday Brunch \nThe Lair (420 Safe Place) \nSunday Funday (games\, movies\, & brunch)
URL:https://www.vkind.com/vegan-events/vegan-sunday-brunch/2023-11-19/
LOCATION:The Lair 420 Social Club\, 323 N 52ND ST\, Philadelphia\, PA\, 19139\, United States
ATTACH;FMTTYPE=image/jpeg:https://www.vkind.com/wp-content/uploads/2023/07/Vegan-Sunday-Brunch.jpg
GEO:39.9660173;-75.2244895
X-APPLE-STRUCTURED-LOCATION;VALUE=URI;X-ADDRESS=The Lair 420 Social Club 323 N 52ND ST Philadelphia PA 19139 United States;X-APPLE-RADIUS=500;X-TITLE=323 N 52ND ST:geo:-75.2244895,39.9660173
END:VEVENT
BEGIN:VEVENT
DTSTART;TZID=America/New_York:20231112T120000
DTEND;TZID=America/New_York:20231112T150000
DTSTAMP:20260424T123945
CREATED:20230726T140602Z
LAST-MODIFIED:20230726T140602Z
UID:10001127-1699790400-1699801200@www.vkind.com
SUMMARY:Vegan Sunday Brunch
DESCRIPTION:Every Sunday \nNoon to 3 pm \nVegan Sunday Brunch \nThe Lair (420 Safe Place) \nSunday Funday (games\, movies\, & brunch)
URL:https://www.vkind.com/vegan-events/vegan-sunday-brunch/2023-11-12/
LOCATION:The Lair 420 Social Club\, 323 N 52ND ST\, Philadelphia\, PA\, 19139\, United States
ATTACH;FMTTYPE=image/jpeg:https://www.vkind.com/wp-content/uploads/2023/07/Vegan-Sunday-Brunch.jpg
GEO:39.9660173;-75.2244895
X-APPLE-STRUCTURED-LOCATION;VALUE=URI;X-ADDRESS=The Lair 420 Social Club 323 N 52ND ST Philadelphia PA 19139 United States;X-APPLE-RADIUS=500;X-TITLE=323 N 52ND ST:geo:-75.2244895,39.9660173
END:VEVENT
BEGIN:VEVENT
DTSTART;TZID=America/New_York:20231105T120000
DTEND;TZID=America/New_York:20231105T150000
DTSTAMP:20260424T123945
CREATED:20230726T140602Z
LAST-MODIFIED:20230726T140602Z
UID:10001126-1699185600-1699196400@www.vkind.com
SUMMARY:Vegan Sunday Brunch
DESCRIPTION:Every Sunday \nNoon to 3 pm \nVegan Sunday Brunch \nThe Lair (420 Safe Place) \nSunday Funday (games\, movies\, & brunch)
URL:https://www.vkind.com/vegan-events/vegan-sunday-brunch/2023-11-05/
LOCATION:The Lair 420 Social Club\, 323 N 52ND ST\, Philadelphia\, PA\, 19139\, United States
ATTACH;FMTTYPE=image/jpeg:https://www.vkind.com/wp-content/uploads/2023/07/Vegan-Sunday-Brunch.jpg
GEO:39.9660173;-75.2244895
X-APPLE-STRUCTURED-LOCATION;VALUE=URI;X-ADDRESS=The Lair 420 Social Club 323 N 52ND ST Philadelphia PA 19139 United States;X-APPLE-RADIUS=500;X-TITLE=323 N 52ND ST:geo:-75.2244895,39.9660173
END:VEVENT
BEGIN:VEVENT
DTSTART;TZID=America/New_York:20231029T120000
DTEND;TZID=America/New_York:20231029T150000
DTSTAMP:20260424T123945
CREATED:20230726T140602Z
LAST-MODIFIED:20230726T140602Z
UID:10001125-1698580800-1698591600@www.vkind.com
SUMMARY:Vegan Sunday Brunch
DESCRIPTION:Every Sunday \nNoon to 3 pm \nVegan Sunday Brunch \nThe Lair (420 Safe Place) \nSunday Funday (games\, movies\, & brunch)
URL:https://www.vkind.com/vegan-events/vegan-sunday-brunch/2023-10-29/
LOCATION:The Lair 420 Social Club\, 323 N 52ND ST\, Philadelphia\, PA\, 19139\, United States
ATTACH;FMTTYPE=image/jpeg:https://www.vkind.com/wp-content/uploads/2023/07/Vegan-Sunday-Brunch.jpg
GEO:39.9660173;-75.2244895
X-APPLE-STRUCTURED-LOCATION;VALUE=URI;X-ADDRESS=The Lair 420 Social Club 323 N 52ND ST Philadelphia PA 19139 United States;X-APPLE-RADIUS=500;X-TITLE=323 N 52ND ST:geo:-75.2244895,39.9660173
END:VEVENT
BEGIN:VEVENT
DTSTART;TZID=America/New_York:20231022T120000
DTEND;TZID=America/New_York:20231022T150000
DTSTAMP:20260424T123945
CREATED:20230726T140602Z
LAST-MODIFIED:20230726T140602Z
UID:10001124-1697976000-1697986800@www.vkind.com
SUMMARY:Vegan Sunday Brunch
DESCRIPTION:Every Sunday \nNoon to 3 pm \nVegan Sunday Brunch \nThe Lair (420 Safe Place) \nSunday Funday (games\, movies\, & brunch)
URL:https://www.vkind.com/vegan-events/vegan-sunday-brunch/2023-10-22/
LOCATION:The Lair 420 Social Club\, 323 N 52ND ST\, Philadelphia\, PA\, 19139\, United States
ATTACH;FMTTYPE=image/jpeg:https://www.vkind.com/wp-content/uploads/2023/07/Vegan-Sunday-Brunch.jpg
GEO:39.9660173;-75.2244895
X-APPLE-STRUCTURED-LOCATION;VALUE=URI;X-ADDRESS=The Lair 420 Social Club 323 N 52ND ST Philadelphia PA 19139 United States;X-APPLE-RADIUS=500;X-TITLE=323 N 52ND ST:geo:-75.2244895,39.9660173
END:VEVENT
BEGIN:VEVENT
DTSTART;TZID=America/New_York:20231015T120000
DTEND;TZID=America/New_York:20231015T150000
DTSTAMP:20260424T123945
CREATED:20230726T140602Z
LAST-MODIFIED:20230726T140602Z
UID:10001123-1697371200-1697382000@www.vkind.com
SUMMARY:Vegan Sunday Brunch
DESCRIPTION:Every Sunday \nNoon to 3 pm \nVegan Sunday Brunch \nThe Lair (420 Safe Place) \nSunday Funday (games\, movies\, & brunch)
URL:https://www.vkind.com/vegan-events/vegan-sunday-brunch/2023-10-15/
LOCATION:The Lair 420 Social Club\, 323 N 52ND ST\, Philadelphia\, PA\, 19139\, United States
ATTACH;FMTTYPE=image/jpeg:https://www.vkind.com/wp-content/uploads/2023/07/Vegan-Sunday-Brunch.jpg
GEO:39.9660173;-75.2244895
X-APPLE-STRUCTURED-LOCATION;VALUE=URI;X-ADDRESS=The Lair 420 Social Club 323 N 52ND ST Philadelphia PA 19139 United States;X-APPLE-RADIUS=500;X-TITLE=323 N 52ND ST:geo:-75.2244895,39.9660173
END:VEVENT
BEGIN:VEVENT
DTSTART;TZID=America/New_York:20231008T120000
DTEND;TZID=America/New_York:20231008T150000
DTSTAMP:20260424T123945
CREATED:20230726T140602Z
LAST-MODIFIED:20230726T140602Z
UID:10001122-1696766400-1696777200@www.vkind.com
SUMMARY:Vegan Sunday Brunch
DESCRIPTION:Every Sunday \nNoon to 3 pm \nVegan Sunday Brunch \nThe Lair (420 Safe Place) \nSunday Funday (games\, movies\, & brunch)
URL:https://www.vkind.com/vegan-events/vegan-sunday-brunch/2023-10-08/
LOCATION:The Lair 420 Social Club\, 323 N 52ND ST\, Philadelphia\, PA\, 19139\, United States
ATTACH;FMTTYPE=image/jpeg:https://www.vkind.com/wp-content/uploads/2023/07/Vegan-Sunday-Brunch.jpg
GEO:39.9660173;-75.2244895
X-APPLE-STRUCTURED-LOCATION;VALUE=URI;X-ADDRESS=The Lair 420 Social Club 323 N 52ND ST Philadelphia PA 19139 United States;X-APPLE-RADIUS=500;X-TITLE=323 N 52ND ST:geo:-75.2244895,39.9660173
END:VEVENT
BEGIN:VEVENT
DTSTART;TZID=America/New_York:20231001T120000
DTEND;TZID=America/New_York:20231001T150000
DTSTAMP:20260424T123945
CREATED:20230726T140602Z
LAST-MODIFIED:20230726T140602Z
UID:10001121-1696161600-1696172400@www.vkind.com
SUMMARY:Vegan Sunday Brunch
DESCRIPTION:Every Sunday \nNoon to 3 pm \nVegan Sunday Brunch \nThe Lair (420 Safe Place) \nSunday Funday (games\, movies\, & brunch)
URL:https://www.vkind.com/vegan-events/vegan-sunday-brunch/2023-10-01/
LOCATION:The Lair 420 Social Club\, 323 N 52ND ST\, Philadelphia\, PA\, 19139\, United States
ATTACH;FMTTYPE=image/jpeg:https://www.vkind.com/wp-content/uploads/2023/07/Vegan-Sunday-Brunch.jpg
GEO:39.9660173;-75.2244895
X-APPLE-STRUCTURED-LOCATION;VALUE=URI;X-ADDRESS=The Lair 420 Social Club 323 N 52ND ST Philadelphia PA 19139 United States;X-APPLE-RADIUS=500;X-TITLE=323 N 52ND ST:geo:-75.2244895,39.9660173
END:VEVENT
BEGIN:VEVENT
DTSTART;TZID=America/New_York:20230924T120000
DTEND;TZID=America/New_York:20230924T150000
DTSTAMP:20260424T123945
CREATED:20230726T140602Z
LAST-MODIFIED:20230726T140602Z
UID:10001120-1695556800-1695567600@www.vkind.com
SUMMARY:Vegan Sunday Brunch
DESCRIPTION:Every Sunday \nNoon to 3 pm \nVegan Sunday Brunch \nThe Lair (420 Safe Place) \nSunday Funday (games\, movies\, & brunch)
URL:https://www.vkind.com/vegan-events/vegan-sunday-brunch/2023-09-24/
LOCATION:The Lair 420 Social Club\, 323 N 52ND ST\, Philadelphia\, PA\, 19139\, United States
ATTACH;FMTTYPE=image/jpeg:https://www.vkind.com/wp-content/uploads/2023/07/Vegan-Sunday-Brunch.jpg
GEO:39.9660173;-75.2244895
X-APPLE-STRUCTURED-LOCATION;VALUE=URI;X-ADDRESS=The Lair 420 Social Club 323 N 52ND ST Philadelphia PA 19139 United States;X-APPLE-RADIUS=500;X-TITLE=323 N 52ND ST:geo:-75.2244895,39.9660173
END:VEVENT
BEGIN:VEVENT
DTSTART;TZID=America/New_York:20230917T120000
DTEND;TZID=America/New_York:20230917T150000
DTSTAMP:20260424T123945
CREATED:20230726T140602Z
LAST-MODIFIED:20230726T140602Z
UID:10001119-1694952000-1694962800@www.vkind.com
SUMMARY:Vegan Sunday Brunch
DESCRIPTION:Every Sunday \nNoon to 3 pm \nVegan Sunday Brunch \nThe Lair (420 Safe Place) \nSunday Funday (games\, movies\, & brunch)
URL:https://www.vkind.com/vegan-events/vegan-sunday-brunch/2023-09-17/
LOCATION:The Lair 420 Social Club\, 323 N 52ND ST\, Philadelphia\, PA\, 19139\, United States
ATTACH;FMTTYPE=image/jpeg:https://www.vkind.com/wp-content/uploads/2023/07/Vegan-Sunday-Brunch.jpg
GEO:39.9660173;-75.2244895
X-APPLE-STRUCTURED-LOCATION;VALUE=URI;X-ADDRESS=The Lair 420 Social Club 323 N 52ND ST Philadelphia PA 19139 United States;X-APPLE-RADIUS=500;X-TITLE=323 N 52ND ST:geo:-75.2244895,39.9660173
END:VEVENT
BEGIN:VEVENT
DTSTART;TZID=America/New_York:20230910T120000
DTEND;TZID=America/New_York:20230910T150000
DTSTAMP:20260424T123945
CREATED:20230726T140602Z
LAST-MODIFIED:20230726T140602Z
UID:10001118-1694347200-1694358000@www.vkind.com
SUMMARY:Vegan Sunday Brunch
DESCRIPTION:Every Sunday \nNoon to 3 pm \nVegan Sunday Brunch \nThe Lair (420 Safe Place) \nSunday Funday (games\, movies\, & brunch)
URL:https://www.vkind.com/vegan-events/vegan-sunday-brunch/2023-09-10/
LOCATION:The Lair 420 Social Club\, 323 N 52ND ST\, Philadelphia\, PA\, 19139\, United States
ATTACH;FMTTYPE=image/jpeg:https://www.vkind.com/wp-content/uploads/2023/07/Vegan-Sunday-Brunch.jpg
GEO:39.9660173;-75.2244895
X-APPLE-STRUCTURED-LOCATION;VALUE=URI;X-ADDRESS=The Lair 420 Social Club 323 N 52ND ST Philadelphia PA 19139 United States;X-APPLE-RADIUS=500;X-TITLE=323 N 52ND ST:geo:-75.2244895,39.9660173
END:VEVENT
BEGIN:VEVENT
DTSTART;TZID=America/New_York:20230903T120000
DTEND;TZID=America/New_York:20230903T150000
DTSTAMP:20260424T123945
CREATED:20230726T140602Z
LAST-MODIFIED:20230726T140602Z
UID:10001117-1693742400-1693753200@www.vkind.com
SUMMARY:Vegan Sunday Brunch
DESCRIPTION:Every Sunday \nNoon to 3 pm \nVegan Sunday Brunch \nThe Lair (420 Safe Place) \nSunday Funday (games\, movies\, & brunch)
URL:https://www.vkind.com/vegan-events/vegan-sunday-brunch/2023-09-03/
LOCATION:The Lair 420 Social Club\, 323 N 52ND ST\, Philadelphia\, PA\, 19139\, United States
ATTACH;FMTTYPE=image/jpeg:https://www.vkind.com/wp-content/uploads/2023/07/Vegan-Sunday-Brunch.jpg
GEO:39.9660173;-75.2244895
X-APPLE-STRUCTURED-LOCATION;VALUE=URI;X-ADDRESS=The Lair 420 Social Club 323 N 52ND ST Philadelphia PA 19139 United States;X-APPLE-RADIUS=500;X-TITLE=323 N 52ND ST:geo:-75.2244895,39.9660173
END:VEVENT
BEGIN:VEVENT
DTSTART;TZID=America/New_York:20230827T120000
DTEND;TZID=America/New_York:20230827T150000
DTSTAMP:20260424T123945
CREATED:20230726T140602Z
LAST-MODIFIED:20230726T140602Z
UID:10001116-1693137600-1693148400@www.vkind.com
SUMMARY:Vegan Sunday Brunch
DESCRIPTION:Every Sunday \nNoon to 3 pm \nVegan Sunday Brunch \nThe Lair (420 Safe Place) \nSunday Funday (games\, movies\, & brunch)
URL:https://www.vkind.com/vegan-events/vegan-sunday-brunch/2023-08-27/
LOCATION:The Lair 420 Social Club\, 323 N 52ND ST\, Philadelphia\, PA\, 19139\, United States
ATTACH;FMTTYPE=image/jpeg:https://www.vkind.com/wp-content/uploads/2023/07/Vegan-Sunday-Brunch.jpg
GEO:39.9660173;-75.2244895
X-APPLE-STRUCTURED-LOCATION;VALUE=URI;X-ADDRESS=The Lair 420 Social Club 323 N 52ND ST Philadelphia PA 19139 United States;X-APPLE-RADIUS=500;X-TITLE=323 N 52ND ST:geo:-75.2244895,39.9660173
END:VEVENT
BEGIN:VEVENT
DTSTART;TZID=America/New_York:20230820T120000
DTEND;TZID=America/New_York:20230820T150000
DTSTAMP:20260424T123945
CREATED:20230726T140602Z
LAST-MODIFIED:20230726T140602Z
UID:10001115-1692532800-1692543600@www.vkind.com
SUMMARY:Vegan Sunday Brunch
DESCRIPTION:Every Sunday \nNoon to 3 pm \nVegan Sunday Brunch \nThe Lair (420 Safe Place) \nSunday Funday (games\, movies\, & brunch)
URL:https://www.vkind.com/vegan-events/vegan-sunday-brunch/2023-08-20/
LOCATION:The Lair 420 Social Club\, 323 N 52ND ST\, Philadelphia\, PA\, 19139\, United States
ATTACH;FMTTYPE=image/jpeg:https://www.vkind.com/wp-content/uploads/2023/07/Vegan-Sunday-Brunch.jpg
GEO:39.9660173;-75.2244895
X-APPLE-STRUCTURED-LOCATION;VALUE=URI;X-ADDRESS=The Lair 420 Social Club 323 N 52ND ST Philadelphia PA 19139 United States;X-APPLE-RADIUS=500;X-TITLE=323 N 52ND ST:geo:-75.2244895,39.9660173
END:VEVENT
BEGIN:VEVENT
DTSTART;TZID=America/New_York:20230813T120000
DTEND;TZID=America/New_York:20230813T150000
DTSTAMP:20260424T123945
CREATED:20230726T140602Z
LAST-MODIFIED:20230726T140602Z
UID:10001114-1691928000-1691938800@www.vkind.com
SUMMARY:Vegan Sunday Brunch
DESCRIPTION:Every Sunday \nNoon to 3 pm \nVegan Sunday Brunch \nThe Lair (420 Safe Place) \nSunday Funday (games\, movies\, & brunch)
URL:https://www.vkind.com/vegan-events/vegan-sunday-brunch/2023-08-13/
LOCATION:The Lair 420 Social Club\, 323 N 52ND ST\, Philadelphia\, PA\, 19139\, United States
ATTACH;FMTTYPE=image/jpeg:https://www.vkind.com/wp-content/uploads/2023/07/Vegan-Sunday-Brunch.jpg
GEO:39.9660173;-75.2244895
X-APPLE-STRUCTURED-LOCATION;VALUE=URI;X-ADDRESS=The Lair 420 Social Club 323 N 52ND ST Philadelphia PA 19139 United States;X-APPLE-RADIUS=500;X-TITLE=323 N 52ND ST:geo:-75.2244895,39.9660173
END:VEVENT
BEGIN:VEVENT
DTSTART;TZID=America/New_York:20230806T120000
DTEND;TZID=America/New_York:20230806T150000
DTSTAMP:20260424T123945
CREATED:20230726T140602Z
LAST-MODIFIED:20230726T140602Z
UID:10001113-1691323200-1691334000@www.vkind.com
SUMMARY:Vegan Sunday Brunch
DESCRIPTION:Every Sunday \nNoon to 3 pm \nVegan Sunday Brunch \nThe Lair (420 Safe Place) \nSunday Funday (games\, movies\, & brunch)
URL:https://www.vkind.com/vegan-events/vegan-sunday-brunch/2023-08-06/
LOCATION:The Lair 420 Social Club\, 323 N 52ND ST\, Philadelphia\, PA\, 19139\, United States
ATTACH;FMTTYPE=image/jpeg:https://www.vkind.com/wp-content/uploads/2023/07/Vegan-Sunday-Brunch.jpg
GEO:39.9660173;-75.2244895
X-APPLE-STRUCTURED-LOCATION;VALUE=URI;X-ADDRESS=The Lair 420 Social Club 323 N 52ND ST Philadelphia PA 19139 United States;X-APPLE-RADIUS=500;X-TITLE=323 N 52ND ST:geo:-75.2244895,39.9660173
END:VEVENT
BEGIN:VEVENT
DTSTART;TZID=America/New_York:20230730T120000
DTEND;TZID=America/New_York:20230730T150000
DTSTAMP:20260424T123945
CREATED:20230726T140602Z
LAST-MODIFIED:20230726T140602Z
UID:10001112-1690718400-1690729200@www.vkind.com
SUMMARY:Vegan Sunday Brunch
DESCRIPTION:Every Sunday \nNoon to 3 pm \nVegan Sunday Brunch \nThe Lair (420 Safe Place) \nSunday Funday (games\, movies\, & brunch)
URL:https://www.vkind.com/vegan-events/vegan-sunday-brunch/2023-07-30/
LOCATION:The Lair 420 Social Club\, 323 N 52ND ST\, Philadelphia\, PA\, 19139\, United States
ATTACH;FMTTYPE=image/jpeg:https://www.vkind.com/wp-content/uploads/2023/07/Vegan-Sunday-Brunch.jpg
GEO:39.9660173;-75.2244895
X-APPLE-STRUCTURED-LOCATION;VALUE=URI;X-ADDRESS=The Lair 420 Social Club 323 N 52ND ST Philadelphia PA 19139 United States;X-APPLE-RADIUS=500;X-TITLE=323 N 52ND ST:geo:-75.2244895,39.9660173
END:VEVENT
END:VCALENDAR