BEGIN:VCALENDAR
VERSION:2.0
PRODID:-//Vkind - ECPv6.15.14//NONSGML v1.0//EN
CALSCALE:GREGORIAN
METHOD:PUBLISH
X-WR-CALNAME:Vkind
X-ORIGINAL-URL:https://www.vkind.com
X-WR-CALDESC:Events for Vkind
REFRESH-INTERVAL;VALUE=DURATION:PT1H
X-Robots-Tag:noindex
X-PUBLISHED-TTL:PT1H
BEGIN:VTIMEZONE
TZID:America/New_York
BEGIN:DAYLIGHT
TZOFFSETFROM:-0500
TZOFFSETTO:-0400
TZNAME:EDT
DTSTART:20230312T070000
END:DAYLIGHT
BEGIN:STANDARD
TZOFFSETFROM:-0400
TZOFFSETTO:-0500
TZNAME:EST
DTSTART:20231105T060000
END:STANDARD
BEGIN:DAYLIGHT
TZOFFSETFROM:-0500
TZOFFSETTO:-0400
TZNAME:EDT
DTSTART:20240310T070000
END:DAYLIGHT
BEGIN:STANDARD
TZOFFSETFROM:-0400
TZOFFSETTO:-0500
TZNAME:EST
DTSTART:20241103T060000
END:STANDARD
BEGIN:DAYLIGHT
TZOFFSETFROM:-0500
TZOFFSETTO:-0400
TZNAME:EDT
DTSTART:20250309T070000
END:DAYLIGHT
BEGIN:STANDARD
TZOFFSETFROM:-0400
TZOFFSETTO:-0500
TZNAME:EST
DTSTART:20251102T060000
END:STANDARD
END:VTIMEZONE
BEGIN:VEVENT
DTSTART;TZID=America/New_York:20241020T120000
DTEND;TZID=America/New_York:20241020T150000
DTSTAMP:20260424T001354
CREATED:20230726T140602Z
LAST-MODIFIED:20230726T140602Z
UID:10001176-1729425600-1729436400@www.vkind.com
SUMMARY:Vegan Sunday Brunch
DESCRIPTION:Every Sunday \nNoon to 3 pm \nVegan Sunday Brunch \nThe Lair (420 Safe Place) \nSunday Funday (games\, movies\, & brunch)
URL:https://www.vkind.com/vegan-events/vegan-sunday-brunch/2024-10-20/
LOCATION:The Lair 420 Social Club\, 323 N 52ND ST\, Philadelphia\, PA\, 19139\, United States
ATTACH;FMTTYPE=image/jpeg:https://www.vkind.com/wp-content/uploads/2023/07/Vegan-Sunday-Brunch.jpg
GEO:39.9660173;-75.2244895
X-APPLE-STRUCTURED-LOCATION;VALUE=URI;X-ADDRESS=The Lair 420 Social Club 323 N 52ND ST Philadelphia PA 19139 United States;X-APPLE-RADIUS=500;X-TITLE=323 N 52ND ST:geo:-75.2244895,39.9660173
END:VEVENT
BEGIN:VEVENT
DTSTART;TZID=America/New_York:20241013T120000
DTEND;TZID=America/New_York:20241013T150000
DTSTAMP:20260424T001354
CREATED:20230726T140602Z
LAST-MODIFIED:20230726T140602Z
UID:10001175-1728820800-1728831600@www.vkind.com
SUMMARY:Vegan Sunday Brunch
DESCRIPTION:Every Sunday \nNoon to 3 pm \nVegan Sunday Brunch \nThe Lair (420 Safe Place) \nSunday Funday (games\, movies\, & brunch)
URL:https://www.vkind.com/vegan-events/vegan-sunday-brunch/2024-10-13/
LOCATION:The Lair 420 Social Club\, 323 N 52ND ST\, Philadelphia\, PA\, 19139\, United States
ATTACH;FMTTYPE=image/jpeg:https://www.vkind.com/wp-content/uploads/2023/07/Vegan-Sunday-Brunch.jpg
GEO:39.9660173;-75.2244895
X-APPLE-STRUCTURED-LOCATION;VALUE=URI;X-ADDRESS=The Lair 420 Social Club 323 N 52ND ST Philadelphia PA 19139 United States;X-APPLE-RADIUS=500;X-TITLE=323 N 52ND ST:geo:-75.2244895,39.9660173
END:VEVENT
BEGIN:VEVENT
DTSTART;TZID=America/New_York:20241006T120000
DTEND;TZID=America/New_York:20241006T150000
DTSTAMP:20260424T001354
CREATED:20230726T140602Z
LAST-MODIFIED:20230726T140602Z
UID:10001174-1728216000-1728226800@www.vkind.com
SUMMARY:Vegan Sunday Brunch
DESCRIPTION:Every Sunday \nNoon to 3 pm \nVegan Sunday Brunch \nThe Lair (420 Safe Place) \nSunday Funday (games\, movies\, & brunch)
URL:https://www.vkind.com/vegan-events/vegan-sunday-brunch/2024-10-06/
LOCATION:The Lair 420 Social Club\, 323 N 52ND ST\, Philadelphia\, PA\, 19139\, United States
ATTACH;FMTTYPE=image/jpeg:https://www.vkind.com/wp-content/uploads/2023/07/Vegan-Sunday-Brunch.jpg
GEO:39.9660173;-75.2244895
X-APPLE-STRUCTURED-LOCATION;VALUE=URI;X-ADDRESS=The Lair 420 Social Club 323 N 52ND ST Philadelphia PA 19139 United States;X-APPLE-RADIUS=500;X-TITLE=323 N 52ND ST:geo:-75.2244895,39.9660173
END:VEVENT
BEGIN:VEVENT
DTSTART;TZID=America/New_York:20240929T120000
DTEND;TZID=America/New_York:20240929T150000
DTSTAMP:20260424T001354
CREATED:20230726T140602Z
LAST-MODIFIED:20230726T140602Z
UID:10001173-1727611200-1727622000@www.vkind.com
SUMMARY:Vegan Sunday Brunch
DESCRIPTION:Every Sunday \nNoon to 3 pm \nVegan Sunday Brunch \nThe Lair (420 Safe Place) \nSunday Funday (games\, movies\, & brunch)
URL:https://www.vkind.com/vegan-events/vegan-sunday-brunch/2024-09-29/
LOCATION:The Lair 420 Social Club\, 323 N 52ND ST\, Philadelphia\, PA\, 19139\, United States
ATTACH;FMTTYPE=image/jpeg:https://www.vkind.com/wp-content/uploads/2023/07/Vegan-Sunday-Brunch.jpg
GEO:39.9660173;-75.2244895
X-APPLE-STRUCTURED-LOCATION;VALUE=URI;X-ADDRESS=The Lair 420 Social Club 323 N 52ND ST Philadelphia PA 19139 United States;X-APPLE-RADIUS=500;X-TITLE=323 N 52ND ST:geo:-75.2244895,39.9660173
END:VEVENT
BEGIN:VEVENT
DTSTART;TZID=America/New_York:20240922T120000
DTEND;TZID=America/New_York:20240922T150000
DTSTAMP:20260424T001354
CREATED:20230726T140602Z
LAST-MODIFIED:20230726T140602Z
UID:10001172-1727006400-1727017200@www.vkind.com
SUMMARY:Vegan Sunday Brunch
DESCRIPTION:Every Sunday \nNoon to 3 pm \nVegan Sunday Brunch \nThe Lair (420 Safe Place) \nSunday Funday (games\, movies\, & brunch)
URL:https://www.vkind.com/vegan-events/vegan-sunday-brunch/2024-09-22/
LOCATION:The Lair 420 Social Club\, 323 N 52ND ST\, Philadelphia\, PA\, 19139\, United States
ATTACH;FMTTYPE=image/jpeg:https://www.vkind.com/wp-content/uploads/2023/07/Vegan-Sunday-Brunch.jpg
GEO:39.9660173;-75.2244895
X-APPLE-STRUCTURED-LOCATION;VALUE=URI;X-ADDRESS=The Lair 420 Social Club 323 N 52ND ST Philadelphia PA 19139 United States;X-APPLE-RADIUS=500;X-TITLE=323 N 52ND ST:geo:-75.2244895,39.9660173
END:VEVENT
BEGIN:VEVENT
DTSTART;TZID=America/New_York:20240915T120000
DTEND;TZID=America/New_York:20240915T150000
DTSTAMP:20260424T001354
CREATED:20230726T140602Z
LAST-MODIFIED:20230726T140602Z
UID:10001171-1726401600-1726412400@www.vkind.com
SUMMARY:Vegan Sunday Brunch
DESCRIPTION:Every Sunday \nNoon to 3 pm \nVegan Sunday Brunch \nThe Lair (420 Safe Place) \nSunday Funday (games\, movies\, & brunch)
URL:https://www.vkind.com/vegan-events/vegan-sunday-brunch/2024-09-15/
LOCATION:The Lair 420 Social Club\, 323 N 52ND ST\, Philadelphia\, PA\, 19139\, United States
ATTACH;FMTTYPE=image/jpeg:https://www.vkind.com/wp-content/uploads/2023/07/Vegan-Sunday-Brunch.jpg
GEO:39.9660173;-75.2244895
X-APPLE-STRUCTURED-LOCATION;VALUE=URI;X-ADDRESS=The Lair 420 Social Club 323 N 52ND ST Philadelphia PA 19139 United States;X-APPLE-RADIUS=500;X-TITLE=323 N 52ND ST:geo:-75.2244895,39.9660173
END:VEVENT
BEGIN:VEVENT
DTSTART;TZID=America/New_York:20240908T120000
DTEND;TZID=America/New_York:20240908T150000
DTSTAMP:20260424T001354
CREATED:20230726T140602Z
LAST-MODIFIED:20230726T140602Z
UID:10001170-1725796800-1725807600@www.vkind.com
SUMMARY:Vegan Sunday Brunch
DESCRIPTION:Every Sunday \nNoon to 3 pm \nVegan Sunday Brunch \nThe Lair (420 Safe Place) \nSunday Funday (games\, movies\, & brunch)
URL:https://www.vkind.com/vegan-events/vegan-sunday-brunch/2024-09-08/
LOCATION:The Lair 420 Social Club\, 323 N 52ND ST\, Philadelphia\, PA\, 19139\, United States
ATTACH;FMTTYPE=image/jpeg:https://www.vkind.com/wp-content/uploads/2023/07/Vegan-Sunday-Brunch.jpg
GEO:39.9660173;-75.2244895
X-APPLE-STRUCTURED-LOCATION;VALUE=URI;X-ADDRESS=The Lair 420 Social Club 323 N 52ND ST Philadelphia PA 19139 United States;X-APPLE-RADIUS=500;X-TITLE=323 N 52ND ST:geo:-75.2244895,39.9660173
END:VEVENT
BEGIN:VEVENT
DTSTART;TZID=America/New_York:20240901T120000
DTEND;TZID=America/New_York:20240901T150000
DTSTAMP:20260424T001354
CREATED:20230726T140602Z
LAST-MODIFIED:20230726T140602Z
UID:10001169-1725192000-1725202800@www.vkind.com
SUMMARY:Vegan Sunday Brunch
DESCRIPTION:Every Sunday \nNoon to 3 pm \nVegan Sunday Brunch \nThe Lair (420 Safe Place) \nSunday Funday (games\, movies\, & brunch)
URL:https://www.vkind.com/vegan-events/vegan-sunday-brunch/2024-09-01/
LOCATION:The Lair 420 Social Club\, 323 N 52ND ST\, Philadelphia\, PA\, 19139\, United States
ATTACH;FMTTYPE=image/jpeg:https://www.vkind.com/wp-content/uploads/2023/07/Vegan-Sunday-Brunch.jpg
GEO:39.9660173;-75.2244895
X-APPLE-STRUCTURED-LOCATION;VALUE=URI;X-ADDRESS=The Lair 420 Social Club 323 N 52ND ST Philadelphia PA 19139 United States;X-APPLE-RADIUS=500;X-TITLE=323 N 52ND ST:geo:-75.2244895,39.9660173
END:VEVENT
BEGIN:VEVENT
DTSTART;TZID=America/New_York:20240825T120000
DTEND;TZID=America/New_York:20240825T150000
DTSTAMP:20260424T001354
CREATED:20230726T140602Z
LAST-MODIFIED:20230726T140602Z
UID:10001168-1724587200-1724598000@www.vkind.com
SUMMARY:Vegan Sunday Brunch
DESCRIPTION:Every Sunday \nNoon to 3 pm \nVegan Sunday Brunch \nThe Lair (420 Safe Place) \nSunday Funday (games\, movies\, & brunch)
URL:https://www.vkind.com/vegan-events/vegan-sunday-brunch/2024-08-25/
LOCATION:The Lair 420 Social Club\, 323 N 52ND ST\, Philadelphia\, PA\, 19139\, United States
ATTACH;FMTTYPE=image/jpeg:https://www.vkind.com/wp-content/uploads/2023/07/Vegan-Sunday-Brunch.jpg
GEO:39.9660173;-75.2244895
X-APPLE-STRUCTURED-LOCATION;VALUE=URI;X-ADDRESS=The Lair 420 Social Club 323 N 52ND ST Philadelphia PA 19139 United States;X-APPLE-RADIUS=500;X-TITLE=323 N 52ND ST:geo:-75.2244895,39.9660173
END:VEVENT
BEGIN:VEVENT
DTSTART;TZID=America/New_York:20240818T120000
DTEND;TZID=America/New_York:20240818T150000
DTSTAMP:20260424T001354
CREATED:20230726T140602Z
LAST-MODIFIED:20230726T140602Z
UID:10001167-1723982400-1723993200@www.vkind.com
SUMMARY:Vegan Sunday Brunch
DESCRIPTION:Every Sunday \nNoon to 3 pm \nVegan Sunday Brunch \nThe Lair (420 Safe Place) \nSunday Funday (games\, movies\, & brunch)
URL:https://www.vkind.com/vegan-events/vegan-sunday-brunch/2024-08-18/
LOCATION:The Lair 420 Social Club\, 323 N 52ND ST\, Philadelphia\, PA\, 19139\, United States
ATTACH;FMTTYPE=image/jpeg:https://www.vkind.com/wp-content/uploads/2023/07/Vegan-Sunday-Brunch.jpg
GEO:39.9660173;-75.2244895
X-APPLE-STRUCTURED-LOCATION;VALUE=URI;X-ADDRESS=The Lair 420 Social Club 323 N 52ND ST Philadelphia PA 19139 United States;X-APPLE-RADIUS=500;X-TITLE=323 N 52ND ST:geo:-75.2244895,39.9660173
END:VEVENT
BEGIN:VEVENT
DTSTART;TZID=America/New_York:20240811T120000
DTEND;TZID=America/New_York:20240811T150000
DTSTAMP:20260424T001354
CREATED:20230726T140602Z
LAST-MODIFIED:20230726T140602Z
UID:10001166-1723377600-1723388400@www.vkind.com
SUMMARY:Vegan Sunday Brunch
DESCRIPTION:Every Sunday \nNoon to 3 pm \nVegan Sunday Brunch \nThe Lair (420 Safe Place) \nSunday Funday (games\, movies\, & brunch)
URL:https://www.vkind.com/vegan-events/vegan-sunday-brunch/2024-08-11/
LOCATION:The Lair 420 Social Club\, 323 N 52ND ST\, Philadelphia\, PA\, 19139\, United States
ATTACH;FMTTYPE=image/jpeg:https://www.vkind.com/wp-content/uploads/2023/07/Vegan-Sunday-Brunch.jpg
GEO:39.9660173;-75.2244895
X-APPLE-STRUCTURED-LOCATION;VALUE=URI;X-ADDRESS=The Lair 420 Social Club 323 N 52ND ST Philadelphia PA 19139 United States;X-APPLE-RADIUS=500;X-TITLE=323 N 52ND ST:geo:-75.2244895,39.9660173
END:VEVENT
BEGIN:VEVENT
DTSTART;TZID=America/New_York:20240804T120000
DTEND;TZID=America/New_York:20240804T150000
DTSTAMP:20260424T001354
CREATED:20230726T140602Z
LAST-MODIFIED:20230726T140602Z
UID:10001165-1722772800-1722783600@www.vkind.com
SUMMARY:Vegan Sunday Brunch
DESCRIPTION:Every Sunday \nNoon to 3 pm \nVegan Sunday Brunch \nThe Lair (420 Safe Place) \nSunday Funday (games\, movies\, & brunch)
URL:https://www.vkind.com/vegan-events/vegan-sunday-brunch/2024-08-04/
LOCATION:The Lair 420 Social Club\, 323 N 52ND ST\, Philadelphia\, PA\, 19139\, United States
ATTACH;FMTTYPE=image/jpeg:https://www.vkind.com/wp-content/uploads/2023/07/Vegan-Sunday-Brunch.jpg
GEO:39.9660173;-75.2244895
X-APPLE-STRUCTURED-LOCATION;VALUE=URI;X-ADDRESS=The Lair 420 Social Club 323 N 52ND ST Philadelphia PA 19139 United States;X-APPLE-RADIUS=500;X-TITLE=323 N 52ND ST:geo:-75.2244895,39.9660173
END:VEVENT
BEGIN:VEVENT
DTSTART;TZID=America/New_York:20240728T120000
DTEND;TZID=America/New_York:20240728T150000
DTSTAMP:20260424T001354
CREATED:20230726T140602Z
LAST-MODIFIED:20230726T140602Z
UID:10001164-1722168000-1722178800@www.vkind.com
SUMMARY:Vegan Sunday Brunch
DESCRIPTION:Every Sunday \nNoon to 3 pm \nVegan Sunday Brunch \nThe Lair (420 Safe Place) \nSunday Funday (games\, movies\, & brunch)
URL:https://www.vkind.com/vegan-events/vegan-sunday-brunch/2024-07-28/
LOCATION:The Lair 420 Social Club\, 323 N 52ND ST\, Philadelphia\, PA\, 19139\, United States
ATTACH;FMTTYPE=image/jpeg:https://www.vkind.com/wp-content/uploads/2023/07/Vegan-Sunday-Brunch.jpg
GEO:39.9660173;-75.2244895
X-APPLE-STRUCTURED-LOCATION;VALUE=URI;X-ADDRESS=The Lair 420 Social Club 323 N 52ND ST Philadelphia PA 19139 United States;X-APPLE-RADIUS=500;X-TITLE=323 N 52ND ST:geo:-75.2244895,39.9660173
END:VEVENT
BEGIN:VEVENT
DTSTART;TZID=America/New_York:20240721T120000
DTEND;TZID=America/New_York:20240721T150000
DTSTAMP:20260424T001354
CREATED:20230726T140602Z
LAST-MODIFIED:20230726T140602Z
UID:10001163-1721563200-1721574000@www.vkind.com
SUMMARY:Vegan Sunday Brunch
DESCRIPTION:Every Sunday \nNoon to 3 pm \nVegan Sunday Brunch \nThe Lair (420 Safe Place) \nSunday Funday (games\, movies\, & brunch)
URL:https://www.vkind.com/vegan-events/vegan-sunday-brunch/2024-07-21/
LOCATION:The Lair 420 Social Club\, 323 N 52ND ST\, Philadelphia\, PA\, 19139\, United States
ATTACH;FMTTYPE=image/jpeg:https://www.vkind.com/wp-content/uploads/2023/07/Vegan-Sunday-Brunch.jpg
GEO:39.9660173;-75.2244895
X-APPLE-STRUCTURED-LOCATION;VALUE=URI;X-ADDRESS=The Lair 420 Social Club 323 N 52ND ST Philadelphia PA 19139 United States;X-APPLE-RADIUS=500;X-TITLE=323 N 52ND ST:geo:-75.2244895,39.9660173
END:VEVENT
BEGIN:VEVENT
DTSTART;TZID=America/New_York:20240714T120000
DTEND;TZID=America/New_York:20240714T150000
DTSTAMP:20260424T001354
CREATED:20230726T140602Z
LAST-MODIFIED:20230726T140602Z
UID:10001162-1720958400-1720969200@www.vkind.com
SUMMARY:Vegan Sunday Brunch
DESCRIPTION:Every Sunday \nNoon to 3 pm \nVegan Sunday Brunch \nThe Lair (420 Safe Place) \nSunday Funday (games\, movies\, & brunch)
URL:https://www.vkind.com/vegan-events/vegan-sunday-brunch/2024-07-14/
LOCATION:The Lair 420 Social Club\, 323 N 52ND ST\, Philadelphia\, PA\, 19139\, United States
ATTACH;FMTTYPE=image/jpeg:https://www.vkind.com/wp-content/uploads/2023/07/Vegan-Sunday-Brunch.jpg
GEO:39.9660173;-75.2244895
X-APPLE-STRUCTURED-LOCATION;VALUE=URI;X-ADDRESS=The Lair 420 Social Club 323 N 52ND ST Philadelphia PA 19139 United States;X-APPLE-RADIUS=500;X-TITLE=323 N 52ND ST:geo:-75.2244895,39.9660173
END:VEVENT
BEGIN:VEVENT
DTSTART;TZID=America/New_York:20240707T120000
DTEND;TZID=America/New_York:20240707T150000
DTSTAMP:20260424T001354
CREATED:20230726T140602Z
LAST-MODIFIED:20230726T140602Z
UID:10001161-1720353600-1720364400@www.vkind.com
SUMMARY:Vegan Sunday Brunch
DESCRIPTION:Every Sunday \nNoon to 3 pm \nVegan Sunday Brunch \nThe Lair (420 Safe Place) \nSunday Funday (games\, movies\, & brunch)
URL:https://www.vkind.com/vegan-events/vegan-sunday-brunch/2024-07-07/
LOCATION:The Lair 420 Social Club\, 323 N 52ND ST\, Philadelphia\, PA\, 19139\, United States
ATTACH;FMTTYPE=image/jpeg:https://www.vkind.com/wp-content/uploads/2023/07/Vegan-Sunday-Brunch.jpg
GEO:39.9660173;-75.2244895
X-APPLE-STRUCTURED-LOCATION;VALUE=URI;X-ADDRESS=The Lair 420 Social Club 323 N 52ND ST Philadelphia PA 19139 United States;X-APPLE-RADIUS=500;X-TITLE=323 N 52ND ST:geo:-75.2244895,39.9660173
END:VEVENT
BEGIN:VEVENT
DTSTART;TZID=America/New_York:20240630T120000
DTEND;TZID=America/New_York:20240630T150000
DTSTAMP:20260424T001354
CREATED:20230726T140602Z
LAST-MODIFIED:20230726T140602Z
UID:10001160-1719748800-1719759600@www.vkind.com
SUMMARY:Vegan Sunday Brunch
DESCRIPTION:Every Sunday \nNoon to 3 pm \nVegan Sunday Brunch \nThe Lair (420 Safe Place) \nSunday Funday (games\, movies\, & brunch)
URL:https://www.vkind.com/vegan-events/vegan-sunday-brunch/2024-06-30/
LOCATION:The Lair 420 Social Club\, 323 N 52ND ST\, Philadelphia\, PA\, 19139\, United States
ATTACH;FMTTYPE=image/jpeg:https://www.vkind.com/wp-content/uploads/2023/07/Vegan-Sunday-Brunch.jpg
GEO:39.9660173;-75.2244895
X-APPLE-STRUCTURED-LOCATION;VALUE=URI;X-ADDRESS=The Lair 420 Social Club 323 N 52ND ST Philadelphia PA 19139 United States;X-APPLE-RADIUS=500;X-TITLE=323 N 52ND ST:geo:-75.2244895,39.9660173
END:VEVENT
BEGIN:VEVENT
DTSTART;TZID=America/New_York:20240623T120000
DTEND;TZID=America/New_York:20240623T150000
DTSTAMP:20260424T001354
CREATED:20230726T140602Z
LAST-MODIFIED:20230726T140602Z
UID:10001159-1719144000-1719154800@www.vkind.com
SUMMARY:Vegan Sunday Brunch
DESCRIPTION:Every Sunday \nNoon to 3 pm \nVegan Sunday Brunch \nThe Lair (420 Safe Place) \nSunday Funday (games\, movies\, & brunch)
URL:https://www.vkind.com/vegan-events/vegan-sunday-brunch/2024-06-23/
LOCATION:The Lair 420 Social Club\, 323 N 52ND ST\, Philadelphia\, PA\, 19139\, United States
ATTACH;FMTTYPE=image/jpeg:https://www.vkind.com/wp-content/uploads/2023/07/Vegan-Sunday-Brunch.jpg
GEO:39.9660173;-75.2244895
X-APPLE-STRUCTURED-LOCATION;VALUE=URI;X-ADDRESS=The Lair 420 Social Club 323 N 52ND ST Philadelphia PA 19139 United States;X-APPLE-RADIUS=500;X-TITLE=323 N 52ND ST:geo:-75.2244895,39.9660173
END:VEVENT
BEGIN:VEVENT
DTSTART;TZID=America/New_York:20240616T120000
DTEND;TZID=America/New_York:20240616T150000
DTSTAMP:20260424T001354
CREATED:20230726T140602Z
LAST-MODIFIED:20230726T140602Z
UID:10001158-1718539200-1718550000@www.vkind.com
SUMMARY:Vegan Sunday Brunch
DESCRIPTION:Every Sunday \nNoon to 3 pm \nVegan Sunday Brunch \nThe Lair (420 Safe Place) \nSunday Funday (games\, movies\, & brunch)
URL:https://www.vkind.com/vegan-events/vegan-sunday-brunch/2024-06-16/
LOCATION:The Lair 420 Social Club\, 323 N 52ND ST\, Philadelphia\, PA\, 19139\, United States
ATTACH;FMTTYPE=image/jpeg:https://www.vkind.com/wp-content/uploads/2023/07/Vegan-Sunday-Brunch.jpg
GEO:39.9660173;-75.2244895
X-APPLE-STRUCTURED-LOCATION;VALUE=URI;X-ADDRESS=The Lair 420 Social Club 323 N 52ND ST Philadelphia PA 19139 United States;X-APPLE-RADIUS=500;X-TITLE=323 N 52ND ST:geo:-75.2244895,39.9660173
END:VEVENT
BEGIN:VEVENT
DTSTART;TZID=America/New_York:20240609T120000
DTEND;TZID=America/New_York:20240609T150000
DTSTAMP:20260424T001354
CREATED:20230726T140602Z
LAST-MODIFIED:20230726T140602Z
UID:10001157-1717934400-1717945200@www.vkind.com
SUMMARY:Vegan Sunday Brunch
DESCRIPTION:Every Sunday \nNoon to 3 pm \nVegan Sunday Brunch \nThe Lair (420 Safe Place) \nSunday Funday (games\, movies\, & brunch)
URL:https://www.vkind.com/vegan-events/vegan-sunday-brunch/2024-06-09/
LOCATION:The Lair 420 Social Club\, 323 N 52ND ST\, Philadelphia\, PA\, 19139\, United States
ATTACH;FMTTYPE=image/jpeg:https://www.vkind.com/wp-content/uploads/2023/07/Vegan-Sunday-Brunch.jpg
GEO:39.9660173;-75.2244895
X-APPLE-STRUCTURED-LOCATION;VALUE=URI;X-ADDRESS=The Lair 420 Social Club 323 N 52ND ST Philadelphia PA 19139 United States;X-APPLE-RADIUS=500;X-TITLE=323 N 52ND ST:geo:-75.2244895,39.9660173
END:VEVENT
BEGIN:VEVENT
DTSTART;TZID=America/New_York:20240602T120000
DTEND;TZID=America/New_York:20240602T150000
DTSTAMP:20260424T001354
CREATED:20230726T140602Z
LAST-MODIFIED:20230726T140602Z
UID:10001156-1717329600-1717340400@www.vkind.com
SUMMARY:Vegan Sunday Brunch
DESCRIPTION:Every Sunday \nNoon to 3 pm \nVegan Sunday Brunch \nThe Lair (420 Safe Place) \nSunday Funday (games\, movies\, & brunch)
URL:https://www.vkind.com/vegan-events/vegan-sunday-brunch/2024-06-02/
LOCATION:The Lair 420 Social Club\, 323 N 52ND ST\, Philadelphia\, PA\, 19139\, United States
ATTACH;FMTTYPE=image/jpeg:https://www.vkind.com/wp-content/uploads/2023/07/Vegan-Sunday-Brunch.jpg
GEO:39.9660173;-75.2244895
X-APPLE-STRUCTURED-LOCATION;VALUE=URI;X-ADDRESS=The Lair 420 Social Club 323 N 52ND ST Philadelphia PA 19139 United States;X-APPLE-RADIUS=500;X-TITLE=323 N 52ND ST:geo:-75.2244895,39.9660173
END:VEVENT
BEGIN:VEVENT
DTSTART;TZID=America/New_York:20240526T120000
DTEND;TZID=America/New_York:20240526T150000
DTSTAMP:20260424T001354
CREATED:20230726T140602Z
LAST-MODIFIED:20230726T140602Z
UID:10001155-1716724800-1716735600@www.vkind.com
SUMMARY:Vegan Sunday Brunch
DESCRIPTION:Every Sunday \nNoon to 3 pm \nVegan Sunday Brunch \nThe Lair (420 Safe Place) \nSunday Funday (games\, movies\, & brunch)
URL:https://www.vkind.com/vegan-events/vegan-sunday-brunch/2024-05-26/
LOCATION:The Lair 420 Social Club\, 323 N 52ND ST\, Philadelphia\, PA\, 19139\, United States
ATTACH;FMTTYPE=image/jpeg:https://www.vkind.com/wp-content/uploads/2023/07/Vegan-Sunday-Brunch.jpg
GEO:39.9660173;-75.2244895
X-APPLE-STRUCTURED-LOCATION;VALUE=URI;X-ADDRESS=The Lair 420 Social Club 323 N 52ND ST Philadelphia PA 19139 United States;X-APPLE-RADIUS=500;X-TITLE=323 N 52ND ST:geo:-75.2244895,39.9660173
END:VEVENT
BEGIN:VEVENT
DTSTART;TZID=America/New_York:20240519T120000
DTEND;TZID=America/New_York:20240519T150000
DTSTAMP:20260424T001354
CREATED:20230726T140602Z
LAST-MODIFIED:20230726T140602Z
UID:10001154-1716120000-1716130800@www.vkind.com
SUMMARY:Vegan Sunday Brunch
DESCRIPTION:Every Sunday \nNoon to 3 pm \nVegan Sunday Brunch \nThe Lair (420 Safe Place) \nSunday Funday (games\, movies\, & brunch)
URL:https://www.vkind.com/vegan-events/vegan-sunday-brunch/2024-05-19/
LOCATION:The Lair 420 Social Club\, 323 N 52ND ST\, Philadelphia\, PA\, 19139\, United States
ATTACH;FMTTYPE=image/jpeg:https://www.vkind.com/wp-content/uploads/2023/07/Vegan-Sunday-Brunch.jpg
GEO:39.9660173;-75.2244895
X-APPLE-STRUCTURED-LOCATION;VALUE=URI;X-ADDRESS=The Lair 420 Social Club 323 N 52ND ST Philadelphia PA 19139 United States;X-APPLE-RADIUS=500;X-TITLE=323 N 52ND ST:geo:-75.2244895,39.9660173
END:VEVENT
BEGIN:VEVENT
DTSTART;TZID=America/New_York:20240512T120000
DTEND;TZID=America/New_York:20240512T150000
DTSTAMP:20260424T001354
CREATED:20230726T140602Z
LAST-MODIFIED:20230726T140602Z
UID:10001153-1715515200-1715526000@www.vkind.com
SUMMARY:Vegan Sunday Brunch
DESCRIPTION:Every Sunday \nNoon to 3 pm \nVegan Sunday Brunch \nThe Lair (420 Safe Place) \nSunday Funday (games\, movies\, & brunch)
URL:https://www.vkind.com/vegan-events/vegan-sunday-brunch/2024-05-12/
LOCATION:The Lair 420 Social Club\, 323 N 52ND ST\, Philadelphia\, PA\, 19139\, United States
ATTACH;FMTTYPE=image/jpeg:https://www.vkind.com/wp-content/uploads/2023/07/Vegan-Sunday-Brunch.jpg
GEO:39.9660173;-75.2244895
X-APPLE-STRUCTURED-LOCATION;VALUE=URI;X-ADDRESS=The Lair 420 Social Club 323 N 52ND ST Philadelphia PA 19139 United States;X-APPLE-RADIUS=500;X-TITLE=323 N 52ND ST:geo:-75.2244895,39.9660173
END:VEVENT
BEGIN:VEVENT
DTSTART;TZID=America/New_York:20240505T120000
DTEND;TZID=America/New_York:20240505T150000
DTSTAMP:20260424T001354
CREATED:20230726T140602Z
LAST-MODIFIED:20230726T140602Z
UID:10001152-1714910400-1714921200@www.vkind.com
SUMMARY:Vegan Sunday Brunch
DESCRIPTION:Every Sunday \nNoon to 3 pm \nVegan Sunday Brunch \nThe Lair (420 Safe Place) \nSunday Funday (games\, movies\, & brunch)
URL:https://www.vkind.com/vegan-events/vegan-sunday-brunch/2024-05-05/
LOCATION:The Lair 420 Social Club\, 323 N 52ND ST\, Philadelphia\, PA\, 19139\, United States
ATTACH;FMTTYPE=image/jpeg:https://www.vkind.com/wp-content/uploads/2023/07/Vegan-Sunday-Brunch.jpg
GEO:39.9660173;-75.2244895
X-APPLE-STRUCTURED-LOCATION;VALUE=URI;X-ADDRESS=The Lair 420 Social Club 323 N 52ND ST Philadelphia PA 19139 United States;X-APPLE-RADIUS=500;X-TITLE=323 N 52ND ST:geo:-75.2244895,39.9660173
END:VEVENT
BEGIN:VEVENT
DTSTART;TZID=America/New_York:20240428T120000
DTEND;TZID=America/New_York:20240428T150000
DTSTAMP:20260424T001354
CREATED:20230726T140602Z
LAST-MODIFIED:20230726T140602Z
UID:10001151-1714305600-1714316400@www.vkind.com
SUMMARY:Vegan Sunday Brunch
DESCRIPTION:Every Sunday \nNoon to 3 pm \nVegan Sunday Brunch \nThe Lair (420 Safe Place) \nSunday Funday (games\, movies\, & brunch)
URL:https://www.vkind.com/vegan-events/vegan-sunday-brunch/2024-04-28/
LOCATION:The Lair 420 Social Club\, 323 N 52ND ST\, Philadelphia\, PA\, 19139\, United States
ATTACH;FMTTYPE=image/jpeg:https://www.vkind.com/wp-content/uploads/2023/07/Vegan-Sunday-Brunch.jpg
GEO:39.9660173;-75.2244895
X-APPLE-STRUCTURED-LOCATION;VALUE=URI;X-ADDRESS=The Lair 420 Social Club 323 N 52ND ST Philadelphia PA 19139 United States;X-APPLE-RADIUS=500;X-TITLE=323 N 52ND ST:geo:-75.2244895,39.9660173
END:VEVENT
BEGIN:VEVENT
DTSTART;TZID=America/New_York:20240421T120000
DTEND;TZID=America/New_York:20240421T150000
DTSTAMP:20260424T001354
CREATED:20230726T140602Z
LAST-MODIFIED:20230726T140602Z
UID:10001150-1713700800-1713711600@www.vkind.com
SUMMARY:Vegan Sunday Brunch
DESCRIPTION:Every Sunday \nNoon to 3 pm \nVegan Sunday Brunch \nThe Lair (420 Safe Place) \nSunday Funday (games\, movies\, & brunch)
URL:https://www.vkind.com/vegan-events/vegan-sunday-brunch/2024-04-21/
LOCATION:The Lair 420 Social Club\, 323 N 52ND ST\, Philadelphia\, PA\, 19139\, United States
ATTACH;FMTTYPE=image/jpeg:https://www.vkind.com/wp-content/uploads/2023/07/Vegan-Sunday-Brunch.jpg
GEO:39.9660173;-75.2244895
X-APPLE-STRUCTURED-LOCATION;VALUE=URI;X-ADDRESS=The Lair 420 Social Club 323 N 52ND ST Philadelphia PA 19139 United States;X-APPLE-RADIUS=500;X-TITLE=323 N 52ND ST:geo:-75.2244895,39.9660173
END:VEVENT
BEGIN:VEVENT
DTSTART;TZID=America/New_York:20240414T120000
DTEND;TZID=America/New_York:20240414T150000
DTSTAMP:20260424T001354
CREATED:20230726T140602Z
LAST-MODIFIED:20230726T140602Z
UID:10001149-1713096000-1713106800@www.vkind.com
SUMMARY:Vegan Sunday Brunch
DESCRIPTION:Every Sunday \nNoon to 3 pm \nVegan Sunday Brunch \nThe Lair (420 Safe Place) \nSunday Funday (games\, movies\, & brunch)
URL:https://www.vkind.com/vegan-events/vegan-sunday-brunch/2024-04-14/
LOCATION:The Lair 420 Social Club\, 323 N 52ND ST\, Philadelphia\, PA\, 19139\, United States
ATTACH;FMTTYPE=image/jpeg:https://www.vkind.com/wp-content/uploads/2023/07/Vegan-Sunday-Brunch.jpg
GEO:39.9660173;-75.2244895
X-APPLE-STRUCTURED-LOCATION;VALUE=URI;X-ADDRESS=The Lair 420 Social Club 323 N 52ND ST Philadelphia PA 19139 United States;X-APPLE-RADIUS=500;X-TITLE=323 N 52ND ST:geo:-75.2244895,39.9660173
END:VEVENT
BEGIN:VEVENT
DTSTART;TZID=America/New_York:20240407T120000
DTEND;TZID=America/New_York:20240407T150000
DTSTAMP:20260424T001354
CREATED:20230726T140602Z
LAST-MODIFIED:20230726T140602Z
UID:10001148-1712491200-1712502000@www.vkind.com
SUMMARY:Vegan Sunday Brunch
DESCRIPTION:Every Sunday \nNoon to 3 pm \nVegan Sunday Brunch \nThe Lair (420 Safe Place) \nSunday Funday (games\, movies\, & brunch)
URL:https://www.vkind.com/vegan-events/vegan-sunday-brunch/2024-04-07/
LOCATION:The Lair 420 Social Club\, 323 N 52ND ST\, Philadelphia\, PA\, 19139\, United States
ATTACH;FMTTYPE=image/jpeg:https://www.vkind.com/wp-content/uploads/2023/07/Vegan-Sunday-Brunch.jpg
GEO:39.9660173;-75.2244895
X-APPLE-STRUCTURED-LOCATION;VALUE=URI;X-ADDRESS=The Lair 420 Social Club 323 N 52ND ST Philadelphia PA 19139 United States;X-APPLE-RADIUS=500;X-TITLE=323 N 52ND ST:geo:-75.2244895,39.9660173
END:VEVENT
BEGIN:VEVENT
DTSTART;TZID=America/New_York:20240331T120000
DTEND;TZID=America/New_York:20240331T150000
DTSTAMP:20260424T001354
CREATED:20230726T140602Z
LAST-MODIFIED:20230726T140602Z
UID:10001147-1711886400-1711897200@www.vkind.com
SUMMARY:Vegan Sunday Brunch
DESCRIPTION:Every Sunday \nNoon to 3 pm \nVegan Sunday Brunch \nThe Lair (420 Safe Place) \nSunday Funday (games\, movies\, & brunch)
URL:https://www.vkind.com/vegan-events/vegan-sunday-brunch/2024-03-31/
LOCATION:The Lair 420 Social Club\, 323 N 52ND ST\, Philadelphia\, PA\, 19139\, United States
ATTACH;FMTTYPE=image/jpeg:https://www.vkind.com/wp-content/uploads/2023/07/Vegan-Sunday-Brunch.jpg
GEO:39.9660173;-75.2244895
X-APPLE-STRUCTURED-LOCATION;VALUE=URI;X-ADDRESS=The Lair 420 Social Club 323 N 52ND ST Philadelphia PA 19139 United States;X-APPLE-RADIUS=500;X-TITLE=323 N 52ND ST:geo:-75.2244895,39.9660173
END:VEVENT
END:VCALENDAR