BEGIN:VCALENDAR
VERSION:2.0
PRODID:-//Vkind - ECPv6.15.14//NONSGML v1.0//EN
CALSCALE:GREGORIAN
METHOD:PUBLISH
X-ORIGINAL-URL:https://www.vkind.com
X-WR-CALDESC:Events for Vkind
REFRESH-INTERVAL;VALUE=DURATION:PT1H
X-Robots-Tag:noindex
X-PUBLISHED-TTL:PT1H
BEGIN:VTIMEZONE
TZID:-05:00
END:VTIMEZONE
BEGIN:VEVENT
DTSTART;TZID=-05:00:20250121T190000
DTEND;TZID=-05:00:20250121T203000
DTSTAMP:20260423T083250
CREATED:20250110T050048Z
LAST-MODIFIED:20250119T071530Z
UID:10007864-1737486000-1737491400@www.vkind.com
SUMMARY:"Age Like a Yogi" by Victoria Moran - Book Release and Discussion
DESCRIPTION:*****The start time has been changed to 7 pm. Please note and plan accordingly. Thanks!***** \nPlease join us on Tuesday\, January 21st\, from 7 to 830 pm\, for a Book Launch Party and Talk by Vegan Author and Yogi\, [Victoria Moran](https://victoriamoran.com/). We will celebrate the publication of *[Age Like a Yogi](https://victoriamoran.com/age-like-a-yogi/)*\, the 14th book from Victoria\, cited by *VegNews* among the Top 10 Living Vegetarian Authors.\n*The book will be released on Jan 14th!* \nYou’ll hear from Victoria and other vegan yogis including:\n– Christina Gdisis\, Vegan Chef and Yoga Facilitator at [consciousvegankitchen.com](consciousvegankitchen.com)\n– Holly Skodis of Yoga Is Vegan\nPhil DeJean will facilitate the group and they will discuss how these two paths support one another\, plus ayurvedic insights for looking and feeling fabulous at any age. \nThere is no charge to attend this event and an RSVP is required to attend\, due to space constraints. \n*Please consider buying a copy of the book.* **There will be no book sales at the event itself**\, but you can purchase ***Age Like a Yogi*** from your favorite online or brick & mortar bookshop and bring it with you for signing. Some links to order are:\n· [Amazon ](https://tinyurl.com/ALaYAmazon)\n· [BN.com](https://www.barnesandnoble.com/w/age-like-a-yogi-victoria-moran/1144973281?ean=9781958972595)\n· [Bookshop.org](https://bookshop.org/p/books/age-like-a-yogi-a-heavenly-path-to-a-dazzling-third-act/21068947?ean=9781958972595)\n· [Target.com](https://www.target.com/p/age-like-a-yogi-by-victoria-moran-paperback/-/A-90979638)\n· [Thriftbooks](https://www.thriftbooks.com/w/age-like-a-yogi-a-heavenly-path-to-a-dazzling-third-act_unknown-author/52111373/#edition=70809550&idiq=63165328) \n*If there isn’t time to order\, please send $20 to [PayPal.me/mainstreetvegan](http://paypal.me/mainstreetvegan)\, and you can pick up your copy that evening.* \n**About the Book:** Age Like a Yogi explores spiritual awakening yoga-style and the fundamentals of yoga’s sister science\, ayurveda\, for care of the body. While one of its 40 chapters does cover asana practice––downward dogs and the like––the others explore the richness of a yogic lifestyle and worldview. This starts with dynamic compassion\, yoga’s first moral precept\, and includes inner exploration and ayurvedic self-care to up the odds of loving your life for as long as you live it.\nBased on the author’s 50-plus years of yogic exploration\, and the feisty inspiration of role models\, such as her first yoga teacher\, Stella Cherfas\, now 99\, this book unearths the charms\, as well as the challenges\, of life’s later decades.\nAge Like a Yogi gives the reader both immediately applicable tools for spiritual awareness and physical vitality\, and a way of living that can make this world kinder\, saner\, and a little more beautiful. \n**Event Location:** 2nd floor Meeting Room\, Kalahari Condominium\n40 West 116th Street\, between Fifth and Lenox\n*(PLEASE plan well in advance and come on time!)* \n**Train Directions:** *Take the 2 or 3 train (NOT THE #1)* to 116th (you’ll exit at 116th and Lenox Ave.) and walk east half a block. OR\, take the 6 train to 116th (this station is 116th and Lexington) and walk or take any bus 3 and half blocks west. \n**Book Reviews and Testimonials:**\nKirkus Reviews: *”It is the deftness with which Moran handles this delicate balance between the metaphysical and tangible that makes her guide such a pleasure to read.”* \n“A feast for body and spirit\, *Age Like a Yogi* draws on the time-honored teachings of both ayurveda and yoga to provide practical guidance and mystical insights for living wisely and well in every decade.” ~**John Robbins**\, author of *Healthy at 100* \n“Victoria Moran has always spoken from the heart; her native tongue is Spirit and her teaching is truth. She has a way of weaving in history and research so that you know these things are not just her opinions\, but rather holy truths to be returned to. Read and feel lifted! ~**Kathy Freston\,** NY Times bestselling author\, *Quantum Wellness*\, *Veganist*\, *The Lean* \n“If you believe that life should be a meaningful adventure from start to finish\, *Age Like a Yogi* is for you. Drawing on yoga’s time-honored track record of promoting physical health and inner peace\, this book is an honest and light-hearted companion for fully embracing every day and every decade. Highly recommended!”\n~**Dean Ornish\, MD\,** #1 New York Times bestselling author of *UnDo It!* \n“*Age Like A Yogi* is an essential guide to living a long\, vibrant and fulfilled life.” ~**Tara Stiles\,** author of *Yoga Cures* and co-founder of Strala Yoga \n“Victoria Moran’s words transmit the essence of compassion and calmness\, with plenty of fun besides.” ~**Rep. Jeremy Gray**\, Alabama state senator who drafted legislation to overturn ban on yoga in the state’s schools \n**For our new members:** this is an incredibly friendly and welcoming group so feel free to come and meet our wonderful meetup members and friends. \n***After the event and for whoever wants to join as time permits\, a number of us will walk over to a nearby Ethiopian restaurant for a vegan meal and further conversations.*** \nDo bring a friend and RSVP asap! \nWe look forward to seeing you on the 21st at 7 pm!\n~~Saurabh
URL:https://www.vkind.com/vegan-events/age-like-a-yogi-by-victoria-moran-book-release-and-discussion/
LOCATION:The Kalahari Condominiums\, 40 West 116th Street\, New York\, NY\, 10026\, United States
ATTACH;FMTTYPE=image/jpeg:https://www.vkind.com/wp-content/uploads/2025/01/1024x576-c6gh4u.tmp_.jpg
GEO:40.801064;-73.94801
X-APPLE-STRUCTURED-LOCATION;VALUE=URI;X-ADDRESS=The Kalahari Condominiums 40 West 116th Street New York NY 10026 United States;X-APPLE-RADIUS=500;X-TITLE=40 West 116th Street:geo:-73.94801,40.801064
END:VEVENT
END:VCALENDAR