BEGIN:VCALENDAR
VERSION:2.0
PRODID:-//Vkind - ECPv6.15.14//NONSGML v1.0//EN
CALSCALE:GREGORIAN
METHOD:PUBLISH
X-WR-CALNAME:Vkind
X-ORIGINAL-URL:https://www.vkind.com
X-WR-CALDESC:Events for Vkind
REFRESH-INTERVAL;VALUE=DURATION:PT1H
X-Robots-Tag:noindex
X-PUBLISHED-TTL:PT1H
BEGIN:VTIMEZONE
TZID:-04:00
END:VTIMEZONE
BEGIN:VEVENT
DTSTART;TZID=-04:00:20240721T100000
DTEND;TZID=-04:00:20240721T140000
DTSTAMP:20260424T123103
CREATED:20240711T021537Z
LAST-MODIFIED:20240721T080038Z
UID:10007749-1721556000-1721570400@www.vkind.com
SUMMARY:Bridging Traditions - Spiritual talks at Ganesh Temple #FlushingQueens
DESCRIPTION:**Please note in addition to Meetup RVSP\, you are also required to [Register here](https://forms.gle/TmQNHpa8YkScw1RE8) for this event. (Event is FREE – no cost.)** \nDear Friends\,\nOur group has been hosting Hindu Temple tours in Flushing\, Queens for many years\, typically during the fall festive season. Recognizing that many of our veg*n meetup members enjoy spiritual and philosophical discussions\, we are excited to invite you to an engaging\, in-person spiritual talk at the Ganesh Temple in Flushing\, Queens. \nThis year’s event theme is about Bridging traditions – “**Application of Traditional Teachings in Modern Life**”. The spiritual talks will delve into the Purusharthas – Dharma\, Artha\, Kama\, and Moksha – and their relevance in today’s world. \n**Location -**\nSaraswati Hall – Ganesh Temple\n45-52 Bowne Street\, Flushing\, NY 11355\n[http://www.nyganeshtemple.org/](http://www.nyganeshtemple.org/) \n**Event Time** –\n10 am onwards (please arrive a little early to this event). \n**Please [Register here](https://forms.gle/TmQNHpa8YkScw1RE8) for this event\, or use the QR code in the event image. (Event is FREE – no cost.)** \nLight refreshments with veg*n options will be provided during the lunch break. Alternatively\, you can choose to eat at the Ganesh Temple canteen or the nearby Dosa Hutt. A quick note about the food venues: while both of them serve 100% vegetarian food\, not all options are vegan. The food is very reasonably priced and offers some of the best South Indian veg*n fare in the Tri-state area. \n**What to wear:** Please dress comfortably and stay hydrated. As respect to the place of worship\, please No shorts\, mini skirts and ripped jeans. \n**Train/ Bus Directions:** Take the Flushing-bound 7 Train to the last stop – Flushing-Main Street Station. Transfer to the Q27 bus on Main Street/39th Ave\, and after about 10 minutes (8 stops)\, get off at Holly Ave/Robinson St – walk 234 ft to Ganesh Temple. Alternatively\, transfer to the Q65 bus on Main St/Roosevelt Ave\, and after about 5 minutes (4 stops)\, get off at 45 Ave/Bowne St – walk 0.1 miles to the temple. You can also walk from the Main St. subway station to the temple (~1 mile). Check Google Maps for directions. \nDriving and parking directions can be found here [https://nyganeshtemple.org/directions](https://nyganeshtemple.org/directions) on the temple website. \nLooking forward to seeing you on July 21st! \nThanks\,\nKarthik R \nImage Courtesy: [https://nyganeshtemple.org](https://nyganeshtemple.org/directions) \n**Please note in addition to Meetup RVSP\, you are also required to [Register here](https://forms.gle/TmQNHpa8YkScw1RE8) for this event. (Event is FREE – no cost.)**
URL:https://www.vkind.com/vegan-events/bridging-traditions-spiritual-talks-at-ganesh-temple-flushingqueens/
LOCATION:The Hindu Temple Society of North America (Ganesha Temple)\, 143-09 Holly Avenue\, Flushing\, NY\, 11355\, United States
ATTACH;FMTTYPE=image/jpeg:https://www.vkind.com/wp-content/uploads/2024/07/1024x576-A5FBjB.tmp_.jpg
GEO:40.752293;-73.816578
X-APPLE-STRUCTURED-LOCATION;VALUE=URI;X-ADDRESS=The Hindu Temple Society of North America (Ganesha Temple) 143-09 Holly Avenue Flushing NY 11355 United States;X-APPLE-RADIUS=500;X-TITLE=143-09 Holly Avenue:geo:-73.816578,40.752293
END:VEVENT
END:VCALENDAR