BEGIN:VCALENDAR
VERSION:2.0
PRODID:-//Vkind - ECPv6.15.14//NONSGML v1.0//EN
CALSCALE:GREGORIAN
METHOD:PUBLISH
X-WR-CALNAME:Vkind
X-ORIGINAL-URL:https://www.vkind.com
X-WR-CALDESC:Events for Vkind
REFRESH-INTERVAL;VALUE=DURATION:PT1H
X-Robots-Tag:noindex
X-PUBLISHED-TTL:PT1H
BEGIN:VTIMEZONE
TZID:America/Detroit
BEGIN:DAYLIGHT
TZOFFSETFROM:-0500
TZOFFSETTO:-0400
TZNAME:EDT
DTSTART:20220313T070000
END:DAYLIGHT
BEGIN:STANDARD
TZOFFSETFROM:-0400
TZOFFSETTO:-0500
TZNAME:EST
DTSTART:20221106T060000
END:STANDARD
BEGIN:DAYLIGHT
TZOFFSETFROM:-0500
TZOFFSETTO:-0400
TZNAME:EDT
DTSTART:20230312T070000
END:DAYLIGHT
BEGIN:STANDARD
TZOFFSETFROM:-0400
TZOFFSETTO:-0500
TZNAME:EST
DTSTART:20231105T060000
END:STANDARD
BEGIN:DAYLIGHT
TZOFFSETFROM:-0500
TZOFFSETTO:-0400
TZNAME:EDT
DTSTART:20240310T070000
END:DAYLIGHT
BEGIN:STANDARD
TZOFFSETFROM:-0400
TZOFFSETTO:-0500
TZNAME:EST
DTSTART:20241103T060000
END:STANDARD
END:VTIMEZONE
BEGIN:VTIMEZONE
TZID:America/Los_Angeles
BEGIN:DAYLIGHT
TZOFFSETFROM:-0800
TZOFFSETTO:-0700
TZNAME:PDT
DTSTART:20220313T100000
END:DAYLIGHT
BEGIN:STANDARD
TZOFFSETFROM:-0700
TZOFFSETTO:-0800
TZNAME:PST
DTSTART:20221106T090000
END:STANDARD
BEGIN:DAYLIGHT
TZOFFSETFROM:-0800
TZOFFSETTO:-0700
TZNAME:PDT
DTSTART:20230312T100000
END:DAYLIGHT
BEGIN:STANDARD
TZOFFSETFROM:-0700
TZOFFSETTO:-0800
TZNAME:PST
DTSTART:20231105T090000
END:STANDARD
BEGIN:DAYLIGHT
TZOFFSETFROM:-0800
TZOFFSETTO:-0700
TZNAME:PDT
DTSTART:20240310T100000
END:DAYLIGHT
BEGIN:STANDARD
TZOFFSETFROM:-0700
TZOFFSETTO:-0800
TZNAME:PST
DTSTART:20241103T090000
END:STANDARD
END:VTIMEZONE
BEGIN:VTIMEZONE
TZID:America/New_York
BEGIN:DAYLIGHT
TZOFFSETFROM:-0500
TZOFFSETTO:-0400
TZNAME:EDT
DTSTART:20220313T070000
END:DAYLIGHT
BEGIN:STANDARD
TZOFFSETFROM:-0400
TZOFFSETTO:-0500
TZNAME:EST
DTSTART:20221106T060000
END:STANDARD
BEGIN:DAYLIGHT
TZOFFSETFROM:-0500
TZOFFSETTO:-0400
TZNAME:EDT
DTSTART:20230312T070000
END:DAYLIGHT
BEGIN:STANDARD
TZOFFSETFROM:-0400
TZOFFSETTO:-0500
TZNAME:EST
DTSTART:20231105T060000
END:STANDARD
BEGIN:DAYLIGHT
TZOFFSETFROM:-0500
TZOFFSETTO:-0400
TZNAME:EDT
DTSTART:20240310T070000
END:DAYLIGHT
BEGIN:STANDARD
TZOFFSETFROM:-0400
TZOFFSETTO:-0500
TZNAME:EST
DTSTART:20241103T060000
END:STANDARD
END:VTIMEZONE
BEGIN:VEVENT
DTSTART;TZID=America/Detroit:20230416T100000
DTEND;TZID=America/Detroit:20230416T160000
DTSTAMP:20260423T055303
CREATED:20230407T162332Z
LAST-MODIFIED:20230407T162332Z
UID:10000492-1681639200-1681660800@www.vkind.com
SUMMARY:Plant Based Into Earth Day
DESCRIPTION:Are you ready for this month’s amazing event? Come celebrate earth month with us at Plant Based Into Earth Day. We have so many amazing vendors lined up\, new vendors along with our amazing regulars!\n\nApril 16\, 2023\nThe Coop\n5955 S Edmond Street\nLas Vegas\, NV
URL:https://www.vkind.com/vegan-events/plant-based-into-earth-day/
LOCATION:The Coop\, 5955 S Edmond Street\, Las Vegas\, NV\, 89118\, United States
ATTACH;FMTTYPE=image/jpeg:https://www.vkind.com/wp-content/uploads/2023/04/Plant-Based-Into-Earth-Day.jpg
GEO:36.081564;-115.2127682
X-APPLE-STRUCTURED-LOCATION;VALUE=URI;X-ADDRESS=The Coop 5955 S Edmond Street Las Vegas NV 89118 United States;X-APPLE-RADIUS=500;X-TITLE=5955 S Edmond Street:geo:-115.2127682,36.081564
END:VEVENT
BEGIN:VEVENT
DTSTART;TZID=America/Los_Angeles:20230319T100000
DTEND;TZID=America/Los_Angeles:20230319T160000
DTSTAMP:20260423T055303
CREATED:20230310T165157Z
LAST-MODIFIED:20230316T163933Z
UID:10000474-1679220000-1679241600@www.vkind.com
SUMMARY:Plant Based Into Spring
DESCRIPTION:Plant Based Into Spring is a free indoor and outdoor event featuring over 30 vegan vendors happening at The Coop located on 5955 S Edmond St\, Las Vegas\, NV 89118! Including food\, treats\, crafts\, candles\, world’s best salsa\, and so much more! Free raffle tickets will be given to the first 100 guests! \n 
URL:https://www.vkind.com/vegan-events/plant-based-into-spring/
LOCATION:The Coop\, 5955 S Edmond Street\, Las Vegas\, NV\, 89118\, United States
ATTACH;FMTTYPE=image/jpeg:https://www.vkind.com/wp-content/uploads/2023/03/Plant-Based-Into-Spring.jpg
GEO:36.081564;-115.2127682
X-APPLE-STRUCTURED-LOCATION;VALUE=URI;X-ADDRESS=The Coop 5955 S Edmond Street Las Vegas NV 89118 United States;X-APPLE-RADIUS=500;X-TITLE=5955 S Edmond Street:geo:-115.2127682,36.081564
END:VEVENT
BEGIN:VEVENT
DTSTART;TZID=America/New_York:20230226T100000
DTEND;TZID=America/New_York:20230226T160000
DTSTAMP:20260423T055303
CREATED:20230210T205624Z
LAST-MODIFIED:20230210T223916Z
UID:10000438-1677405600-1677427200@www.vkind.com
SUMMARY:Plant Based Into February 2023
DESCRIPTION:Who’s ready for this months event?! I know we are super excited to see everyone again. We have over 30 all vegan vendors to include amazing vegan food\, treats\, crafts\, candles\, World’s Best Salsa and so much more! \nFollow @lulusvegankitchen for more info ❤️
URL:https://www.vkind.com/vegan-events/plant-based-into-february-2023/
LOCATION:The Coop\, 5955 S Edmond Street\, Las Vegas\, NV\, 89118\, United States
ATTACH;FMTTYPE=image/jpeg:https://www.vkind.com/wp-content/uploads/2023/02/Plant-Based-Into-February-2023.jpg
GEO:36.081564;-115.2127682
X-APPLE-STRUCTURED-LOCATION;VALUE=URI;X-ADDRESS=The Coop 5955 S Edmond Street Las Vegas NV 89118 United States;X-APPLE-RADIUS=500;X-TITLE=5955 S Edmond Street:geo:-115.2127682,36.081564
END:VEVENT
END:VCALENDAR