BEGIN:VCALENDAR
VERSION:2.0
PRODID:-//Vkind - ECPv6.15.14//NONSGML v1.0//EN
CALSCALE:GREGORIAN
METHOD:PUBLISH
X-WR-CALNAME:Vkind
X-ORIGINAL-URL:https://www.vkind.com
X-WR-CALDESC:Events for Vkind
REFRESH-INTERVAL;VALUE=DURATION:PT1H
X-Robots-Tag:noindex
X-PUBLISHED-TTL:PT1H
BEGIN:VTIMEZONE
TZID:-05:00
END:VTIMEZONE
BEGIN:VEVENT
DTSTART;TZID=-05:00:20230211T200000
DTEND;TZID=-05:00:20230211T213000
DTSTAMP:20260423T172721
CREATED:20230208T093606Z
LAST-MODIFIED:20230211T102010Z
UID:10000434-1676145600-1676151000@www.vkind.com
SUMMARY:Attend Improv Show at Studio Theatre
DESCRIPTION:Join us in watching the final round of the Fighting Improv Smackdown Tournament. While we will not get to watch any VSDC members perform\, it will still be a night filled with laughter and fun. \nYou can purchase your event ticket here:\n[Fighting Improv Smackdown Tournament: FINALS Tickets\, Sat\, Feb 11\, 2023 at 8:00 PM | Eventbrite](https://www.eventbrite.com/e/fighting-improv-smackdown-tournament-finals-tickets-498030411367?_gl=1%2A1w9jy1v%2A_ga%2ANDM3MDUwMzY4LjE2NzQwNjk3NDI.%2A_ga_Q89PVK7JCY%2AMTY3NTc3OTM1OC4zLjEuMTY3NTc3OTM2Ny41MS4wLjA.&_ga=2.268474034.2139866092.1675779359-437050368.1674069742) \nThis event will last about 1 hour\, and will be indoors at Studio Theatre. This venue does require everyone to wear masks. They have masks at the front door in case you forget to bring one. \nIf anyone would like to grab dinner before the show\, and then walk over to the theatre\, you can meet us at DC Vegan at 6:30pm. \nVSDC (http://www.vsdc.org) is a clear and consistent voice for improving the lives of all beings through education on the benefits of a vegan diet & lifestyle. Sharing food is the bond that brings families together; so it is with VSDC. From simply “breaking bread” to experiencing delicious and nutritious vegan foods from around the world\, we make your journey easier\, enjoyable & meaningful. \nBy coming to this event\, we expect you will follow the code of conduct found at [Policies – VSDC – Veg Society of DC](https://vsdc.org/policies) \n**VSDC. Creating communities. For your health\, the animals\, and the planet.**
URL:https://www.vkind.com/vegan-events/attend-improv-show-at-studio-theatre-2/
LOCATION:Studio Theatre\, 1501 14th St NW\, Washington\, DC\, 20005\, us
ATTACH;FMTTYPE=image/jpeg:https://www.vkind.com/wp-content/uploads/2023/01/1024x576-ytXYAM.tmp_.jpg
GEO:38.91003;-77.03158
X-APPLE-STRUCTURED-LOCATION;VALUE=URI;X-ADDRESS=Studio Theatre 1501 14th St NW Washington DC 20005 us;X-APPLE-RADIUS=500;X-TITLE=1501 14th St NW:geo:-77.03158,38.91003
END:VEVENT
BEGIN:VEVENT
DTSTART;TZID=-05:00:20230127T213000
DTEND;TZID=-05:00:20230127T230000
DTSTAMP:20260423T172721
CREATED:20230124T082140Z
LAST-MODIFIED:20230127T083540Z
UID:10000426-1674855000-1674860400@www.vkind.com
SUMMARY:Attend Improv Show at Studio Theatre
DESCRIPTION:Join us in cheering on VSDC member\, and VSDC Improv teacher\, Sol Aziz at the Fighting Improv Smackdown Tournament. Sol will be competing with his Improv team “What’s Your Algorithm?” to move on to the next round of this tournament. The audience will be able to vote at the end of the show for their favorite improv group\, and of course we want to give Sol as many votes as possible. \nYou can purchase your event ticket here:\n[Fighting Improv Smackdown Tournament: Match 14 Tickets\, Fri\, Jan 27\, 2023 at 9:30 PM | Eventbrite](https://www.eventbrite.com/e/fighting-improv-smackdown-tournament-match-14-tickets-498021334217?_gl=1%2A1oetcar%2A_ga%2ANDM3MDUwMzY4LjE2NzQwNjk3NDI.%2A_ga_Q89PVK7JCY%2AMTY3NDQ4NDA1Mi4yLjAuMTY3NDQ4NDA1My41OS4wLjA.&_ga=2.130114063.1005447107.1674484053-437050368.1674069742) \nThis event will last about 1 hour\, and will be indoors at Studio Theatre. This venue does require everyone to wear masks. They have masks at the front door in case you forget to bring one. \nIf anyone would like to grab dinner before the show\, and then walk over to the theatre\, you can meet us at DC Vegan at 7:30pm. \nVSDC (http://www.vsdc.org) is a clear and consistent voice for improving the lives of all beings through education on the benefits of a vegan diet & lifestyle. Sharing food is the bond that brings families together; so it is with VSDC. From simply “breaking bread” to experiencing delicious and nutritious vegan foods from around the world\, we make your journey easier\, enjoyable & meaningful. \nBy coming to this event\, we expect you will follow the code of conduct found at [Policies – VSDC – Veg Society of DC](https://vsdc.org/policies) \n**VSDC. Creating communities. For your health\, the animals\, and the planet.**
URL:https://www.vkind.com/vegan-events/attend-improv-show-at-studio-theatre/
LOCATION:Studio Theatre\, 1501 14th St NW\, Washington\, DC\, 20005\, us
ATTACH;FMTTYPE=image/jpeg:https://www.vkind.com/wp-content/uploads/2023/01/1024x576-ytXYAM.tmp_.jpg
GEO:38.91003;-77.03158
X-APPLE-STRUCTURED-LOCATION;VALUE=URI;X-ADDRESS=Studio Theatre 1501 14th St NW Washington DC 20005 us;X-APPLE-RADIUS=500;X-TITLE=1501 14th St NW:geo:-77.03158,38.91003
END:VEVENT
END:VCALENDAR