BEGIN:VCALENDAR
VERSION:2.0
PRODID:-//Vkind - ECPv6.15.14//NONSGML v1.0//EN
CALSCALE:GREGORIAN
METHOD:PUBLISH
X-WR-CALNAME:Vkind
X-ORIGINAL-URL:https://www.vkind.com
X-WR-CALDESC:Events for Vkind
REFRESH-INTERVAL;VALUE=DURATION:PT1H
X-Robots-Tag:noindex
X-PUBLISHED-TTL:PT1H
BEGIN:VTIMEZONE
TZID:-04:00
END:VTIMEZONE
BEGIN:VTIMEZONE
TZID:-05:00
END:VTIMEZONE
BEGIN:VEVENT
DTSTART;TZID=-04:00:20240329T180000
DTEND;TZID=-04:00:20240329T193000
DTSTAMP:20260423T011709
CREATED:20240123T103034Z
LAST-MODIFIED:20240329T103046Z
UID:10007632-1711735200-1711740600@www.vkind.com
SUMMARY:VSDC Weekday Dinner at St. Veg in Rockville
DESCRIPTION:Please join your fellow VSDCers to enjoy a tasty and casual dinner at the all-vegan and organic St. Veg in Rockville. You can [check out the menu](https://www.stveg.com/all-day-menu). Please bring a friend\, and let’s spread the Veg word! \n**Save 5%**\nIf you are a VSDC member\, you can save 5% on your meal with a minimum order of $10 by showing a current membership card. Not yet a member? [Join today!](https://vsdc.org/membership/) \n**Update Your RSVP**\nOut of respect for the restaurant and others interested in attending this limited-space event\, please update your RSVP promptly as your schedule changes. \n**Transportation**\nThe shopping center offers free parking. The center is also accessible from the Shady Grove Metro on the Red Line by taking the Ride-On Bus 43 toward Traville. \n**VSDC: More Than A Meetup**\nWe are so glad to have you as part of The Veg Society of DC Vegan Meetup group\, and we enjoy seeing you at our events. Did you know that [VSDC](https://vsdc.org/) is a nonprofit organization with membership benefits? \nWith VSDC membership\, you will save money at area restaurants and businesses\, attend VSDC member-only events\, and\, most importantly\, support us as a clear and consistent voice for improving the lives of all beings through community building and education centered on the benefits of a vegan diet and lifestyle. \nThe membership fee is minimal\, but the impact is significant! [Become a member of VSDC](https://vsdc.org/membership/). \n**Liability Waiver and Code of Conduct**\nWhen you sign up to attend\, you automatically acknowledge [VSDC’s Liability Waiver](https://vsdc.org/activity-waiver/) and commit to follow the code of conduct found at [Policies – VSDC – Veg Society of DC](https://vsdc.org/policies/). \n**VSDC. Creating communities. For your health\, the animals\, and the planet.**
URL:https://www.vkind.com/vegan-events/vsdc-weekday-dinner-at-st-veg-in-rockville-wfpb-friendly/
LOCATION:St.Veg\, Shady Grove Rd #14929-M\, Rockville\, MD\, 20850\, United States
ATTACH;FMTTYPE=image/jpeg:https://www.vkind.com/wp-content/uploads/2023/12/1024x576-ei0z9i.tmp_.jpg
GEO:39.096527;-77.19205
X-APPLE-STRUCTURED-LOCATION;VALUE=URI;X-ADDRESS=St.Veg Shady Grove Rd #14929-M Rockville MD 20850 United States;X-APPLE-RADIUS=500;X-TITLE=Shady Grove Rd #14929-M:geo:-77.19205,39.096527
END:VEVENT
BEGIN:VEVENT
DTSTART;TZID=-05:00:20240215T180000
DTEND;TZID=-05:00:20240215T193000
DTSTAMP:20260423T011709
CREATED:20240112T062529Z
LAST-MODIFIED:20240212T060020Z
UID:10007621-1708020000-1708025400@www.vkind.com
SUMMARY:VSDC Weekday Dinner at St. Veg in Rockville - WFPB Friendly
DESCRIPTION:Please join your fellow VSDCers to enjoy a tasty and casual dinner at the all-vegan and organic St. Veg in Rockville. You can [check out the menu](https://www.stveg.com/all-day-menu). Please bring a friend\, and let’s spread the Veg word! \nAll of St. Veg’s dishes are made from scratch. The following dishes can be made to be WFPB: \n* Shredded Medley Bowl with brown rice or greens – order without EVOO spread\, sauce\, and pickled veggies.\n* Medley Combo Bowl with brown rice or greens order without EVOO spread\, sauce\, and pickled veggies. \n**Update Your RSVP**\nOut of respect for the restaurant and others interested in attending this limited-space event\, please update your RSVP promptly as your schedule changes. \n**Transportation**\nThe shopping center offers free parking. The center is also accessible from the Shady Grove Metro on the Red Line by taking the Ride-On Bus 43 toward Traville. \n**VSDC: More Than A Meetup**\nWe are so glad to have you as part of The Veg Society of DC Vegan Meetup group\, and we enjoy seeing you at our events. Did you know that [VSDC](https://vsdc.org/) is a nonprofit organization with membership benefits? \nWith VSDC membership\, you will save money at area restaurants and businesses\, attend VSDC member-only events\, and\, most importantly\, support us as a clear and consistent voice for improving the lives of all beings through community building and education centered on the benefits of a vegan diet and lifestyle. \nThe membership fee is minimal\, but the impact is significant! [Become a member of VSDC](https://vsdc.org/membership/). \n**Liability Waiver and Code of Conduct**\nWhen you sign up to attend\, you automatically acknowledge [VSDC’s Liability Waiver](https://vsdc.org/activity-waiver/) and commit to follow the code of conduct found at [Policies – VSDC – Veg Society of DC](https://vsdc.org/policies/).
URL:https://www.vkind.com/vegan-events/weekday-dinner-at-st-veg-in-rockville/
LOCATION:St.Veg\, Shady Grove Rd #14929-M\, Rockville\, MD\, 20850\, United States
ATTACH;FMTTYPE=image/jpeg:https://www.vkind.com/wp-content/uploads/2023/12/1024x576-ei0z9i.tmp_.jpg
GEO:39.096527;-77.19205
X-APPLE-STRUCTURED-LOCATION;VALUE=URI;X-ADDRESS=St.Veg Shady Grove Rd #14929-M Rockville MD 20850 United States;X-APPLE-RADIUS=500;X-TITLE=Shady Grove Rd #14929-M:geo:-77.19205,39.096527
END:VEVENT
BEGIN:VEVENT
DTSTART;TZID=-05:00:20240108T120000
DTEND;TZID=-05:00:20240108T133000
DTSTAMP:20260423T011709
CREATED:20231224T201045Z
LAST-MODIFIED:20240108T041046Z
UID:10007607-1704715200-1704720600@www.vkind.com
SUMMARY:Weekday Lunch at St. Veg in Rockville
DESCRIPTION:Please join your fellow VSDCers to enjoy a tasty and casual lunch at the all-vegan and organic St. Veg in Rockville. You can [check out the menu](https://www.stveg.com/all-day-menu). Please bring a friend\, and let’s spread the Veganuary message! \n**Update Your RSVP**\nOut of respect for the restaurant and others interested in attending this limited-space event\, please update your RSVP promptly as your schedule changes. \n**Transportation**\nThe shopping center offers free parking. The center is also accessible from the Shady Grove Metro on the Red Line by taking the Ride-On Bus 43 toward Traville. \n**VSDC: More Than A Meetup**\nWe are so glad to have you as part of The Veg Society of DC Vegan Meetup group\, and we enjoy seeing you at our events. Did you know that [VSDC](https://vsdc.org/) is a nonprofit organization with membership benefits? \nWith VSDC membership\, you will save money at area restaurants and businesses\, attend VSDC member-only events\, and\, most importantly\, support us as a clear and consistent voice for improving the lives of all beings through community building and education centered on the benefits of a vegan diet and lifestyle. \nThe membership fee is minimal\, but the impact is significant! [Become a member of VSDC](https://vsdc.org/membership/). \n**Liability Waiver and Code of Conduct**\nWhen you sign up to attend\, you automatically acknowledge [VSDC’s Liability Waiver](https://vsdc.org/activity-waiver/) and commit to follow the code of conduct found at [Policies – VSDC – Veg Society of DC](https://vsdc.org/policies/).
URL:https://www.vkind.com/vegan-events/weekday-lunch-at-st-veg-in-rockville/
LOCATION:St.Veg\, Shady Grove Rd #14929-M\, Rockville\, MD\, 20850\, United States
ATTACH;FMTTYPE=image/jpeg:https://www.vkind.com/wp-content/uploads/2023/12/1024x576-ei0z9i.tmp_.jpg
GEO:39.096527;-77.19205
X-APPLE-STRUCTURED-LOCATION;VALUE=URI;X-ADDRESS=St.Veg Shady Grove Rd #14929-M Rockville MD 20850 United States;X-APPLE-RADIUS=500;X-TITLE=Shady Grove Rd #14929-M:geo:-77.19205,39.096527
END:VEVENT
END:VCALENDAR