BEGIN:VCALENDAR
VERSION:2.0
PRODID:-//Vkind - ECPv6.15.14//NONSGML v1.0//EN
CALSCALE:GREGORIAN
METHOD:PUBLISH
X-ORIGINAL-URL:https://www.vkind.com
X-WR-CALDESC:Events for Vkind
REFRESH-INTERVAL;VALUE=DURATION:PT1H
X-Robots-Tag:noindex
X-PUBLISHED-TTL:PT1H
BEGIN:VTIMEZONE
TZID:America/Los_Angeles
BEGIN:DAYLIGHT
TZOFFSETFROM:-0800
TZOFFSETTO:-0700
TZNAME:PDT
DTSTART:20220313T100000
END:DAYLIGHT
BEGIN:STANDARD
TZOFFSETFROM:-0700
TZOFFSETTO:-0800
TZNAME:PST
DTSTART:20221106T090000
END:STANDARD
BEGIN:DAYLIGHT
TZOFFSETFROM:-0800
TZOFFSETTO:-0700
TZNAME:PDT
DTSTART:20230312T100000
END:DAYLIGHT
BEGIN:STANDARD
TZOFFSETFROM:-0700
TZOFFSETTO:-0800
TZNAME:PST
DTSTART:20231105T090000
END:STANDARD
BEGIN:DAYLIGHT
TZOFFSETFROM:-0800
TZOFFSETTO:-0700
TZNAME:PDT
DTSTART:20240310T100000
END:DAYLIGHT
BEGIN:STANDARD
TZOFFSETFROM:-0700
TZOFFSETTO:-0800
TZNAME:PST
DTSTART:20241103T090000
END:STANDARD
END:VTIMEZONE
BEGIN:VEVENT
DTSTART;TZID=America/Los_Angeles:20230903T110000
DTEND;TZID=America/Los_Angeles:20230903T170000
DTSTAMP:20260424T010655
CREATED:20230830T155657Z
LAST-MODIFIED:20230830T155657Z
UID:10007534-1693738800-1693760400@www.vkind.com
SUMMARY:Bizerkeley Food Festival 2023
DESCRIPTION:Welcome to Berkeley’s 1st and Only and the Bay Area’s Largest Vegan Food Festival!!!!\n \nWe are so excited to bring some of the BEST of vegan food and more to beautiful downtown Berkeley with vendors from across the country! The Bizerkeley Food Fest is the city of Berkeley’s first and only vegan food festival that will feature over a two dozen food vendors and more to bring our community together outdoors in a safe and preventative fashion. A fun time will be had by all! \nThe Countdown to the Bay Area’s Largest Vegan Food Fest is on!!!! \nSunday\, September 3rd from 11am-5pm! Bring your BFF to BFF! \nAt Sports Basement Berkeley in the outdoor parking lot from 11am-5pm (or when our vendors sell out)\, we will have so many goodies for our guests including (*subject to change): \n🎪70+ Vendors from all over the West Coast! \n\n\n🤑Free samples of delicious food\, beverages\, and ice cream!(can you say yum?!) \n\n\n🎯The Veggie Games include games\, prizes and Vegan Designer Fashion Show! \n\n\n🆓FREE door gift guaranteed for all Eventbrite Ticket buyers! Thanks to @partake @threetrees @nextlevelburger and more! While Supplies last! \n\n\n🍻21+ Drinks and Zero-Proof and sampling from Dr. Hops Hard Kombucha drinks curated by @drhops @thefunkymichi @tytywine @buckwildbrewing! \n\n\n🍔Food Cuisines from all over the world including soul food\, South American\, Asian\, Caribbean\, Polynesian\, food fusions and more! \n\n\n🤫A silent auction “market” where 100% of the proceeds benefit the Herd & Flock Animal Sanctuary. \n\n\n🏀BIG discounts to shop at Sports Basement Berkeley \n\n\n🚙 Parking is available for FREE in the neighborhood! Public transit is encouraged! \n\n\n🖍️Kids Zone: Chalk\, Bubbles\, and Vegan Story Time! \n\n\n♿️We 35\,000 sq ft of space that is ADA accessible. \n\n\nGet your VIP ticket for early entry and exclusive perks! \n\n\n🚫NO PETS!!! ADA WORKING ANIMALS ONLY. Non-profits will have rescued animals on site so pet pets are extremely banned. \n\n\nAND MORE!!!!! \n\n\nThank you to our sponsors @eclipsefoods @threetreesfoods @naturesfynd @berkeley_civic_arts @sportsbasement @primeroots! \nFollow @bizerkeleyfoodfest \nFollow @bizerkeleyvegan \nInterested in volunteering ? Please visit https://www.signupgenius.com/go/70a0d4cafa62ba7fd0-2023#/ \nhttps://2023bizerkeleyfoodfest.eventbrite.com \nPlease email thebizerkeleyvegan@gmail.com to donate products! \nInterested in being a donor or volunteer? Please visit thebizerkeleyvegan.com and fill out our interest form!
URL:https://www.vkind.com/vegan-events/bizerkeley-food-festival-2023/
LOCATION:Sports Basement Berkeley\, 2727 Milvia St\, Berkeley\, CA\, 94703\, United States
ATTACH;FMTTYPE=image/jpeg:https://www.vkind.com/wp-content/uploads/2023/08/Bizerkeley-Food-Festival-2023.jpg
END:VEVENT
END:VCALENDAR