BEGIN:VCALENDAR
VERSION:2.0
PRODID:-//Vkind - ECPv6.15.14//NONSGML v1.0//EN
CALSCALE:GREGORIAN
METHOD:PUBLISH
X-WR-CALNAME:Vkind
X-ORIGINAL-URL:https://www.vkind.com
X-WR-CALDESC:Events for Vkind
REFRESH-INTERVAL;VALUE=DURATION:PT1H
X-Robots-Tag:noindex
X-PUBLISHED-TTL:PT1H
BEGIN:VTIMEZONE
TZID:-04:00
END:VTIMEZONE
BEGIN:VEVENT
DTSTART;TZID=-04:00:20241005T150000
DTEND;TZID=-04:00:20241005T170000
DTSTAMP:20260423T155040
CREATED:20240920T195055Z
LAST-MODIFIED:20241005T030031Z
UID:10007802-1728140400-1728147600@www.vkind.com
SUMMARY:Veggie Biking - Sligo Creek\, Takoma Park
DESCRIPTION:Please join us for an exploratory ride on Sligo Creek trail in Tacoma Park \nWe will be starting from this [Sligo Creek Parking](https://maps.app.goo.gl/T5UfdAt1XWF7EDTw9) location. We will go South\, to the end of the trail and then up North towards the other end and return back to the starting point\, riding about 15 miles in total \nAfter the ride we will head to [Seoul Food DC](https://www.seoulfooddc.com/) for dinner. Seoul Food DC is a mostly vegan ([menu](https://seoulfooddc.square.site/)) establishment\, so we would request you to get a vegan item if you are sharing the table with us. \nMeeting point: [Sligo Creek Parking](https://maps.app.goo.gl/T5UfdAt1XWF7EDTw9)\nRoute: [https://maps.app.goo.gl/3sPdooHXGj9RvBEC6](https://maps.app.goo.gl/3sPdooHXGj9RvBEC6)\nLength: 15 miles\nDifficulty level: easy/moderate\nElevation change: 330 ft up & down\nTime: ~2 hours at moderate pace\nPace: moderate ~10 mph\nBiking surface: paved\nRoute type: trails\nPost ride lunch spot: Seoul Food DC \nFood/Water: Bring your own vegan snacks and (non-alcoholic) beverage to enjoy. Please carry plenty of water! \nWeather: we will not be riding in rain or windy conditions so stay tuned for Comments on this page. \n*For important updates\, regularly monitor the “**Comments**” section on this page (below).*\n***Don’t be a no show! If your plans change\, update your RSVP.*** \n*When you sign up to join\, you automatically acknowledge\n[VSDC Activity Liability Waiver](https://vsdc.org/activity-waiver/). \n*Please also view and abide by the RULES listed below*\nRULES \n* Pets are not allowed\n* Use of intoxicants such as alcohol\, cigarettes and/or illegal substances is banned during this event.\n* Practice safe biking habits including:\n* Wearing a bike helmet\n* Keeping a safe distance between each other (bikes don’t have brake lights and tailgating can easily result in crashes)\n* Avoid side by side riding unless the road gives us ample opportunity \nBy coming to this event\, we expect you to follow the code of conduct found at [Policies – VSDC – Veg Society of DC](https://vsdc.org/policies/). \n**VSDC: More Than A Meetup** \nWe are so glad to have you as part of The Veg Society of DC Vegan Meetup group\, and we enjoy seeing you at our events. Did you know that [VSDC](https://vsdc.org/) is a nonprofit organization with membership benefits?\nWith VSDC membership\, you will save money at area restaurants and businesses\, attend VSDC member-only events\, and\, most importantly\, support us as a clear and consistent voice for improving the lives of all beings through community building and education centered on the benefits of a vegan diet and lifestyle. \nThe membership fee is minimal\, but the impact is significant! [Become a member of VSDC](https://vsdc.org/membership/). \n**VSDC. Creating communities. For your health\, the animals\, and the planet.**
URL:https://www.vkind.com/vegan-events/veggie-biking-sligo-creek-takoma-park/
LOCATION:Sligo Creek Park parking – Hilltop Road\, 201 Hilltop Rd\, Silver Spring\, MD\, 20910\, United States
ATTACH;FMTTYPE=image/jpeg:https://www.vkind.com/wp-content/uploads/2024/03/1024x576-IgtOsc.tmp_.jpg
GEO:38.98701;-77.005585
X-APPLE-STRUCTURED-LOCATION;VALUE=URI;X-ADDRESS=Sligo Creek Park parking – Hilltop Road 201 Hilltop Rd Silver Spring MD 20910 United States;X-APPLE-RADIUS=500;X-TITLE=201 Hilltop Rd:geo:-77.005585,38.98701
END:VEVENT
END:VCALENDAR