BEGIN:VCALENDAR
VERSION:2.0
PRODID:-//Vkind - ECPv6.15.14//NONSGML v1.0//EN
CALSCALE:GREGORIAN
METHOD:PUBLISH
X-ORIGINAL-URL:https://www.vkind.com
X-WR-CALDESC:Events for Vkind
REFRESH-INTERVAL;VALUE=DURATION:PT1H
X-Robots-Tag:noindex
X-PUBLISHED-TTL:PT1H
BEGIN:VTIMEZONE
TZID:-04:00
END:VTIMEZONE
BEGIN:VTIMEZONE
TZID:-05:00
END:VTIMEZONE
BEGIN:VEVENT
DTSTART;TZID=-04:00:20230312T110000
DTEND;TZID=-04:00:20230312T123000
DTSTAMP:20260424T080133
CREATED:20230223T112048Z
LAST-MODIFIED:20230312T135307Z
UID:10000449-1678618800-1678624200@www.vkind.com
SUMMARY:Kundalini Yoga in a Salt Room
DESCRIPTION:Registration is required for this event and there’s limited space in the salt room. \nYou can call the Skin and Wellness Centre directly to add your name to the list and pay the day of the event or you can use the link below to register. If you call and they say the class Is full\, check the link below because they manage inventory separately. \n**Registration**: Use this [link](https://www.skinandwellnesscentre.com/yoga/) to register. The scheduler is at the bottom of the page.\n **Cost**: $25 + processing fee \nThe Kundalini Yoga class will use breath\, movement\, mantra\, and meditation to heal the mind\, body\, and spirit. \nEach class consists of a kriya\, which is a series of postures taught in sequence to produce a desired effect. \nThis class is designed to help students deepen their awareness\, connect with their creative energy\, open the heart\, stimulate the immune\, glandular and nervous system\, and balance the chakras. \nThe salt room will take your yoga practice to a whole new level! Enjoy the benefits of salt therapy\, also known as Halotherapy\, as you breathe in micro-particles of salt that can help to cleanse the respiratory system and rejuvenate the skin. \nThis class is open to students at all levels of experience and to the public\, not just our group. Classes tend to sell out! \nWhen you sign up to join this event you automatically acknowledge the VSDC Physical Activity Liability Waiver: https://vsdc.org/activity-waiver/ \nBy signing up for this event you agree to abide by VSDC’s discrimination/harassment policy https://VSDC.org/policies \nVSDC (http://www.vsdc.org) is a clear and consistent voice for improving the lives of all beings through education on the benefits of a vegan diet & lifestyle. Sharing food is the bond that brings families together; so it is with VSDC. From simply “breaking bread” to experiencing delicious and nutritious vegan foods from around the world\, we make your journey easier\, enjoyable & meaningful. \n**VSDC. Creating communities. For your health\, the animals\, and the planet.**
URL:https://www.vkind.com/vegan-events/kundalini-yoga-in-a-salt-room-4/
LOCATION:Skin and Wellness Centre\, 929 W Broad St Suite #101\, Falls Church\, VA\, 22046\, us
ATTACH;FMTTYPE=image/jpeg:https://www.vkind.com/wp-content/uploads/2022/09/1024x576-dTa7pv.tmp_.jpg
GEO:38.89013;-77.18427
X-APPLE-STRUCTURED-LOCATION;VALUE=URI;X-ADDRESS=Skin and Wellness Centre 929 W Broad St Suite #101 Falls Church VA 22046 us;X-APPLE-RADIUS=500;X-TITLE=929 W Broad St Suite #101:geo:-77.18427,38.89013
END:VEVENT
BEGIN:VEVENT
DTSTART;TZID=-05:00:20221211T110000
DTEND;TZID=-05:00:20221211T123000
DTSTAMP:20260424T080133
CREATED:20221107T173518Z
LAST-MODIFIED:20221212T022004Z
UID:10000338-1670756400-1670761800@www.vkind.com
SUMMARY:SOLD OUT - Kundalini Yoga in a Salt Room
DESCRIPTION:This event is sold out. \nRegistration is required for this event and there’s limited space in the salt room. \n**Registration**: Use this [link](https://www.eventbrite.com/e/kundalini-yoga-with-salt-therapy-tickets-392559685587?aff=ebdsoporgprofile) to register.\n **Cost**: $25 + processing fee \nThe Kundalini Yoga class will use breath\, movement\, mantra\, and meditation to heal the mind\, body\, and spirit. \nEach class consists of a kriya\, which is a series of postures taught in sequence to produce a desired effect. \nThis class is designed to help students deepen their awareness\, connect with their creative energy\, open the heart\, stimulate the immune\, glandular and nervous system\, and balance the chakras. \nThe salt room will take your yoga practice to a whole new level! Enjoy the benefits of salt therapy\, also known as Halotherapy\, as you breathe in micro-particles of salt that can help to cleanse the respiratory system and rejuvenate the skin. \nThis class is open to students at all levels of experience and to the public\, not just our group. Classes tend to sell out! \nWhen you sign up to join this event you automatically acknowledge the VSDC Physical Activity Liability Waiver: https://vsdc.org/activity-waiver/ \nBy signing up for this event you agree to abide by VSDC’s discrimination/harassment policy https://VSDC.org/policies \nVSDC (http://www.vsdc.org) is a clear and consistent voice for improving the lives of all beings through education on the benefits of a vegan diet & lifestyle. Sharing food is the bond that brings families together; so it is with VSDC. From simply “breaking bread” to experiencing delicious and nutritious vegan foods from around the world\, we make your journey easier\, enjoyable & meaningful. \n**VSDC. Creating communities. For your health\, the animals\, and the planet.**
URL:https://www.vkind.com/vegan-events/kundalini-yoga-in-a-salt-room-3/
LOCATION:Skin and Wellness Centre\, 929 W Broad St Suite #101\, Falls Church\, VA\, 22046\, us
ATTACH;FMTTYPE=image/jpeg:https://www.vkind.com/wp-content/uploads/2022/09/1024x576-dTa7pv.tmp_.jpg
GEO:38.89013;-77.18427
X-APPLE-STRUCTURED-LOCATION;VALUE=URI;X-ADDRESS=Skin and Wellness Centre 929 W Broad St Suite #101 Falls Church VA 22046 us;X-APPLE-RADIUS=500;X-TITLE=929 W Broad St Suite #101:geo:-77.18427,38.89013
END:VEVENT
BEGIN:VEVENT
DTSTART;TZID=-05:00:20221106T110000
DTEND;TZID=-05:00:20221106T123000
DTSTAMP:20260424T080133
CREATED:20221003T123625Z
LAST-MODIFIED:20221105T162037Z
UID:10000309-1667732400-1667737800@www.vkind.com
SUMMARY:SOLD OUT - Kundalini Yoga in a Salt Room
DESCRIPTION:Please note that this event is sold out! \nRegistration is required for this event and there’s limited space in the salt room. \n**Registration**: Use this [link](https://www.eventbrite.com/e/kundalini-yoga-with-salt-therapy-tickets-392559685587?aff=ebdsoporgprofile) to register.\n **Cost**: $20 + processing fee \nThe Kundalini Yoga class will use breath\, movement\, mantra\, and meditation to heal the mind\, body\, and spirit. \nEach class consists of a kriya\, which is a series of postures taught in sequence to produce a desired effect. \nThis class is designed to help students deepen their awareness\, connect with their creative energy\, open the heart\, stimulate the immune\, glandular and nervous system\, and balance the chakras. \nThe salt room will take your yoga practice to a whole new level! Enjoy the benefits of salt therapy\, also known as Halotherapy\, as you breathe in micro-particles of salt that can help to cleanse the respiratory system and rejuvenate the skin. \nThis class is open to students at all levels of experience and to the public\, not just our group. Classes tend to sell out! \nWhen you sign up to join this event you automatically acknowledge the VSDC Physical Activity Liability Waiver: https://vsdc.org/activity-waiver/ \nBy signing up for this event you agree to abide by VSDC’s discrimination/harassment policy https://VSDC.org/policies \nVSDC (http://www.vsdc.org) is a clear and consistent voice for improving the lives of all beings through education on the benefits of a vegan diet & lifestyle. Sharing food is the bond that brings families together; so it is with VSDC. From simply “breaking bread” to experiencing delicious and nutritious vegan foods from around the world\, we make your journey easier\, enjoyable & meaningful. \n**VSDC. Creating communities. For your health\, the animals\, and the planet.**
URL:https://www.vkind.com/vegan-events/kundalini-yoga-in-a-salt-room-2/
LOCATION:Skin and Wellness Centre\, 929 W Broad St Suite #101\, Falls Church\, VA\, 22046\, us
ATTACH;FMTTYPE=image/jpeg:https://www.vkind.com/wp-content/uploads/2022/09/1024x576-dTa7pv.tmp_.jpg
GEO:38.89013;-77.18427
X-APPLE-STRUCTURED-LOCATION;VALUE=URI;X-ADDRESS=Skin and Wellness Centre 929 W Broad St Suite #101 Falls Church VA 22046 us;X-APPLE-RADIUS=500;X-TITLE=929 W Broad St Suite #101:geo:-77.18427,38.89013
END:VEVENT
BEGIN:VEVENT
DTSTART;TZID=-04:00:20221002T110000
DTEND;TZID=-04:00:20221002T123000
DTSTAMP:20260424T080133
CREATED:20220907T093634Z
LAST-MODIFIED:20221002T122105Z
UID:10000279-1664708400-1664713800@www.vkind.com
SUMMARY:Kundalini Yoga in a Salt Room
DESCRIPTION:The Kundalini Yoga class will use breath\, movement\, mantra\, and meditation to heal the mind\, body\, and spirit. \nEach class consists of a kriya\, which is a series of postures taught in sequence to produce a desired effect. \nThis class is designed to help students deepen their awareness\, connect with their creative energy\, open the heart\, stimulate the immune\, glandular and nervous system\, and balance the chakras. \nThe salt room will take your yoga practice to a whole new level! Enjoy the benefits of salt therapy\, also known as Halotherapy\, as you breathe in micro-particles of salt that can help to cleanse the respiratory system and rejuvenate the skin. \nRegistration is required for this event and there’s limited space in the salt room! Details to register are at the bottom of this description. \nThis class is open to students at all levels of experience and to the public\, not just our group. Classes tend to sell out!\n **Registration**: Use this [link](https://www.eventbrite.com/e/kundalini-yoga-with-salt-therapy-tickets-392559685587?aff=ebdsoporgprofile) to register.\n **Cost**: $20 + processing fee \nWhen you sign up to join this event you automatically acknowledge the VSDC Physical Activity Liability Waiver: https://vsdc.org/activity-waiver/ \nBy signing up for this event you agree to abide by VSDC’s discrimination/harassment policy https://VSDC.org/policies \nVSDC (http://www.vsdc.org) is a clear and consistent voice for improving the lives of all beings through education on the benefits of a vegan diet & lifestyle. Sharing food is the bond that brings families together; so it is with VSDC. From simply “breaking bread” to experiencing delicious and nutritious vegan foods from around the world\, we make your journey easier\, enjoyable & meaningful. \n**VSDC. Creating communities. For your health\, the animals\, and the planet.**
URL:https://www.vkind.com/vegan-events/kundalini-yoga-in-a-salt-room/
LOCATION:Skin and Wellness Centre\, 929 W Broad St Suite #101\, Falls Church\, VA\, 22046\, us
ATTACH;FMTTYPE=image/jpeg:https://www.vkind.com/wp-content/uploads/2022/09/1024x576-dTa7pv.tmp_.jpg
GEO:38.89013;-77.18427
X-APPLE-STRUCTURED-LOCATION;VALUE=URI;X-ADDRESS=Skin and Wellness Centre 929 W Broad St Suite #101 Falls Church VA 22046 us;X-APPLE-RADIUS=500;X-TITLE=929 W Broad St Suite #101:geo:-77.18427,38.89013
END:VEVENT
END:VCALENDAR