BEGIN:VCALENDAR
VERSION:2.0
PRODID:-//Vkind - ECPv6.15.14//NONSGML v1.0//EN
CALSCALE:GREGORIAN
METHOD:PUBLISH
X-WR-CALNAME:Vkind
X-ORIGINAL-URL:https://www.vkind.com
X-WR-CALDESC:Events for Vkind
REFRESH-INTERVAL;VALUE=DURATION:PT1H
X-Robots-Tag:noindex
X-PUBLISHED-TTL:PT1H
BEGIN:VTIMEZONE
TZID:-04:00
END:VTIMEZONE
BEGIN:VEVENT
DTSTART;TZID=-04:00:20240818T160000
DTEND;TZID=-04:00:20240818T180000
DTSTAMP:20260423T154038
CREATED:20240523T080033Z
LAST-MODIFIED:20240818T073021Z
UID:10007720-1723996800-1724004000@www.vkind.com
SUMMARY:VSDC Vegan Potluck Picnic: Rock Creek Park Picnic Area #1
DESCRIPTION:What better way than to spend a gorgeous Sunday afternoon sharing vegan culinary delights with great company in the park?! Join [VSDC](vsdc.org) and vegan meetup friends for a summer picnic in Rock Creek Park in NW DC. The picnic starts at 4 pm and we have the space reserved until 6 pm so please plan to stay until then. There is no charge to attend the picnic. \nItems to bring to the picnic:\n– Vegan potluck dish (no animal products of any kind) to share. For food quantity\, please bring 4 to 6 times the number of servings times the number in your party.\n– A serving utensil for your dish\n– Ingredients list or recipe for your dish\n– Beverage for yourself or one to share (no alcohol allowed on premises)\n– Help reduce waste so please bring your reusable plate\, cup and utensils \nNote: VSDC will provide basic supplies\, drinking water\, and ice. \nFriendly reminder: vegans do not consume any animal products or byproducts (no meat\, chicken/poultry\, fish/sea animals\, eggs\, milk or dairy products\, honey\, etc). \n**Location**\nPicnic Area #1 at Rock Creek Park is located next to [Peirce Mill](https://npplan.com/parks-by-state/washington-d-c-national-parks/rock-creek-park-park-at-a-glance/rock-creek-park-peirce-mill-and-barn/)\, near the corner of Shoemaker and Spring of Freedom streets. See the [Picnic Areas](https://npplan.com/parks-by-state/washington-d-c-national-parks/rock-creek-park-park-at-a-glance/rock-creek-park-picnic-areas/) webpage for an interactive location map.\nNote: This is an ADA Accessible Site. \n**Restrooms**\nYes\, there are basic restrooms very close by. \n**Free Parking**\nYes\, there is a parking area adjacent to the picnic area. It can not be blocked off or reserved. \n**Weather**\nIn case of bad weather\, be sure to check the Comments on this webpage for any updates by the organizers. \n**VSDC: More Than A Meetup**\nWe are so glad to have you as part of The Veg Society of DC Vegan Meetup group\, and we enjoy seeing you at our events. Did you know that [VSDC](vsdc.org) is a nonprofit organization with membership benefits?\nWith VSDC membership\, you will save money at area restaurants and businesses\, attend VSDC member-only events\, and\, most importantly\, support us as a clear and consistent voice for improving the lives of all beings through community building and education centered on the benefits of a vegan diet and lifestyle.\nThe VSDC membership fee is minimal\, but the impact is significant! [Become a member of VSDC](https://vsdc.org/membership/). \n**Liability Waiver and Code of Conduct**\nWhen you sign up to attend\, you automatically acknowledge [VSDC’s Liability Waiver](https://vsdc.org/activity-waiver/) and commit to follow the code of conduct found at [Policies – VSDC – Veg Society of DC](https://vsdc.org/policies/).
URL:https://www.vkind.com/vegan-events/vsdc-vegan-potluck-picnic-rock-creek-park-picnic-area-1/
LOCATION:Shoemaker Street Northwest\, Shoemaker St NW\, Washington\, DC\, 20008\, United States
ATTACH;FMTTYPE=image/jpeg:https://www.vkind.com/wp-content/uploads/2023/03/1024x576-87ZTpa.tmp_.jpg
GEO:38.939312;-77.05261
X-APPLE-STRUCTURED-LOCATION;VALUE=URI;X-ADDRESS=Shoemaker Street Northwest Shoemaker St NW Washington DC 20008 United States;X-APPLE-RADIUS=500;X-TITLE=Shoemaker St NW:geo:-77.05261,38.939312
END:VEVENT
END:VCALENDAR