BEGIN:VCALENDAR
VERSION:2.0
PRODID:-//Vkind - ECPv6.15.14//NONSGML v1.0//EN
CALSCALE:GREGORIAN
METHOD:PUBLISH
X-WR-CALNAME:Vkind
X-ORIGINAL-URL:https://www.vkind.com
X-WR-CALDESC:Events for Vkind
REFRESH-INTERVAL;VALUE=DURATION:PT1H
X-Robots-Tag:noindex
X-PUBLISHED-TTL:PT1H
BEGIN:VTIMEZONE
TZID:-05:00
END:VTIMEZONE
BEGIN:VEVENT
DTSTART;TZID=-05:00:20230219T143000
DTEND;TZID=-05:00:20230219T163000
DTSTAMP:20260424T151429
CREATED:20230203T090531Z
LAST-MODIFIED:20230220T103519Z
UID:10000432-1676817000-1676824200@www.vkind.com
SUMMARY:Improv For Fun at Shaw Neighborhood Library
DESCRIPTION:Please enjoy a free and fun improv event led by VSDC member Sol Aziz. This event is intended for anyone with an interest in improv no matter your experience level. We will begin with a name game and slowly build our improv skills up throughout the duration of the class. \nImprov helps: \n* Build confidence\n* Learn how to connect with people better\n* Improve thinking on your feet\n* Most importantly brings laughter\, happiness\, and fun to your life. \nFor more information on the benefits of improv you can visit this link:\n[https://www.coverttheatre.com/about-improv](https://www.coverttheatre.com/about-improv) \nThis event will be indoors. The reserved room can hold 100 people\, and we will cap this event at 25 people to ensure we have enough space between each other. Please use your best judgement in regards to your health when signing up for this event. \nIf you are hungry after class\, we will walk to Right Proper Brewing Company which has vegan options on their menu as well as beer and soft drinks. If you do come to eat with us\, we ask that you please only order vegan items. \nVSDC (http://www.vsdc.org) is a clear and consistent voice for improving the lives of all beings through education on the benefits of a vegan diet & lifestyle. Sharing food is the bond that brings families together; so it is with VSDC. From simply “breaking bread” to experiencing delicious and nutritious vegan foods from around the world\, we make your journey easier\, enjoyable & meaningful. \nBy coming to this event\, we expect you will follow the code of conduct found at [Policies – VSDC – Veg Society of DC](https://vsdc.org/policies) \n**VSDC. Creating communities. For your health\, the animals\, and the planet.**
URL:https://www.vkind.com/vegan-events/improv-for-fun-at-shaw-neighborhood-library/
LOCATION:Shaw (Watha T. Daniel) Neighborhood Library\, 1630 7th St NW\, Washington\, DC\, 20001\, us
ATTACH;FMTTYPE=image/jpeg:https://www.vkind.com/wp-content/uploads/2022/10/1024x576-sd2jmh.tmp_.jpg
GEO:38.912445;-77.02227
X-APPLE-STRUCTURED-LOCATION;VALUE=URI;X-ADDRESS=Shaw (Watha T. Daniel) Neighborhood Library 1630 7th St NW Washington DC 20001 us;X-APPLE-RADIUS=500;X-TITLE=1630 7th St NW:geo:-77.02227,38.912445
END:VEVENT
END:VCALENDAR