BEGIN:VCALENDAR
VERSION:2.0
PRODID:-//Vkind - ECPv6.15.14//NONSGML v1.0//EN
CALSCALE:GREGORIAN
METHOD:PUBLISH
X-WR-CALNAME:Vkind
X-ORIGINAL-URL:https://www.vkind.com
X-WR-CALDESC:Events for Vkind
REFRESH-INTERVAL;VALUE=DURATION:PT1H
X-Robots-Tag:noindex
X-PUBLISHED-TTL:PT1H
BEGIN:VTIMEZONE
TZID:-05:00
END:VTIMEZONE
BEGIN:VEVENT
DTSTART;TZID=-05:00:20241214T103000
DTEND;TZID=-05:00:20241214T133000
DTSTAMP:20260423T213058
CREATED:20241116T213041Z
LAST-MODIFIED:20241214T004551Z
UID:10007842-1734172200-1734183000@www.vkind.com
SUMMARY:Vegan Trekkers: Clopper Lake at Seneca Creek Park
DESCRIPTION:Lets visit Seneca Creek Park in Maryland and take a loop around the Clopper Lake. The park has over 50 miles of trails\, but we will be doing only 6. \n6 mile option: park at [Seneca Creek State Park Offices parking lot](https://goo.gl/maps/fYi7vtnkzFMo3BWb7). To get to this lot: take the first right on the Seneca Creek Rd (the sign ‘Park Offices’ for the road is placed after the intersection). If you reach the Fee Booth then you have missed the turn\, please turn back. \nShorter 3.7 mile option: park at the [KingFisher Overlook parking lot](https://goo.gl/maps/wsEQCa1N9i4GU2wi6). Rest of the group will get there around 11:30am. \nWe will be starting on the Long Draught Trail along the Great Seneca Creek. Will then switch over to the Lake Trail to loop around the lake. \nMeeting Point for 6 mile option: [State Park Offices parking lot](https://goo.gl/maps/fYi7vtnkzFMo3BWb7)\nDistance: ~6 miles\nMeeting time: 10:30am\nPace: moderate (2.5-3 miles/hr)\nDifficulty: easier side of moderate\nDuration: 3 hours\nType of trail: natural\nHiking Map: https://www.alltrails.com/explore/trail/us/maryland/clopper-lake?mobileMap=false&ref=sidebar-static-map \nPublic Transportation:\nNearest Metro station: Shady Grove on Red line. Drop a line in comments to check if someone can give you a ride from there to the park. \nBathroom Facilities: Porta Potty at the parking lot. Restrooms at park shelters are closed for the season. \nPlease do not attend if you are sick or have been near someone who thinks they may have or have been exposed to COVID-19. \nDog friendly?: Yes. Please keep your dog leashed at all times. \nFood/Water: Bring your own vegan snack and (non-alcoholic) beverage to enjoy. Please carry plenty of water! \nWeather: Be prepared! We will hike minor rain or shine\, but if conditions pose a danger\, we’ll cancel the hike and post a notice in the “comments” section. \n*For important updates\, regularly monitor the “**Comments**” section on this page (below).* \n***Don’t be a no show! If your plans change\, update your RSVP.*** \n*When you sign up to join\, you automatically acknowledge\n[VSDC Activity Liability Waiver](https://vsdc.org/activity-waiver/).\nBy coming to this event\, we expect you to follow the code of conduct found at [Policies – VSDC – Veg Society of DC](https://vsdc.org/policies/). \n**VSDC: More Than A Meetup**\nWe are so glad to have you as part of The Veg Society of DC Vegan Meetup group\, and we enjoy seeing you at our events. Did you know that [VSDC](https://vsdc.org/) is a nonprofit organization with membership benefits?\nWith VSDC membership\, you will save money at area restaurants and businesses\, attend VSDC member-only events\, and\, most importantly\, support us as a clear and consistent voice for improving the lives of all beings through community building and education centered on the benefits of a vegan diet and lifestyle.\nThe membership fee is minimal\, but the impact is significant! [Become a member of VSDC](https://vsdc.org/membership/).\n**VSDC. Creating communities. For your health\, the animals\, and the planet.**
URL:https://www.vkind.com/vegan-events/vegan-trekkers-clopper-lake-at-seneca-creek-park/
LOCATION:Seneca Creek State Park Offices\, Gaithersburg\, MD\, 20878\, United States
ATTACH;FMTTYPE=image/jpeg:https://www.vkind.com/wp-content/uploads/2022/02/1024x576-u9vIMm.tmp_.jpg
GEO:39.150665;-77.24954
END:VEVENT
BEGIN:VEVENT
DTSTART;TZID=-05:00:20231225T103000
DTEND;TZID=-05:00:20231225T133000
DTSTAMP:20260423T213058
CREATED:20231219T172031Z
LAST-MODIFIED:20231224T200518Z
UID:10007603-1703500200-1703511000@www.vkind.com
SUMMARY:Vegan Trekkers Hike: Clopper Lake at Seneca Creek Park
DESCRIPTION:Let’s visit Seneca Creek Park in Maryland and take a loop around the Clopper Lake. The park has over 50 miles of trails\, but we will be doing only 6. \n6 mile option: park at [Seneca Creek State Park Offices parking lot](https://goo.gl/maps/fYi7vtnkzFMo3BWb7). To get to this lot: take the first right on the Seneca Creek Rd (the sign ‘Park Offices’ for the road is placed after the intersection). If you reach the Fee Booth then you have missed the turn\, please turn back. \nShorter 3.7 mile option: park at the [KingFisher Overlook parking lot](https://goo.gl/maps/wsEQCa1N9i4GU2wi6). Rest of the group will get there around 11:20 am . \nWe will be starting on the Long Draught Trail along the Great Seneca Creek. Will then switch over to the Lake Trail to loop around the lake. \nMeeting Point for 6 mile option: [State Park Offices parking lot](https://goo.gl/maps/fYi7vtnkzFMo3BWb7)\nDistance: ~6 miles\nMeeting time: 10:30am\nPace: moderate (2.5-3 miles/hr)\nDifficulty: easier side of moderate\nDuration: 3 hours\nType of trail: natural\nHiking Map: https://www.alltrails.com/explore/trail/us/maryland/clopper-lake?mobileMap=false&ref=sidebar-static-map \nBathroom Facilities: Porta Potty at the parking lot. Restrooms at park shelters are closed for the season. \nPlease do not attend if you are sick or have been near someone who thinks they may have or have been exposed to COVID-19. \nDog friendly?: Yes. Please keep your dog leashed at all times. \nFood/Water: Bring your own vegan snack and (non-alcoholic) beverage to enjoy. Please carry plenty of water! \nWeather: Be prepared! We will hike rain or shine\, but if conditions pose a danger\, we’ll cancel the hike and post a notice in the “comments” section. We suggest that hikers wear comfortable footwear and suitable clothing made from quick-dry\, synthetic fabrics\, as cotton can lead to uncomfortable blisters and life-threatening hypothermia in case of inclement weather. \n*For important updates regularly monitor the “comments” section below.*\n*Don’t be a no show! If your plans change\, update your RSVP.*\n*When you sign up to join a hike you automatically acknowledge\n[VSDC Vegan Trekkers Liability Waiver](https://vsdc.org/activity-waiver/).\n*Please also view the Rules listed at the end of this description*\n*Please read The 10 Essentials of Hiking: https://americanhiking.org/resources/10essentials/ * \nRULES \nPets: When hikes are organized in dog-friendly areas\, hikers are invited to bring their pet(s). However\, dogs are the sole responsibility of the owner(s) who brought them; should be up-to-date on their vaccinations & in possession of the relevant tags; and should be under the control of their owner(s) at all times. Dogs that demonstrate consistently aggressive or otherwise out-of-control behavior will be banned from future hikes. Owners should come prepared to dispose of their dogs’ waste in appropriate receptacles. \nAlcohol/Smoking/Intoxicants: Use of intoxicants such as alcohol\, cigarettes and/or illegal substances is banned during the hikes.\n— \nVSDC (http://www.vsdc.org) is a clear and consistent voice for improving the lives of all beings through education on the benefits of a vegan diet & lifestyle. Sharing food is the bond that brings families together; so it is with VSDC. From simply “breaking bread” to experiencing delicious and nutritious vegan foods from around the world\, we make your journey easier\, enjoyable & meaningful. \nVSDC. Creating communities. For your health\, the animals\, and the planet.
URL:https://www.vkind.com/vegan-events/vegan-trekkers-hike-clopper-lake-at-seneca-creek-park-4/
LOCATION:Seneca Creek State Park Offices\, Gaithersburg\, MD\, 20878\, United States
ATTACH;FMTTYPE=image/jpeg:https://www.vkind.com/wp-content/uploads/2022/02/1024x576-u9vIMm.tmp_.jpg
GEO:39.150665;-77.24954
END:VEVENT
BEGIN:VEVENT
DTSTART;TZID=-05:00:20231203T103000
DTEND;TZID=-05:00:20231203T133000
DTSTAMP:20260423T213058
CREATED:20231109T202535Z
LAST-MODIFIED:20231202T083553Z
UID:10007580-1701599400-1701610200@www.vkind.com
SUMMARY:Vegan Trekkers Hike: Clopper Lake at Seneca Creek Park
DESCRIPTION:Let’s visit Seneca Creek Park in Maryland and take a loop around the Clopper Lake. The park has over 50 miles of trails\, but we will be doing only 6. \n6 mile option: park at [Seneca Creek State Park Offices parking lot](https://goo.gl/maps/fYi7vtnkzFMo3BWb7). To get to this lot: take the first right on the Seneca Creek Rd (the sign ‘Park Offices’ for the road is placed after the intersection). If you reach the Fee Booth then you have missed the turn\, please turn back. \nShorter 3.7 mile option: park at the [KingFisher Overlook parking lot](https://goo.gl/maps/wsEQCa1N9i4GU2wi6). Rest of the group will get there around 11:15 am . \nWe will be starting on the Long Draught Trail along the Great Seneca Creek. Will then switch over to the Lake Trail to loop around the lake. \nMeeting Point for 6 mile option: [State Park Offices parking lot](https://goo.gl/maps/fYi7vtnkzFMo3BWb7)\nDistance: ~6 miles\nMeeting time: 10:15am\nPace: moderate (2.5-3 miles/hr)\nDifficulty: easier side of moderate\nDuration: 3 hours\nType of trail: natural\nHiking Map: https://www.alltrails.com/explore/trail/us/maryland/clopper-lake?mobileMap=false&ref=sidebar-static-map \nOptional post hike lunch: Naked Lunch Kitchen at [MOMs Organic Market](https://goo.gl/maps/KzrrvXobz3hc1Vaa7)\, Gaithersburg. \nBathroom Facilities: Porta Potty at the parking lot. Restrooms at park shelters are closed for the season. \nPlease do not attend if you are sick or have been near someone who thinks they may have or have been exposed to COVID-19. \nDog friendly?: Yes. Please keep your dog leashed at all times. \nFood/Water: Bring your own vegan snack and (non-alcoholic) beverage to enjoy. Please carry plenty of water! \nWeather: Be prepared! We will hike rain or shine\, but if conditions pose a danger\, we’ll cancel the hike and post a notice in the “comments” section. We suggest that hikers wear comfortable footwear and suitable clothing made from quick-dry\, synthetic fabrics\, as cotton can lead to uncomfortable blisters and life-threatening hypothermia in case of inclement weather. \n*For important updates regularly monitor the “comments” section below.*\n*Don’t be a no show! If your plans change\, update your RSVP.*\n*When you sign up to join a hike you automatically acknowledge\n[VSDC Vegan Trekkers Liability Waiver](https://vsdc.org/activity-waiver/).\n*Please also view the Rules listed at the end of this description*\n*Please read The 10 Essentials of Hiking: https://americanhiking.org/resources/10essentials/ * \nRULES \nPets: When hikes are organized in dog-friendly areas\, hikers are invited to bring their pet(s). However\, dogs are the sole responsibility of the owner(s) who brought them; should be up-to-date on their vaccinations & in possession of the relevant tags; and should be under the control of their owner(s) at all times. Dogs that demonstrate consistently aggressive or otherwise out-of-control behavior will be banned from future hikes. Owners should come prepared to dispose of their dogs’ waste in appropriate receptacles. \nAlcohol/Smoking/Intoxicants: Use of intoxicants such as alcohol\, cigarettes and/or illegal substances is banned during the hikes.\n— \nVSDC (http://www.vsdc.org) is a clear and consistent voice for improving the lives of all beings through education on the benefits of a vegan diet & lifestyle. Sharing food is the bond that brings families together; so it is with VSDC. From simply “breaking bread” to experiencing delicious and nutritious vegan foods from around the world\, we make your journey easier\, enjoyable & meaningful. \nVSDC. Creating communities. For your health\, the animals\, and the planet.
URL:https://www.vkind.com/vegan-events/vegan-trekkers-hike-clopper-lake-at-seneca-creek-park-3/
LOCATION:Seneca Creek State Park Offices\, Gaithersburg\, MD\, 20878\, United States
ATTACH;FMTTYPE=image/jpeg:https://www.vkind.com/wp-content/uploads/2022/02/1024x576-u9vIMm.tmp_.jpg
GEO:39.150665;-77.24954
END:VEVENT
BEGIN:VEVENT
DTSTART;TZID=-05:00:20221204T111500
DTEND;TZID=-05:00:20221204T141500
DTSTAMP:20260423T213058
CREATED:20221203T012017Z
LAST-MODIFIED:20221204T012041Z
UID:10000380-1670152500-1670163300@www.vkind.com
SUMMARY:Vegan Trekkers Hike: Clopper Lake at Seneca Creek Park
DESCRIPTION:Visit Seneca Creek Park in Maryland and take a loop around the Clopper Lake. The park has over 50 miles of trails\, but we will be doing only 5. \n6 mile option: park at Seneca Creek State Park Offices parking lot. To get to this lot: take the first right on the Seneca Creek Rd (the sign ‘Park Offices’ for the road is placed after the intersection). If you reach the Fee Booth then you have missed the turn\, please turn back. \nShorter 3.7 mile option: park at the KingFisher Overlook parking lot and meet us there at around 12:00 pm – https://goo.gl/maps/wsEQCa1N9i4GU2wi6 \nWe will be starting on the Long Draught Trail along the Great Seneca Creek. Will then switch over to the Lake Trail to loop around the lake. \nMeeting Point for 6mile option: https://goo.gl/maps/fYi7vtnkzFMo3BWb7\nDistance: ~6 miles\nPace: moderate (2.5-3 miles/hr)\nDifficulty: easier side of moderate\nDuration: 3 hours\nType of trail: natural\nHiking Map: https://www.alltrails.com/explore/trail/us/maryland/clopper-lake?mobileMap=false&ref=sidebar-static-map \nOptional post hike lunch: Naked Lunch Kitchen at MOMs Organic Market\, Gaithersburg – https://goo.gl/maps/KzrrvXobz3hc1Vaa7 \nBathroom Facilities: Porta Potty at the parking lot. Restrooms at park shelters are closed for the season. \nPlease do not attend if you are sick or have been near someone who thinks they may have or have been exposed to COVID-19. \nDog friendly?: Yes. Please keep your dog leashed at all times. \nFood/Water: Bring your own vegan snack and (non-alcoholic) beverage to enjoy. Please carry plenty of water! \nWeather: Be prepared! We will hike rain or shine\, but if conditions pose a danger\, we’ll cancel the hike and post a notice in the “comments” section. We suggest that hikers wear comfortable footwear and suitable clothing made from quick-dry\, synthetic fabrics\, as cotton can lead to uncomfortable blisters and life-threatening hypothermia in case of inclement weather. \n*For important updates regularly monitor the “comments” section below.*\n*Don’t be a no show! If your plans change\, update your RSVP.*\n*When you sign up to join a hike you automatically acknowledge\n[VSDC Vegan Trekkers Liability Waiver](https://vsdc.org/activity-waiver/).\n*Please also view the Rules listed at the end of this description*\n*Please read The 10 Essentials of Hiking: https://americanhiking.org/resources/10essentials/ * \nRULES \nPets: When hikes are organized in dog-friendly areas\, hikers are invited to bring their pet(s). However\, dogs are the sole responsibility of the owner(s) who brought them; should be up-to-date on their vaccinations & in possession of the relevant tags; and should be under the control of their owner(s) at all times. Dogs that demonstrate consistently aggressive or otherwise out-of-control behavior will be banned from future hikes. Owners should come prepared to dispose of their dogs’ waste in appropriate receptacles. \nAlcohol/Smoking/Intoxicants: Use of intoxicants such as alcohol\, cigarettes and/or illegal substances is banned during the hikes.\n— \nVSDC (http://www.vsdc.org) is a clear and consistent voice for improving the lives of all beings through education on the benefits of a vegan diet & lifestyle. Sharing food is the bond that brings families together; so it is with VSDC. From simply “breaking bread” to experiencing delicious and nutritious vegan foods from around the world\, we make your journey easier\, enjoyable & meaningful. \nVSDC. Creating communities. For your health\, the animals\, and the planet.
URL:https://www.vkind.com/vegan-events/vegan-trekkers-hike-clopper-lake-at-seneca-creek-park-2/
LOCATION:Seneca Creek State Park Offices\, Gaithersburg\, MD\, 20878\, United States
ATTACH;FMTTYPE=image/jpeg:https://www.vkind.com/wp-content/uploads/2022/02/1024x576-u9vIMm.tmp_.jpg
GEO:39.150665;-77.24954
END:VEVENT
BEGIN:VEVENT
DTSTART;TZID=-05:00:20221203T101500
DTEND;TZID=-05:00:20221203T131500
DTSTAMP:20260423T213058
CREATED:20221112T175222Z
LAST-MODIFIED:20221202T012027Z
UID:10000346-1670062500-1670073300@www.vkind.com
SUMMARY:Vegan Trekkers Hike: Clopper Lake at Seneca Creek Park
DESCRIPTION:Visit Seneca Creek Park in Maryland and take a loop around the Clopper Lake. The park has over 50 miles of trails\, but we will be doing only 5. \n6 mile option: park at Seneca Creek State Park Offices parking lot. To get to this lot: take the first right on the Seneca Creek Rd (the sign ‘Park Offices’ for the road is placed after the intersection). If you reach the Fee Booth then you have missed the turn\, please turn back. \nShorter 3.7 mile option: park at the KingFisher Overlook parking lot and meet us there at around 11:00 am – https://goo.gl/maps/wsEQCa1N9i4GU2wi6 \nWe will be starting on the Long Draught Trail along the Great Seneca Creek. Will then switch over to the Lake Trail to loop around the lake. \nMeeting Point for 6mile option: https://goo.gl/maps/fYi7vtnkzFMo3BWb7\nDistance: ~6 miles\nPace: moderate (2.5-3 miles/hr)\nDifficulty: easier side of moderate\nDuration: 3 hours\nType of trail: natural\nHiking Map: https://www.alltrails.com/explore/trail/us/maryland/clopper-lake?mobileMap=false&ref=sidebar-static-map \nOptional post hike lunch: Naked Lunch Kitchen at MOMs Organic Market\, Gaithersburg – https://goo.gl/maps/KzrrvXobz3hc1Vaa7 \nBathroom Facilities: Porta Potty at the parking lot. Restrooms at park shelters are closed for the season. \nPlease do not attend if you are sick or have been near someone who thinks they may have or have been exposed to COVID-19. \nDog friendly?: Yes. Please keep your dog leashed at all times. \nFood/Water: Bring your own vegan snack and (non-alcoholic) beverage to enjoy. Please carry plenty of water! \nWeather: Be prepared! We will hike rain or shine\, but if conditions pose a danger\, we’ll cancel the hike and post a notice in the “comments” section. We suggest that hikers wear comfortable footwear and suitable clothing made from quick-dry\, synthetic fabrics\, as cotton can lead to uncomfortable blisters and life-threatening hypothermia in case of inclement weather. \n*For important updates regularly monitor the “comments” section below.*\n*Don’t be a no show! If your plans change\, update your RSVP.*\n*When you sign up to join a hike you automatically acknowledge\n[VSDC Vegan Trekkers Liability Waiver](https://vsdc.org/activity-waiver/).\n*Please also view the Rules listed at the end of this description*\n*Please read The 10 Essentials of Hiking: https://americanhiking.org/resources/10essentials/ * \nRULES \nPets: When hikes are organized in dog-friendly areas\, hikers are invited to bring their pet(s). However\, dogs are the sole responsibility of the owner(s) who brought them; should be up-to-date on their vaccinations & in possession of the relevant tags; and should be under the control of their owner(s) at all times. Dogs that demonstrate consistently aggressive or otherwise out-of-control behavior will be banned from future hikes. Owners should come prepared to dispose of their dogs’ waste in appropriate receptacles. \nAlcohol/Smoking/Intoxicants: Use of intoxicants such as alcohol\, cigarettes and/or illegal substances is banned during the hikes.\n— \nVSDC (http://www.vsdc.org) is a clear and consistent voice for improving the lives of all beings through education on the benefits of a vegan diet & lifestyle. Sharing food is the bond that brings families together; so it is with VSDC. From simply “breaking bread” to experiencing delicious and nutritious vegan foods from around the world\, we make your journey easier\, enjoyable & meaningful. \nVSDC. Creating communities. For your health\, the animals\, and the planet.
URL:https://www.vkind.com/vegan-events/vegan-trekkers-hike-clopper-lake-at-seneca-creek-park/
LOCATION:Seneca Creek State Park Offices\, Gaithersburg\, MD\, 20878\, United States
ATTACH;FMTTYPE=image/jpeg:https://www.vkind.com/wp-content/uploads/2022/02/1024x576-u9vIMm.tmp_.jpg
GEO:39.150665;-77.24954
END:VEVENT
END:VCALENDAR