BEGIN:VCALENDAR
VERSION:2.0
PRODID:-//Vkind - ECPv6.15.14//NONSGML v1.0//EN
CALSCALE:GREGORIAN
METHOD:PUBLISH
X-WR-CALNAME:Vkind
X-ORIGINAL-URL:https://www.vkind.com
X-WR-CALDESC:Events for Vkind
REFRESH-INTERVAL;VALUE=DURATION:PT1H
X-Robots-Tag:noindex
X-PUBLISHED-TTL:PT1H
BEGIN:VTIMEZONE
TZID:America/New_York
BEGIN:DAYLIGHT
TZOFFSETFROM:-0500
TZOFFSETTO:-0400
TZNAME:EDT
DTSTART:20220313T070000
END:DAYLIGHT
BEGIN:STANDARD
TZOFFSETFROM:-0400
TZOFFSETTO:-0500
TZNAME:EST
DTSTART:20221106T060000
END:STANDARD
BEGIN:DAYLIGHT
TZOFFSETFROM:-0500
TZOFFSETTO:-0400
TZNAME:EDT
DTSTART:20230312T070000
END:DAYLIGHT
BEGIN:STANDARD
TZOFFSETFROM:-0400
TZOFFSETTO:-0500
TZNAME:EST
DTSTART:20231105T060000
END:STANDARD
BEGIN:DAYLIGHT
TZOFFSETFROM:-0500
TZOFFSETTO:-0400
TZNAME:EDT
DTSTART:20240310T070000
END:DAYLIGHT
BEGIN:STANDARD
TZOFFSETFROM:-0400
TZOFFSETTO:-0500
TZNAME:EST
DTSTART:20241103T060000
END:STANDARD
END:VTIMEZONE
BEGIN:VEVENT
DTSTART;TZID=America/New_York:20230430T110000
DTEND;TZID=America/New_York:20230430T170000
DTSTAMP:20260423T122918
CREATED:20230106T182022Z
LAST-MODIFIED:20230106T182022Z
UID:10000405-1682852400-1682874000@www.vkind.com
SUMMARY:Columbia VegFest
DESCRIPTION:We’re excited to announce that Columbia VegFest will be happening on Sunday April 30th\, 2023 from 11AM – 5PM!
URL:https://www.vkind.com/vegan-events/columbia-vegfest/
LOCATION:Segra Park\, 1640 Freed Street\, Columbia\, South Carolina\, 29201\, United States
ATTACH;FMTTYPE=image/jpeg:https://www.vkind.com/wp-content/uploads/2023/01/Columbia-VegFest-Logo.jpg
GEO:34.0198425;-81.0308858
X-APPLE-STRUCTURED-LOCATION;VALUE=URI;X-ADDRESS=Segra Park 1640 Freed Street Columbia South Carolina 29201 United States;X-APPLE-RADIUS=500;X-TITLE=1640 Freed Street:geo:-81.0308858,34.0198425
END:VEVENT
END:VCALENDAR