BEGIN:VCALENDAR
VERSION:2.0
PRODID:-//Vkind - ECPv6.15.14//NONSGML v1.0//EN
CALSCALE:GREGORIAN
METHOD:PUBLISH
X-WR-CALNAME:Vkind
X-ORIGINAL-URL:https://www.vkind.com
X-WR-CALDESC:Events for Vkind
REFRESH-INTERVAL;VALUE=DURATION:PT1H
X-Robots-Tag:noindex
X-PUBLISHED-TTL:PT1H
BEGIN:VTIMEZONE
TZID:-04:00
END:VTIMEZONE
BEGIN:VTIMEZONE
TZID:-05:00
END:VTIMEZONE
BEGIN:VEVENT
DTSTART;TZID=-04:00:20240326T174500
DTEND;TZID=-04:00:20240326T204500
DTSTAMP:20260423T165228
CREATED:20240114T072516Z
LAST-MODIFIED:20240326T083021Z
UID:10007625-1711475100-1711485900@www.vkind.com
SUMMARY:VSDC at PCRM's New Book Release\, The Power Foods Revolution by Neal Barnard
DESCRIPTION:Please join VSDC at Roti at 1311 F Street NW for a quick dinner at 6 pm before walking around the corner to PCRM’s event\, ***The Power Foods Diet*\,** at 6:30 pm at the [National Press Club](https://www.press.org/host-your-event-national-press-club). As we are a large group\, some of us can also get dinner at District Taco next door. \nWhile everyone is welcome to join us\, we require that those eating with the group enjoy only vegan food items while with the group. \nPCRM has promised to save us seats together marked with a blue VIP band\, but only if we arrive early. If you run late\, please look for us\, but we are not able to save seats. \n***ACT NOW! Tickets may sell out.*** *Tickets to The Exam Room event need to be [purchased in advance](https://www.pcrm.org/events/power-foods-revolution) for a fee\, in addition to registering for the Meetup.* \nJoin VSDC\, Dr. Neal Barnard\, and PCRM to celebrate the release of the new book\, ***The Power Foods Diet***! Learn how to unleash food’s power to optimize your health\, lose weight\, and feel your very best. Chuck Carroll will host the live taping of The Exam Room Podcast\, Chef Dustin Harder will share his inspiration for recipes in the book\, and special guest Stefanie Ignoffo will share her incredible health transformation. \n**Get the book on the official release day! A signed copy of *The Power Foods Diet* is included with the ticket purchase.** The event will also feature power foods tastings\, fun insightful interviews with the guest panel\, and photo opportunities. \n**Buy your ticket today and join VSDC at this live book release event!** \nThe National Press Club\, 529 14th St.\, NW\, 13th Floor\, Washington\, DC 20045 \n**VSDC. Creating communities. For your health\, the animals\, and the planet.**
URL:https://www.vkind.com/vegan-events/vsdc-at-pcrms-new-book-release-the-power-foods-revolution-by-neal-barnard/
LOCATION:Roti Mediterranean Bowls. Salads. Pitas.\, 1311 F St NW\, Washington\, DC\, 20004\, United States
ATTACH;FMTTYPE=image/jpeg:https://www.vkind.com/wp-content/uploads/2024/01/1024x576-h68rBn.tmp_.jpg
GEO:38.897526;-77.03031
X-APPLE-STRUCTURED-LOCATION;VALUE=URI;X-ADDRESS=Roti Mediterranean Bowls. Salads. Pitas. 1311 F St NW Washington DC 20004 United States;X-APPLE-RADIUS=500;X-TITLE=1311 F St NW:geo:-77.03031,38.897526
END:VEVENT
BEGIN:VEVENT
DTSTART;TZID=-05:00:20231107T180000
DTEND;TZID=-05:00:20231107T220000
DTSTAMP:20260423T165228
CREATED:20230829T080034Z
LAST-MODIFIED:20231107T195030Z
UID:10007532-1699380000-1699394400@www.vkind.com
SUMMARY:Dinner at Roti Followed by PCRM's Exam Room Live at National Press Club
DESCRIPTION:Please join us for a bite at 6pm at Roti at 1311 F Street\, NW before walking around the corner to PCRM’s [The Exam Room Podcast Live](https://www.pcrm.org/events/exam-room-live-dc) event at 7pm at the [National Press Club](https://www.press.org/host-your-event-national-press-club). \n(PSA: you might want to eat lightly at Roti because there will be delicious vegan hors d’oeuvres and desserts at the Exam Room Live event.) \nTickets to The Exam Room event need to be purchased in advance and separately here: [https://www.pcrm.org/events/exam-room-live-dc](https://www.pcrm.org/events/exam-room-live-dc) \n**DO NOT DELAY** as tickets may sell out. \nThe Exam Room Podcast will feature the Esselsyns\, the First Family of Plant-Based Nutrition. \n**Dr. Caldwell Esselstyn** pioneered a plant-based diet to prevent and reverse heart disease and his research was featured in the groundbreaking documentary *Forks Over Knives*. **Son Rip** and **daughter Jane** are also tireless educators about the benefits of a plant-based diet. Rip was a firefighter in the Austin Fire Department when he discovered dangerously high cholesterol levels among his firefighter comrades and led a station-wide dietary revolution\, which he detailed in his bestselling book\, *The Engine 2 Diet*. Jane is a wellness instructor and a plant-strong presenter and cook. She co-authored *The Prevent & Reverse Heart Disease Cookboo*k with her mother\, Ann\, and developed recipes for *My Beef with Meat*. **Wife and mother\, Ann**\, is a plant-based force of nature! She has devoted herself to inventing recipes and never stops devising ever more practical and powerful ways to shop\, cook\, and engage even the most reluctant eaters in the plant-perfect diet. Ann and Jane have authored a brand-new book *Be A Plant-Based Woman Warrior*. The Esselstyns continue to promote the power of plant-based nutrition for reversing and preventing lifestyle-related diseases through The Esselstyn Family Foundation. The entire family hosts an annual PLANTSTRONG retreat to educate and inspire others to live their healthiest lives and on November 7 they are bringing their wisdom and enthusiasm to Washington\, DC\, for one night only! \nYou are very welcome to join us for just the dinner portion of the evening if you wish. Just let us know! \n*When you register to join this event\, you automatically acknowledge [VSDC’s Liability Waiver](https://vsdc.org/activity-waiver/)* \n*By coming to this event\, we expect you to follow the code of conduct found at [Policies – VSDC – Veg Society of DC](https://vsdc.org/policies/)* \n*** \nVSDC (http://www.vsdc.org) is a clear and consistent voice for improving the lives of all beings through education on the benefits of a vegan diet & lifestyle. Sharing food is the bond that brings families together; so it is with VSDC. From simply “breaking bread” to experiencing delicious and nutritious vegan foods from around the world\, we make your journey easier\, enjoyable & meaningful. \n**VSDC. Creating communities. For your health\, the animals\, and the planet.**
URL:https://www.vkind.com/vegan-events/dinner-at-roti-followed-by-pcrms-exam-room-live-at-national-press-club/
LOCATION:Roti Mediterranean Bowls. Salads. Pitas.\, 1311 F St NW\, Washington\, DC\, 20004\, United States
ATTACH;FMTTYPE=image/jpeg:https://www.vkind.com/wp-content/uploads/2023/08/1024x576-aWBf4R.tmp_.jpg
GEO:38.897526;-77.03031
X-APPLE-STRUCTURED-LOCATION;VALUE=URI;X-ADDRESS=Roti Mediterranean Bowls. Salads. Pitas. 1311 F St NW Washington DC 20004 United States;X-APPLE-RADIUS=500;X-TITLE=1311 F St NW:geo:-77.03031,38.897526
END:VEVENT
END:VCALENDAR