BEGIN:VCALENDAR
VERSION:2.0
PRODID:-//Vkind - ECPv6.15.14//NONSGML v1.0//EN
CALSCALE:GREGORIAN
METHOD:PUBLISH
X-ORIGINAL-URL:https://www.vkind.com
X-WR-CALDESC:Events for Vkind
REFRESH-INTERVAL;VALUE=DURATION:PT1H
X-Robots-Tag:noindex
X-PUBLISHED-TTL:PT1H
BEGIN:VTIMEZONE
TZID:-04:00
END:VTIMEZONE
BEGIN:VEVENT
DTSTART;TZID=-04:00:20231024T183000
DTEND;TZID=-04:00:20231024T210000
DTSTAMP:20260424T134000
CREATED:20231005T133047Z
LAST-MODIFIED:20231023T203550Z
UID:10007557-1698172200-1698181200@www.vkind.com
SUMMARY:Veg Night Out At ROYALTON PARK Rooftop
DESCRIPTION:Welcome to our monthly Veg Night Out! \nThis will be a perfect location for us to chill and enjoy the evening. \n**Royalton Park Rooftop**\nFrom 6:30pm-9:00pm\n420 Park Avenue South\n(corner of E. 29th St.)\n(212) 317-2900 \n**Conde Nast**: “A spectacular 360° backdrop of the city can be seen from the bar which includes striking views of the Empire State Building. Located at the corner of Park Ave. and 29th Street\, the 249-room urban resort promises an uptown experience with a downtown vibe.” \nFrom **Rooftop Drinker**: “.. space itself is well designed and manages to feel impressive but at the same time intimate despite its size. It’s the sort of place where there’s an attendant in the restrooms ..” \nFrom **Zagat**: “…’gorgeous’ rooftop with ‘stunning’ views…” \nWith all the wonderful vegetarians and vegans who attend each of our events\, every event we do is liked by our members\, but our “Veg Night Out!” events are the most popular of all. People enjoy the fact they can mingle (speak with lots of different people)\, and they love the beautiful venues that we go to. Join us for a stellar evening of lively conversation and lovely surroundings with fellow vegetarians and vegans. \n**For our new members**: this is an incredibly friendly and welcoming group. We’ll be hanging out by the main bar area\, and you can get to know all our wonderful members. \nThis event has no cover and no minimum. But please do buy a drink or two\, or as many as you like. The venue requests that you dress appropriately: business\, business casual or smart casual. \nJoin us for a fun and relaxed fall evening socializing with fellow vegetarians and vegans. \n**Train Directions**: Take the (6) (N) (R) (W) to 28th St. Or\, take the (1) to 28th St. … (B) (D) (F) (Q) to 34th St. also works. \nEddie
URL:https://www.vkind.com/vegan-events/veg-night-out-at-royalton-park-rooftop/
LOCATION:Rooftop at Royalton Park Avenue\, 420 Park Ave S\, New York\, NY\, 10016\, us
ATTACH;FMTTYPE=image/jpeg:https://www.vkind.com/wp-content/uploads/2023/10/1024x576-wWQHY6.tmp_.jpg
GEO:40.74392;-73.9842
X-APPLE-STRUCTURED-LOCATION;VALUE=URI;X-ADDRESS=Rooftop at Royalton Park Avenue 420 Park Ave S New York NY 10016 us;X-APPLE-RADIUS=500;X-TITLE=420 Park Ave S:geo:-73.9842,40.74392
END:VEVENT
END:VCALENDAR