BEGIN:VCALENDAR
VERSION:2.0
PRODID:-//Vkind - ECPv6.15.14//NONSGML v1.0//EN
CALSCALE:GREGORIAN
METHOD:PUBLISH
X-ORIGINAL-URL:https://www.vkind.com
X-WR-CALDESC:Events for Vkind
REFRESH-INTERVAL;VALUE=DURATION:PT1H
X-Robots-Tag:noindex
X-PUBLISHED-TTL:PT1H
BEGIN:VTIMEZONE
TZID:-04:00
END:VTIMEZONE
BEGIN:VEVENT
DTSTART;TZID=-04:00:20230319T150000
DTEND;TZID=-04:00:20230319T170000
DTSTAMP:20260423T161052
CREATED:20230228T121155Z
LAST-MODIFIED:20230319T143526Z
UID:10000453-1679238000-1679245200@www.vkind.com
SUMMARY:Strands of Compassion  Benefit Concert
DESCRIPTION:The River Road Unitarian Universalist Congregation (RRUUC) Animal Ministry will present internationally-acclaimed concert artists Christoph Wagner\, cellist\, and Joanne Kong\, pianist in “Strands of Compassion” to benefit the [Montgomery County Partners for Animal Well-being](https://mcpaw.org/) (MCPAW) for the development of the no-cost Montgomery County Spay Neuter initiative Program. \nSuggested donation of $15 (more or less is welcome) can be made at the door or online at mcpaw.org. \nThese activist virtuosos will weave together music\, reflection\, and imagery in an inspiring event that will illuminate how embracing the connections we have to the natural world and all beings can bring about transformative spiritual growth\, positive change\, and planetary healing. \nThe program will be followed by a reception with the guest artists and delicious vegan snacks. \nIn addition to being live in the Sanctuary\, the program will be live-streamed: [https://youtube.com/live/XdttWDLYHI4?feature=share](https://www.youtube.com/watch?v=XdttWDLYHI4) \n*When you register to join this event\, you automatically acknowledge [VSDC’s Liability Waiver](https://vsdc.org/activity-waiver/)* \nBy coming to this event\, we expect you to follow the code of conduct found at *[Policies – VSDC – Veg Society of DC](https://vsdc.org/policies)* \n[VSDC ](https://vsdc.org/)is a clear and consistent voice for improving the lives of all beings through education on the benefits of a vegan diet & lifestyle. Sharing food is the bond that brings families together; so it is with VSDC. From simply “breaking bread” to experiencing delicious and nutritious vegan foods from around the world\,
URL:https://www.vkind.com/vegan-events/strands-of-compassion-benefit-concert/
LOCATION:River Road Unitarian Universalist Congregation\, 6301 River Rd\, Bethesda\, MD\, 20817\, us
ATTACH;FMTTYPE=image/jpeg:https://www.vkind.com/wp-content/uploads/2023/02/1024x576-j9ZkAY.tmp_.jpg
GEO:38.976776;-77.12683
X-APPLE-STRUCTURED-LOCATION;VALUE=URI;X-ADDRESS=River Road Unitarian Universalist Congregation 6301 River Rd Bethesda MD 20817 us;X-APPLE-RADIUS=500;X-TITLE=6301 River Rd:geo:-77.12683,38.976776
END:VEVENT
END:VCALENDAR