BEGIN:VCALENDAR
VERSION:2.0
PRODID:-//Vkind - ECPv6.15.14//NONSGML v1.0//EN
CALSCALE:GREGORIAN
METHOD:PUBLISH
X-ORIGINAL-URL:https://www.vkind.com
X-WR-CALDESC:Events for Vkind
REFRESH-INTERVAL;VALUE=DURATION:PT1H
X-Robots-Tag:noindex
X-PUBLISHED-TTL:PT1H
BEGIN:VTIMEZONE
TZID:-04:00
END:VTIMEZONE
BEGIN:VEVENT
DTSTART;TZID=-04:00:20231010T183000
DTEND;TZID=-04:00:20231010T210000
DTSTAMP:20260424T031316
CREATED:20231001T121527Z
LAST-MODIFIED:20231010T153031Z
UID:10007554-1696962600-1696971600@www.vkind.com
SUMMARY:Veg*n Dinner @ Republic Latin Fusion Restaurant #Williamsburg
DESCRIPTION:***It is perfectly all right to arrive at 7:30pm or 8:00pm\, though arriving at 6:30 or 7:00 is ideal. The group will be hanging out until 9:00pm at the venue.*** \nJoin us as we’ll be visiting **Republic Latin Fusion**\, ***a vegan-friendly venue***\, known for its creative and mouthwatering fusion dishes that combined the bold and spicy flavors of Latin American cuisine with the delicate and savory notes of Asian cooking. This fusion of flavors resulted in a menu that was both exciting and diverse. To complement the fusion cuisine\, the venue offers a selection of signature cocktails and drinks\, that pair harmoniously with the diverse flavors of the dishes on the menu. \nFor more info :\n**Website** – [https://republiclatinfusion.com/](https://republiclatinfusion.com/)\nor Follow them on Instagram **@republiclatinfusion** \nCome join us at Republic Latin Fusion for an evening of delicious veg*n cuisine! \nI want to share some recent **Google reviews – Rating 4.3/5** \nVictoria – “SO VEGAN FRIENDLY! Fun and lively atmosphere. Expect loud music and dim lighting and even some entertainment on the weekends. Plenty of delicious vegan options! The cocktails are great too. Our server was very helpful even though it was very busy. Definitely make reservations.” \n**Join us from 6:30pm-9:00pm**\n**Republic Latin Fusion**\n**181 N 10th St\, Brooklyn\, NY 11211** \nWith all the wonderful vegetarians and vegans who attend each of our events\, people enjoy the fact they can mingle (speak with lots of different people)\, and they love the beautiful venues that we go to. Join us for a stellar evening of lively conversation and lovely surroundings with fellow vegetarians and vegans. \n**For our new members:** this is an incredibly friendly and welcoming group. We’ll be hanging out outdoors by the patio area\, and you can get to know all our wonderful members. \nDress comfortably! Republic Latin Fusion will be the perfect location for us to chill and enjoy the early fall evening. \n**TRAIN DIRECTIONS:** Take the **L train** to **Bedfrod Ave** Subway Station\, (Exit via Driggs Ave & N 7th St at NE corner) just 0.2 mile/ 5 min walk. \nJoin us for a fun and relaxed festive evening socializing with fellow vegetarians and vegans. \nWe would love to have you join us! \nKarthik :)) \n***It is perfectly all right to arrive at 7:30pm or 8:00pm\, though arriving at 6:30 or 7:00 is ideal. The group will be hanging out until 9:00pm at the venue.*** \nImage Courtesy – Republic Latin Fusion/doordash
URL:https://www.vkind.com/vegan-events/vegn-dinner-republic-latin-fusion-restaurant-williamsburg/
LOCATION:Republic Latin Fusion\, 181 N 10th St\, Brooklyn\, NY\, 11211\, us
ATTACH;FMTTYPE=image/jpeg:https://www.vkind.com/wp-content/uploads/2023/10/1024x576-7LCLnj.tmp_.jpg
GEO:40.718975;-73.954895
X-APPLE-STRUCTURED-LOCATION;VALUE=URI;X-ADDRESS=Republic Latin Fusion 181 N 10th St Brooklyn NY 11211 us;X-APPLE-RADIUS=500;X-TITLE=181 N 10th St:geo:-73.954895,40.718975
END:VEVENT
END:VCALENDAR