BEGIN:VCALENDAR
VERSION:2.0
PRODID:-//Vkind - ECPv6.15.14//NONSGML v1.0//EN
CALSCALE:GREGORIAN
METHOD:PUBLISH
X-ORIGINAL-URL:https://www.vkind.com
X-WR-CALDESC:Events for Vkind
REFRESH-INTERVAL;VALUE=DURATION:PT1H
X-Robots-Tag:noindex
X-PUBLISHED-TTL:PT1H
BEGIN:VTIMEZONE
TZID:-04:00
END:VTIMEZONE
BEGIN:VEVENT
DTSTART;TZID=-04:00:20250414T190000
DTEND;TZID=-04:00:20250414T210000
DTSTAMP:20260423T155905
CREATED:20250404T031601Z
LAST-MODIFIED:20250411T055036Z
UID:10007920-1744657200-1744664400@www.vkind.com
SUMMARY:Vegan Dinner @ RAS PLANT BASED - West Village #BleeckerSt (Limited Attendance)
DESCRIPTION:NOTE: THIS SMALL DINNER HAS FILLED UP. PLEASE RSVP FOR THE WAITLIST IN CASE WE EXPAND THE EVENT. \n***We have one seating only at 7:00pm. Please arrive by 7:00pm.*** \nJoin us for an exciting evening at Ras Plant Based in West Village\, where we’ll enjoy a delicious\, plant-based Ethiopian feast! If you love bold flavors\, communal dining\, and vibrant conversations\, this is the perfect meetup for you! Expect a warm and cozy atmosphere\, along with a delicious spread of spiced lentils\, collard greens\, chickpea stew\, and more—all served with soft\, tangy injera – ALL PLANT BASED 🌿 100 PERCENT VEGAN. It’s a great way to connect with fellow food lovers while enjoying one of NYC’s best vegan spots! \nCome hungry\, bring good vibes + friends\, and let’s share a great meal together \nFor more info :\n**Website** – [https://www.rasplantbased.com/](https://www.rasplantbased.com/)\nor Follow them on Instagram **@rasplantbased** \nI want to share some recent **Google reviews – Rating 4.8/5** \nEmma L – “This restaurant exceeded all of my expectations.\nAlthough the service was very attentive and friendly\, the star of the show was the food. Everything was so creative\, flavorful\, colorful\, and filling! We had the Bole Bowl and the Mercato Platter\, it was unbelievably delicious. I am not vegan but the flavor associations were perfect and surprising. Also the quantities are very generous. I will definitely come back!” \nMandy K – “Absolutely love RAS Plant Based and so glad to see them doing well having a second location (the Brooklyn one is awesome too apparently offering the traditional Ethiopian dishes while the Bleeker one explores with more Americanized items). Everything is refined sugar free (they use agave or dates as sweetener including desserts!). The lions mane mushroom sandwich and the cauliflower wings were super good! Friendly and efficient service” \nJoin us from 7:00pm-9:00pm\n**RAS Plant Based**\n**170 Bleecker St\, New York\, NY 10012** \nWith all the wonderful vegetarians and vegans who attend each of our events\, people enjoy the fact they can mingle (speak with lots of different people)\, and they love the beautiful venues that we go to. Join us for a stellar evening of lively conversation and lovely surroundings with fellow vegetarians and vegans. \nFor our new members: this is an incredibly friendly and welcoming group. We’ll be hanging out outdoors by the patio area\, and you can get to know all our wonderful members. \n**TRAIN DIRECTIONS:** Take the A\, B\, C\, D\, E\, F or M trains to West 4th St.-Washington Sq. subway station\, just 0.3 mile/ 6 min walk to the venue. \nJoin us for a fun and relaxed festive evening socializing with fellow vegetarians and vegans. \nWe would love to have you join us – Mark the day! \nKarthik :)) \nImage Courtesy – https://blog.resy.com/2024/06/ras-plant-based-west-village-nyc/
URL:https://www.vkind.com/vegan-events/vegan-dinner-ras-plant-based-west-village-bleeckerst-limited-attendance/
LOCATION:RAS Plant Based\, 170 Bleecker Street\, New York\, NY\, 10012\, United States
ATTACH;FMTTYPE=image/jpeg:https://www.vkind.com/wp-content/uploads/2025/04/1024x576-I0036v.tmp_.jpg
GEO:40.728676;-74.0007
X-APPLE-STRUCTURED-LOCATION;VALUE=URI;X-ADDRESS=RAS Plant Based 170 Bleecker Street New York NY 10012 United States;X-APPLE-RADIUS=500;X-TITLE=170 Bleecker Street:geo:-74.0007,40.728676
END:VEVENT
END:VCALENDAR