BEGIN:VCALENDAR
VERSION:2.0
PRODID:-//Vkind - ECPv6.15.14//NONSGML v1.0//EN
CALSCALE:GREGORIAN
METHOD:PUBLISH
X-WR-CALNAME:Vkind
X-ORIGINAL-URL:https://www.vkind.com
X-WR-CALDESC:Events for Vkind
REFRESH-INTERVAL;VALUE=DURATION:PT1H
X-Robots-Tag:noindex
X-PUBLISHED-TTL:PT1H
BEGIN:VTIMEZONE
TZID:-05:00
END:VTIMEZONE
BEGIN:VEVENT
DTSTART;TZID=-05:00:20230308T184500
DTEND;TZID=-05:00:20230308T204500
DTSTAMP:20260423T212758
CREATED:20230227T072019Z
LAST-MODIFIED:20230308T083550Z
UID:10000451-1678301100-1678308300@www.vkind.com
SUMMARY:Pure Grit All-Vegan Bar-B-Q!
DESCRIPTION:As seen in **The New York Times\, Goop\, Harper’s Bazaar\, Eater** and **Thrillist**\, **PURE GRIT BBQ** is New York CIty’s **first-ever all-vegan fast food BBQ restaurant!** \nIn addition to barbeque\, **PURE GRIT BBQ** offers **Chicken & Waffles\, Mac and Cheese\, Fried Tofu Bites\, Waffle Fries\, Chili Cheese Fries\, Chips & Queso**\, **Baked Beans\, Smoked Veggie Bowl\, Broccoli Salad\,** plus other menu items. And a **beverage list** that includes **Limeade\, Unsweetened Green Tea\, Dr. Brown’s Root Beer**\, plus a **beer and wine menu**. \n**Website:** [https://www.puregritbbq.com](https://www.puregritbbq.com) \n**Menu:** [https://www.toasttab.com/puregritbbq/v3](https://www.toasttab.com/puregritbbq/v3) \n**WHERE TO MEET:** Pure Grit BBQ is at 36 Lexington Ave. (bet. E. 23rd St. & E. 24th St.) Meet the group right at Pure Grit\, and get on line to place your order. We’ll eat at Pure Grit\, indoors and outdoors. Our event starts at 6:45pm. We suggest arriving between 6:45pm and 7:30pm. \n**We are an extremely friendly and welcoming group.** To our new members: Come to the meetup and make new friends! We are delighted to meet you\, and to welcome you to the group. \nDavid
URL:https://www.vkind.com/vegan-events/pure-grit-all-vegan-bar-b-q/
LOCATION:Pure Grit BBQ\, 36 Lexington Ave\, New York\, NY\, 10010\, us
ATTACH;FMTTYPE=image/jpeg:https://www.vkind.com/wp-content/uploads/2023/02/1024x576-yy5CKi.tmp_.jpg
GEO:40.740074;-73.984505
X-APPLE-STRUCTURED-LOCATION;VALUE=URI;X-ADDRESS=Pure Grit BBQ 36 Lexington Ave New York NY 10010 us;X-APPLE-RADIUS=500;X-TITLE=36 Lexington Ave:geo:-73.984505,40.740074
END:VEVENT
END:VCALENDAR