BEGIN:VCALENDAR
VERSION:2.0
PRODID:-//Vkind - ECPv6.15.14//NONSGML v1.0//EN
CALSCALE:GREGORIAN
METHOD:PUBLISH
X-WR-CALNAME:Vkind
X-ORIGINAL-URL:https://www.vkind.com
X-WR-CALDESC:Events for Vkind
REFRESH-INTERVAL;VALUE=DURATION:PT1H
X-Robots-Tag:noindex
X-PUBLISHED-TTL:PT1H
BEGIN:VTIMEZONE
TZID:-05:00
END:VTIMEZONE
BEGIN:VEVENT
DTSTART;TZID=-05:00:20221226T120000
DTEND;TZID=-05:00:20221226T160000
DTSTAMP:20260424T045304
CREATED:20221224T023454Z
LAST-MODIFIED:20221226T023517Z
UID:10000396-1672056000-1672070400@www.vkind.com
SUMMARY:Vegan Trekkers: Pow-Pow and hike at National Arboretum
DESCRIPTION:Let’s brave the cold and come out of our igloos to start the week with lunch at Pow-Pow. And then a walk/hike at National Arboretum.\nYes\, Pow-Pow is open on Dec 26! \nWhen: Monday\, Dec 26 at Noon\nWhere: [PowPow](https://goo.gl/maps/tiMiEivPdXc23gsa7) on H Street\nPowPow participates in the [GreenRewards program](https://vsdc.org/places/pow-pow/) for 10% discount to VSDC members!\nPlease note that the lunch will be indoors. \nAfter the lunch we will head to National Arboretum around 1pm.\nPlease let us know if anyone is coming directly for the hike.\nHike meeting point and parking: [National Grove of State Trees Parking](https://goo.gl/maps/Vh6A6m1R4PRJ5Lgo7)\nMeeting time for hike: 1:15 pm\nDistance: 4 miles\nDifficulty: easy\nPace: moderate (2.5 miles/hr)\nDuration: 2 hours\nType of trail: paved and natural \nDog friendly? Yes\, please keep your dog leashed.\nBathroom Facilities/Water: Yes – many options \nPlease do not attend if you are sick or have been near someone who thinks they may have or have been exposed to COVID-19. \n*For important updates regularly monitor the “comments” section below.*\n*Don’t be a no show! If your plans change\, update your RSVP.* \n* When you sign up to join a hike you automatically acknowledge\n[VSDC Vegan Trekkers Liability Waiver](https://vsdc.org/activity-waiver/).\n* Please also view the Rules listed at the end of this description\n* Please read [The 10 Essentials of Hiking](https://americanhiking.org/resources/10essentials/) \nRULES \nPets: When hikes are organized in dog-friendly areas\, hikers are invited to bring their pet(s). However\, dogs are the sole responsibility of the owner(s) who brought them; should be up-to-date on their vaccinations & in possession of the relevant tags; and should be under the control of their owner(s) at all times. Dogs that demonstrate consistently aggressive or otherwise out-of-control behavior will be banned from future hikes. Owners should come prepared to dispose of their dogs’ waste in appropriate receptacles. \n## Alcohol/Smoking/Intoxicants: Use of intoxicants such as alcohol\, cigarettes and/or illegal substances is banned during the hikes. \nVSDC (http://www.vsdc.org) is a clear and consistent voice for improving the lives of all beings through education on the benefits of a vegan diet & lifestyle. Sharing food is the bond that brings families together; so it is with VSDC. From simply “breaking bread” to experiencing delicious and nutritious vegan foods from around the world\, we make your journey easier\, enjoyable & meaningful. \nVSDC. Creating communities. For your health\, the animals\, and the planet.
URL:https://www.vkind.com/vegan-events/vegan-trekkers-pow-pow-and-hike-at-national-arboretum/
LOCATION:Pow Pow\, 1253 H St NE\, Washington\, DC\, 20002\, us
ATTACH;FMTTYPE=image/jpeg:https://www.vkind.com/wp-content/uploads/2022/12/1024x576-5REY7w.tmp_.jpg
GEO:38.90003;-76.98855
X-APPLE-STRUCTURED-LOCATION;VALUE=URI;X-ADDRESS=Pow Pow 1253 H St NE Washington DC 20002 us;X-APPLE-RADIUS=500;X-TITLE=1253 H St NE:geo:-76.98855,38.90003
END:VEVENT
END:VCALENDAR