BEGIN:VCALENDAR
VERSION:2.0
PRODID:-//Vkind - ECPv6.15.14//NONSGML v1.0//EN
CALSCALE:GREGORIAN
METHOD:PUBLISH
X-WR-CALNAME:Vkind
X-ORIGINAL-URL:https://www.vkind.com
X-WR-CALDESC:Events for Vkind
REFRESH-INTERVAL;VALUE=DURATION:PT1H
X-Robots-Tag:noindex
X-PUBLISHED-TTL:PT1H
BEGIN:VTIMEZONE
TZID:America/Los_Angeles
BEGIN:DAYLIGHT
TZOFFSETFROM:-0800
TZOFFSETTO:-0700
TZNAME:PDT
DTSTART:20220313T100000
END:DAYLIGHT
BEGIN:STANDARD
TZOFFSETFROM:-0700
TZOFFSETTO:-0800
TZNAME:PST
DTSTART:20221106T090000
END:STANDARD
BEGIN:DAYLIGHT
TZOFFSETFROM:-0800
TZOFFSETTO:-0700
TZNAME:PDT
DTSTART:20230312T100000
END:DAYLIGHT
BEGIN:STANDARD
TZOFFSETFROM:-0700
TZOFFSETTO:-0800
TZNAME:PST
DTSTART:20231105T090000
END:STANDARD
BEGIN:DAYLIGHT
TZOFFSETFROM:-0800
TZOFFSETTO:-0700
TZNAME:PDT
DTSTART:20240310T100000
END:DAYLIGHT
BEGIN:STANDARD
TZOFFSETFROM:-0700
TZOFFSETTO:-0800
TZNAME:PST
DTSTART:20241103T090000
END:STANDARD
END:VTIMEZONE
BEGIN:VEVENT
DTSTART;TZID=America/Los_Angeles:20231025T180000
DTEND;TZID=America/Los_Angeles:20231025T200000
DTSTAMP:20260423T153921
CREATED:20230727T150446Z
LAST-MODIFIED:20230727T150446Z
UID:10005568-1698256800-1698264000@www.vkind.com
SUMMARY:Plant-Based Cooking with Cranberries and Pomegranates
DESCRIPTION:These two red fruits put a pop of color on the holiday table. They also contain valuable nutrients that benefit our health. We’ll explore possibilities beyond their usual preparations and discuss the best ways to buy and store them. \nAll recipes are oil- and refined-sugar free as well as completely plant-based. \nHere are the recipes we will make (subject to change): \n\n\nCranberry sauce \n\n\nPomegranate salad dressing \n\n\nCranberry pear pie \n\n\nPomegranate iced green tea \n\n\nThe class takes place over Zoom. It is offered through Portland Community College\, and anyone can register — you do not need to live in Oregon. You will receive a Zoom meeting link about 48 hours before the class. \nThe class format is “optional cook-along.” I send the recipes and prep instructions to all students about a week ahead of time. This gives you time to gather ingredients for any recipes you’d like to cook along with me as I demonstrate them over Zoom. The class climate is informal and interactive\, and my co-host and I check in with those who are cooking along to make sure they aren’t having any problems. \nRegistration link will be available in August. Price: $29 tuition + $3 fees. 50% discount on tuition for Oregon residents 62 years and older. \nLinda Tyler is a cooking instructor\, recipe developer\, writer\, and editor. She teaches plant-based cooking for Portland and Mt. Hood Community Colleges. She is the author of The Plant-Based Anti-Inflammatory Cookbook (forthcoming in February 2024). Through her website\, www.graciousvegan.com\, Linda shares plant-based recipes and answers to common questions about plant-based cooking. She uses no oil\, refined grains\, full-fat coconut milk\, or refined sugar in her recipes. Linda has published recipes in the Vegan Journal as well as articles on animal welfare for LA Progressive\, Sentient Media\, and Citizen Truth. She has appeared on Chef AJ Live and Portland’s TV station KATU’s Afternoon Live program. Linda is a long-time volunteer video reviewer for Nutritionfacts.org.
URL:https://www.vkind.com/vegan-events/plant-based-cooking-with-cranberries-and-pomegranates/
LOCATION:Portland\, Portland\, OR\, 97236\, United States
ATTACH;FMTTYPE=image/jpeg:https://www.vkind.com/wp-content/uploads/2023/07/Plant-Based-Cooking-with-Cranberries-and-Pomegranates.jpg
GEO:45.4796668;-122.5146061
END:VEVENT
BEGIN:VEVENT
DTSTART;TZID=America/Los_Angeles:20231011T180000
DTEND;TZID=America/Los_Angeles:20231011T200000
DTSTAMP:20260423T153921
CREATED:20230727T150023Z
LAST-MODIFIED:20230727T150023Z
UID:10005567-1697047200-1697054400@www.vkind.com
SUMMARY:Plant-Based Cooking with Brussels Sprouts and Broccoli
DESCRIPTION:These nutritional powerhouses taste great in soups\, salads\, appetizers\, sides\, and entrees. There are so many ways to prepare them. Learn some easy ways to eat them every day and try cooking along and making some special dishes. \nAll recipes are oil- and refined-sugar free as well as completely plant-based. \nHere are the recipes we will make (subject to change): \n\n\nRosted Brussels Sprouts and Broccoli \n\n\nCreamy Broccoli Soup \n\n\nStuffed Brussels Sprouts \n\n\nPasta with Arugula and Broccoli in a Creamy Lemon Sauce \n\n\nThe class takes place over Zoom. It is offered through Portland Community College\, and anyone can register — you do not need to live in Oregon. You will receive a Zoom meeting link about 48 hours before the class. \nThe class format is “optional cook-along.” I send the recipes and prep instructions to all students about a week ahead of time. This gives you time to gather ingredients for any recipes you’d like to cook along with me as I demonstrate them over Zoom. The class climate is informal and interactive\, and my co-host and I check in with those who are cooking along to make sure they aren’t having any problems. \nRegistration link will be available in August. Price: $29 tuition + $3 fees. 50% discount on tuition for Oregon residents 62 years and older. \nLinda Tyler is a cooking instructor\, recipe developer\, writer\, and editor. She teaches plant-based cooking for Portland and Mt. Hood Community Colleges. She is the author of The Plant-Based Anti-Inflammatory Cookbook (forthcoming in February 2024). Through her website\, www.graciousvegan.com\, Linda shares plant-based recipes and answers to common questions about plant-based cooking. She uses no oil\, refined grains\, full-fat coconut milk\, or refined sugar in her recipes. Linda has published recipes in the Vegan Journal as well as articles on animal welfare for LA Progressive\, Sentient Media\, and Citizen Truth. She has appeared on Chef AJ Live and Portland’s TV station KATU’s Afternoon Live program. Linda is a long-time volunteer video reviewer for Nutritionfacts.org.
URL:https://www.vkind.com/vegan-events/plant-based-cooking-with-brussels-sprouts-and-broccoli/
LOCATION:Portland\, Portland\, OR\, 97236\, United States
ATTACH;FMTTYPE=image/jpeg:https://www.vkind.com/wp-content/uploads/2023/07/Plant-Based-Cooking-with-Brussels-Sprouts-and-Broccoli.jpg
GEO:45.4796668;-122.5146061
END:VEVENT
BEGIN:VEVENT
DTSTART;TZID=America/Los_Angeles:20231004T180000
DTEND;TZID=America/Los_Angeles:20231004T200000
DTSTAMP:20260423T153921
CREATED:20230727T144359Z
LAST-MODIFIED:20230727T144359Z
UID:10005566-1696442400-1696449600@www.vkind.com
SUMMARY:Plant-Based Cooking with Apples and Pears
DESCRIPTION:Join us to make healthy breakfasts\, snacks\, and desserts with the quintessentially fall fruits\, apples and pears. Learn about these fruits’ amazing nutritional properties—including fiber and anti-inflammatory antioxidants—and explore the different varieties of each and what makes each special. Make a few new dishes yourself and enjoy them again and again. \nAll recipes are oil- and refined-sugar free as well as completely plant-based. \nHere are the recipes we will make (subject to change): \n\n\nPear compote \n\n\nApple or pear steel-cut oats \n\n\nApple crisp \n\n\nApple or pear cake \n\n\nThe class takes place over Zoom. It is offered through Portland Community College\, and anyone can register — you do not need to live in Oregon. You will receive a Zoom meeting link about 48 hours before the class. \nThe class format is “optional cook-along.” I send the recipes and prep instructions to all students about a week ahead of time. This gives you time to gather ingredients for any recipes you’d like to cook along with me as I demonstrate them over Zoom. The class climate is informal and interactive\, and my co-host and I check in with those who are cooking along to make sure they aren’t having any problems. \nRegistration link will be available in August. Price: $29 tuition + $3 fees. 50% discount on tuition for Oregon residents 62 years and older. \nLinda Tyler is a cooking instructor\, recipe developer\, writer\, and editor. She teaches plant-based cooking for Portland and Mt. Hood Community Colleges. She is the author of The Plant-Based Anti-Inflammatory Cookbook (forthcoming in February 2024). Through her website\, www.graciousvegan.com\, Linda shares plant-based recipes and answers to common questions about plant-based cooking. She uses no oil\, refined grains\, full-fat coconut milk\, or refined sugar in her recipes. Linda has published recipes in the Vegan Journal as well as articles on animal welfare for LA Progressive\, Sentient Media\, and Citizen Truth. She has appeared on Chef AJ Live and Portland’s TV station KATU’s Afternoon Live program. Linda is a long-time volunteer video reviewer for Nutritionfacts.org.
URL:https://www.vkind.com/vegan-events/plant-based-cooking-with-apples-and-pears/
LOCATION:Portland\, Portland\, OR\, 97236\, United States
ATTACH;FMTTYPE=image/jpeg:https://www.vkind.com/wp-content/uploads/2023/07/Plant-Based-Cooking-with-Apples-and-Pears.jpg
GEO:45.4796668;-122.5146061
END:VEVENT
BEGIN:VEVENT
DTSTART;TZID=America/Los_Angeles:20230927T180000
DTEND;TZID=America/Los_Angeles:20230927T200000
DTSTAMP:20260423T153921
CREATED:20230727T144031Z
LAST-MODIFIED:20230727T144031Z
UID:10005565-1695837600-1695844800@www.vkind.com
SUMMARY:Plant-Based Cooking with Eggplant and Zucchini
DESCRIPTION:Eggplants and zucchini overflow farmers’ baskets in the late summer and early fall. They cry out for novel preparations. We’ll review nutritional information about both of the vegetables and discuss the best ways to prepare them to preserve their unique textures and flavors. Come learn some new\, healthy ways to cook eggplant and zucchini—think stir-fries\, eggplant parmesan (without dairy)\, and zoodles. \nAll recipes are oil- and refined-sugar free as well as completely plant-based. \nRecipes we will make (subject to change): \n\n\nEggplant Stacks \n\n\nSummer Stir-Fry \n\n\nZoodles and Creamy Pesto Sauce \n\n\nCurried Zucchini Soup \n\n\nThe class takes place over Zoom. It is offered through Portland Community College\, and anyone can register — you do not need to live in Oregon. You will receive a Zoom meeting link about 48 hours before the class. \nThe class format is “optional cook-along.” I send the recipes and prep instructions to all students about a week ahead of time. This gives you time to gather ingredients for any recipes you’d like to cook along with me as I demonstrate them over Zoom. The class climate is informal and interactive\, and my co-host and I check in with those who are cooking along to make sure they aren’t having any problems. \nRegistration link will be available in August. Price: $29 tuition + $3 fees. 50% discount on tuition for Oregon residents 62 years and older. \nLinda Tyler is a cooking instructor\, recipe developer\, writer\, and editor. She teaches plant-based cooking for Portland and Mt. Hood Community Colleges. She is the author of The Plant-Based Anti-Inflammatory Cookbook (forthcoming). Through her website\, www.graciousvegan.com\, Linda shares plant-based recipes and answers to common questions about plant-based cooking. She has published recipes in the Vegan Journal and appeared on Chef AJ Live and Portland’s TV station KATU’s Afternoon Live program. She is a volunteer video reviewer for Nutritionfacts.org.
URL:https://www.vkind.com/vegan-events/plant-based-cooking-with-eggplant-and-zucchini/
LOCATION:Portland\, Portland\, OR\, 97236\, United States
ATTACH;FMTTYPE=image/jpeg:https://www.vkind.com/wp-content/uploads/2023/07/Plant-Based-Cooking-with-Eggplant-and-Zucchini.jpg
GEO:45.4796668;-122.5146061
END:VEVENT
END:VCALENDAR